BEGIN:VCALENDAR
VERSION:2.0
PRODID:-//Heartwood - ECPv6.13.2.1//NONSGML v1.0//EN
CALSCALE:GREGORIAN
METHOD:PUBLISH
X-ORIGINAL-URL:https://www.heartwoodcenter.com
X-WR-CALDESC:Events for Heartwood
REFRESH-INTERVAL;VALUE=DURATION:PT1H
X-Robots-Tag:noindex
X-PUBLISHED-TTL:PT1H
BEGIN:VTIMEZONE
TZID:America/Chicago
BEGIN:DAYLIGHT
TZOFFSETFROM:-0600
TZOFFSETTO:-0500
TZNAME:CDT
DTSTART:20260308T080000
END:DAYLIGHT
BEGIN:STANDARD
TZOFFSETFROM:-0500
TZOFFSETTO:-0600
TZNAME:CST
DTSTART:20261101T070000
END:STANDARD
BEGIN:DAYLIGHT
TZOFFSETFROM:-0600
TZOFFSETTO:-0500
TZNAME:CDT
DTSTART:20270314T080000
END:DAYLIGHT
BEGIN:STANDARD
TZOFFSETFROM:-0500
TZOFFSETTO:-0600
TZNAME:CST
DTSTART:20271107T070000
END:STANDARD
BEGIN:DAYLIGHT
TZOFFSETFROM:-0600
TZOFFSETTO:-0500
TZNAME:CDT
DTSTART:20280312T080000
END:DAYLIGHT
BEGIN:STANDARD
TZOFFSETFROM:-0500
TZOFFSETTO:-0600
TZNAME:CST
DTSTART:20281105T070000
END:STANDARD
END:VTIMEZONE
BEGIN:VEVENT
DTSTART;TZID=America/Chicago:20260523T120000
DTEND;TZID=America/Chicago:20260523T133000
DTSTAMP:20260423T105100
CREATED:20231004T151938Z
LAST-MODIFIED:20260113T170634Z
UID:10041779-1779537600-1779543000@www.heartwoodcenter.com
SUMMARY:Women of Wisdom Meditation Class
DESCRIPTION:
URL:https://www.heartwoodcenter.com/event/women-of-wisdom-meditation-class/2026-05-23/
LOCATION:Heartwood\, 1818 Dempster Street\, Evanston\, IL\, 60202\, United States
CATEGORIES:Classes,Sangha Meditation
GEO:42.040868;-87.698614
X-APPLE-STRUCTURED-LOCATION;VALUE=URI;X-ADDRESS=Heartwood 1818 Dempster Street Evanston IL 60202 United States;X-APPLE-RADIUS=500;X-TITLE=1818 Dempster Street:geo:-87.698614,42.040868
END:VEVENT
BEGIN:VEVENT
DTSTART;TZID=America/Chicago:20260627T120000
DTEND;TZID=America/Chicago:20260627T133000
DTSTAMP:20260423T105100
CREATED:20231004T151938Z
LAST-MODIFIED:20260113T170634Z
UID:10041780-1782561600-1782567000@www.heartwoodcenter.com
SUMMARY:Women of Wisdom Meditation Class
DESCRIPTION:
URL:https://www.heartwoodcenter.com/event/women-of-wisdom-meditation-class/2026-06-27/
LOCATION:Heartwood\, 1818 Dempster Street\, Evanston\, IL\, 60202\, United States
CATEGORIES:Classes,Sangha Meditation
GEO:42.040868;-87.698614
X-APPLE-STRUCTURED-LOCATION;VALUE=URI;X-ADDRESS=Heartwood 1818 Dempster Street Evanston IL 60202 United States;X-APPLE-RADIUS=500;X-TITLE=1818 Dempster Street:geo:-87.698614,42.040868
END:VEVENT
BEGIN:VEVENT
DTSTART;TZID=America/Chicago:20260725T120000
DTEND;TZID=America/Chicago:20260725T133000
DTSTAMP:20260423T105100
CREATED:20231004T151938Z
LAST-MODIFIED:20260113T170634Z
UID:10041781-1784980800-1784986200@www.heartwoodcenter.com
SUMMARY:Women of Wisdom Meditation Class
DESCRIPTION:
URL:https://www.heartwoodcenter.com/event/women-of-wisdom-meditation-class/2026-07-25/
LOCATION:Heartwood\, 1818 Dempster Street\, Evanston\, IL\, 60202\, United States
CATEGORIES:Classes,Sangha Meditation
GEO:42.040868;-87.698614
X-APPLE-STRUCTURED-LOCATION;VALUE=URI;X-ADDRESS=Heartwood 1818 Dempster Street Evanston IL 60202 United States;X-APPLE-RADIUS=500;X-TITLE=1818 Dempster Street:geo:-87.698614,42.040868
END:VEVENT
BEGIN:VEVENT
DTSTART;TZID=America/Chicago:20260822T120000
DTEND;TZID=America/Chicago:20260822T133000
DTSTAMP:20260423T105100
CREATED:20231004T151938Z
LAST-MODIFIED:20260113T170634Z
UID:10044763-1787400000-1787405400@www.heartwoodcenter.com
SUMMARY:Women of Wisdom Meditation Class
DESCRIPTION:
URL:https://www.heartwoodcenter.com/event/women-of-wisdom-meditation-class/2026-08-22/
LOCATION:Heartwood\, 1818 Dempster Street\, Evanston\, IL\, 60202\, United States
CATEGORIES:Classes,Sangha Meditation
GEO:42.040868;-87.698614
X-APPLE-STRUCTURED-LOCATION;VALUE=URI;X-ADDRESS=Heartwood 1818 Dempster Street Evanston IL 60202 United States;X-APPLE-RADIUS=500;X-TITLE=1818 Dempster Street:geo:-87.698614,42.040868
END:VEVENT
BEGIN:VEVENT
DTSTART;TZID=America/Chicago:20260926T120000
DTEND;TZID=America/Chicago:20260926T133000
DTSTAMP:20260423T105100
CREATED:20231004T151938Z
LAST-MODIFIED:20260113T170634Z
UID:10044764-1790424000-1790429400@www.heartwoodcenter.com
SUMMARY:Women of Wisdom Meditation Class
DESCRIPTION:
URL:https://www.heartwoodcenter.com/event/women-of-wisdom-meditation-class/2026-09-26/
LOCATION:Heartwood\, 1818 Dempster Street\, Evanston\, IL\, 60202\, United States
CATEGORIES:Classes,Sangha Meditation
GEO:42.040868;-87.698614
X-APPLE-STRUCTURED-LOCATION;VALUE=URI;X-ADDRESS=Heartwood 1818 Dempster Street Evanston IL 60202 United States;X-APPLE-RADIUS=500;X-TITLE=1818 Dempster Street:geo:-87.698614,42.040868
END:VEVENT
BEGIN:VEVENT
DTSTART;TZID=America/Chicago:20261024T120000
DTEND;TZID=America/Chicago:20261024T133000
DTSTAMP:20260423T105100
CREATED:20231004T151938Z
LAST-MODIFIED:20260113T170634Z
UID:10044765-1792843200-1792848600@www.heartwoodcenter.com
SUMMARY:Women of Wisdom Meditation Class
DESCRIPTION:
URL:https://www.heartwoodcenter.com/event/women-of-wisdom-meditation-class/2026-10-24/
LOCATION:Heartwood\, 1818 Dempster Street\, Evanston\, IL\, 60202\, United States
CATEGORIES:Classes,Sangha Meditation
GEO:42.040868;-87.698614
X-APPLE-STRUCTURED-LOCATION;VALUE=URI;X-ADDRESS=Heartwood 1818 Dempster Street Evanston IL 60202 United States;X-APPLE-RADIUS=500;X-TITLE=1818 Dempster Street:geo:-87.698614,42.040868
END:VEVENT
BEGIN:VEVENT
DTSTART;TZID=America/Chicago:20261128T120000
DTEND;TZID=America/Chicago:20261128T133000
DTSTAMP:20260423T105100
CREATED:20231004T151938Z
LAST-MODIFIED:20260113T170634Z
UID:10044766-1795867200-1795872600@www.heartwoodcenter.com
SUMMARY:Women of Wisdom Meditation Class
DESCRIPTION:
URL:https://www.heartwoodcenter.com/event/women-of-wisdom-meditation-class/2026-11-28/
LOCATION:Heartwood\, 1818 Dempster Street\, Evanston\, IL\, 60202\, United States
CATEGORIES:Classes,Sangha Meditation
GEO:42.040868;-87.698614
X-APPLE-STRUCTURED-LOCATION;VALUE=URI;X-ADDRESS=Heartwood 1818 Dempster Street Evanston IL 60202 United States;X-APPLE-RADIUS=500;X-TITLE=1818 Dempster Street:geo:-87.698614,42.040868
END:VEVENT
BEGIN:VEVENT
DTSTART;TZID=America/Chicago:20261226T120000
DTEND;TZID=America/Chicago:20261226T133000
DTSTAMP:20260423T105100
CREATED:20231004T151938Z
LAST-MODIFIED:20260113T170634Z
UID:10044767-1798286400-1798291800@www.heartwoodcenter.com
SUMMARY:Women of Wisdom Meditation Class
DESCRIPTION:
URL:https://www.heartwoodcenter.com/event/women-of-wisdom-meditation-class/2026-12-26/
LOCATION:Heartwood\, 1818 Dempster Street\, Evanston\, IL\, 60202\, United States
CATEGORIES:Classes,Sangha Meditation
GEO:42.040868;-87.698614
X-APPLE-STRUCTURED-LOCATION;VALUE=URI;X-ADDRESS=Heartwood 1818 Dempster Street Evanston IL 60202 United States;X-APPLE-RADIUS=500;X-TITLE=1818 Dempster Street:geo:-87.698614,42.040868
END:VEVENT
BEGIN:VEVENT
DTSTART;TZID=America/Chicago:20270123T120000
DTEND;TZID=America/Chicago:20270123T133000
DTSTAMP:20260423T105100
CREATED:20231004T151938Z
LAST-MODIFIED:20260113T170634Z
UID:10044768-1800705600-1800711000@www.heartwoodcenter.com
SUMMARY:Women of Wisdom Meditation Class
DESCRIPTION:
URL:https://www.heartwoodcenter.com/event/women-of-wisdom-meditation-class/2027-01-23/
LOCATION:Heartwood\, 1818 Dempster Street\, Evanston\, IL\, 60202\, United States
CATEGORIES:Classes,Sangha Meditation
GEO:42.040868;-87.698614
X-APPLE-STRUCTURED-LOCATION;VALUE=URI;X-ADDRESS=Heartwood 1818 Dempster Street Evanston IL 60202 United States;X-APPLE-RADIUS=500;X-TITLE=1818 Dempster Street:geo:-87.698614,42.040868
END:VEVENT
BEGIN:VEVENT
DTSTART;TZID=America/Chicago:20270227T120000
DTEND;TZID=America/Chicago:20270227T133000
DTSTAMP:20260423T105100
CREATED:20231004T151938Z
LAST-MODIFIED:20260113T170634Z
UID:10044769-1803729600-1803735000@www.heartwoodcenter.com
SUMMARY:Women of Wisdom Meditation Class
DESCRIPTION:
URL:https://www.heartwoodcenter.com/event/women-of-wisdom-meditation-class/2027-02-27/
LOCATION:Heartwood\, 1818 Dempster Street\, Evanston\, IL\, 60202\, United States
CATEGORIES:Classes,Sangha Meditation
GEO:42.040868;-87.698614
X-APPLE-STRUCTURED-LOCATION;VALUE=URI;X-ADDRESS=Heartwood 1818 Dempster Street Evanston IL 60202 United States;X-APPLE-RADIUS=500;X-TITLE=1818 Dempster Street:geo:-87.698614,42.040868
END:VEVENT
BEGIN:VEVENT
DTSTART;TZID=America/Chicago:20270327T120000
DTEND;TZID=America/Chicago:20270327T133000
DTSTAMP:20260423T105100
CREATED:20231004T151938Z
LAST-MODIFIED:20260113T170634Z
UID:10044770-1806148800-1806154200@www.heartwoodcenter.com
SUMMARY:Women of Wisdom Meditation Class
DESCRIPTION:
URL:https://www.heartwoodcenter.com/event/women-of-wisdom-meditation-class/2027-03-27/
LOCATION:Heartwood\, 1818 Dempster Street\, Evanston\, IL\, 60202\, United States
CATEGORIES:Classes,Sangha Meditation
GEO:42.040868;-87.698614
X-APPLE-STRUCTURED-LOCATION;VALUE=URI;X-ADDRESS=Heartwood 1818 Dempster Street Evanston IL 60202 United States;X-APPLE-RADIUS=500;X-TITLE=1818 Dempster Street:geo:-87.698614,42.040868
END:VEVENT
BEGIN:VEVENT
DTSTART;TZID=America/Chicago:20270424T120000
DTEND;TZID=America/Chicago:20270424T133000
DTSTAMP:20260423T105100
CREATED:20231004T151938Z
LAST-MODIFIED:20260113T170634Z
UID:10044771-1808568000-1808573400@www.heartwoodcenter.com
SUMMARY:Women of Wisdom Meditation Class
DESCRIPTION:
URL:https://www.heartwoodcenter.com/event/women-of-wisdom-meditation-class/2027-04-24/
LOCATION:Heartwood\, 1818 Dempster Street\, Evanston\, IL\, 60202\, United States
CATEGORIES:Classes,Sangha Meditation
GEO:42.040868;-87.698614
X-APPLE-STRUCTURED-LOCATION;VALUE=URI;X-ADDRESS=Heartwood 1818 Dempster Street Evanston IL 60202 United States;X-APPLE-RADIUS=500;X-TITLE=1818 Dempster Street:geo:-87.698614,42.040868
END:VEVENT
BEGIN:VEVENT
DTSTART;TZID=America/Chicago:20270522T120000
DTEND;TZID=America/Chicago:20270522T133000
DTSTAMP:20260423T105100
CREATED:20231004T151938Z
LAST-MODIFIED:20260113T170634Z
UID:10044772-1810987200-1810992600@www.heartwoodcenter.com
SUMMARY:Women of Wisdom Meditation Class
DESCRIPTION:
URL:https://www.heartwoodcenter.com/event/women-of-wisdom-meditation-class/2027-05-22/
LOCATION:Heartwood\, 1818 Dempster Street\, Evanston\, IL\, 60202\, United States
CATEGORIES:Classes,Sangha Meditation
GEO:42.040868;-87.698614
X-APPLE-STRUCTURED-LOCATION;VALUE=URI;X-ADDRESS=Heartwood 1818 Dempster Street Evanston IL 60202 United States;X-APPLE-RADIUS=500;X-TITLE=1818 Dempster Street:geo:-87.698614,42.040868
END:VEVENT
BEGIN:VEVENT
DTSTART;TZID=America/Chicago:20270626T120000
DTEND;TZID=America/Chicago:20270626T133000
DTSTAMP:20260423T105100
CREATED:20231004T151938Z
LAST-MODIFIED:20260113T170634Z
UID:10044773-1814011200-1814016600@www.heartwoodcenter.com
SUMMARY:Women of Wisdom Meditation Class
DESCRIPTION:
URL:https://www.heartwoodcenter.com/event/women-of-wisdom-meditation-class/2027-06-26/
LOCATION:Heartwood\, 1818 Dempster Street\, Evanston\, IL\, 60202\, United States
CATEGORIES:Classes,Sangha Meditation
GEO:42.040868;-87.698614
X-APPLE-STRUCTURED-LOCATION;VALUE=URI;X-ADDRESS=Heartwood 1818 Dempster Street Evanston IL 60202 United States;X-APPLE-RADIUS=500;X-TITLE=1818 Dempster Street:geo:-87.698614,42.040868
END:VEVENT
BEGIN:VEVENT
DTSTART;TZID=America/Chicago:20270724T120000
DTEND;TZID=America/Chicago:20270724T133000
DTSTAMP:20260423T105100
CREATED:20231004T151938Z
LAST-MODIFIED:20260113T170634Z
UID:10044774-1816430400-1816435800@www.heartwoodcenter.com
SUMMARY:Women of Wisdom Meditation Class
DESCRIPTION:
URL:https://www.heartwoodcenter.com/event/women-of-wisdom-meditation-class/2027-07-24/
LOCATION:Heartwood\, 1818 Dempster Street\, Evanston\, IL\, 60202\, United States
CATEGORIES:Classes,Sangha Meditation
GEO:42.040868;-87.698614
X-APPLE-STRUCTURED-LOCATION;VALUE=URI;X-ADDRESS=Heartwood 1818 Dempster Street Evanston IL 60202 United States;X-APPLE-RADIUS=500;X-TITLE=1818 Dempster Street:geo:-87.698614,42.040868
END:VEVENT
BEGIN:VEVENT
DTSTART;TZID=America/Chicago:20270828T120000
DTEND;TZID=America/Chicago:20270828T133000
DTSTAMP:20260423T105100
CREATED:20231004T151938Z
LAST-MODIFIED:20260113T170634Z
UID:10044775-1819454400-1819459800@www.heartwoodcenter.com
SUMMARY:Women of Wisdom Meditation Class
DESCRIPTION:
URL:https://www.heartwoodcenter.com/event/women-of-wisdom-meditation-class/2027-08-28/
LOCATION:Heartwood\, 1818 Dempster Street\, Evanston\, IL\, 60202\, United States
CATEGORIES:Classes,Sangha Meditation
GEO:42.040868;-87.698614
X-APPLE-STRUCTURED-LOCATION;VALUE=URI;X-ADDRESS=Heartwood 1818 Dempster Street Evanston IL 60202 United States;X-APPLE-RADIUS=500;X-TITLE=1818 Dempster Street:geo:-87.698614,42.040868
END:VEVENT
BEGIN:VEVENT
DTSTART;TZID=America/Chicago:20270925T120000
DTEND;TZID=America/Chicago:20270925T133000
DTSTAMP:20260423T105100
CREATED:20231004T151938Z
LAST-MODIFIED:20260113T170634Z
UID:10044776-1821873600-1821879000@www.heartwoodcenter.com
SUMMARY:Women of Wisdom Meditation Class
DESCRIPTION:
URL:https://www.heartwoodcenter.com/event/women-of-wisdom-meditation-class/2027-09-25/
LOCATION:Heartwood\, 1818 Dempster Street\, Evanston\, IL\, 60202\, United States
CATEGORIES:Classes,Sangha Meditation
GEO:42.040868;-87.698614
X-APPLE-STRUCTURED-LOCATION;VALUE=URI;X-ADDRESS=Heartwood 1818 Dempster Street Evanston IL 60202 United States;X-APPLE-RADIUS=500;X-TITLE=1818 Dempster Street:geo:-87.698614,42.040868
END:VEVENT
BEGIN:VEVENT
DTSTART;TZID=America/Chicago:20271023T120000
DTEND;TZID=America/Chicago:20271023T133000
DTSTAMP:20260423T105100
CREATED:20231004T151938Z
LAST-MODIFIED:20260113T170634Z
UID:10044777-1824292800-1824298200@www.heartwoodcenter.com
SUMMARY:Women of Wisdom Meditation Class
DESCRIPTION:
URL:https://www.heartwoodcenter.com/event/women-of-wisdom-meditation-class/2027-10-23/
LOCATION:Heartwood\, 1818 Dempster Street\, Evanston\, IL\, 60202\, United States
CATEGORIES:Classes,Sangha Meditation
GEO:42.040868;-87.698614
X-APPLE-STRUCTURED-LOCATION;VALUE=URI;X-ADDRESS=Heartwood 1818 Dempster Street Evanston IL 60202 United States;X-APPLE-RADIUS=500;X-TITLE=1818 Dempster Street:geo:-87.698614,42.040868
END:VEVENT
BEGIN:VEVENT
DTSTART;TZID=America/Chicago:20271127T120000
DTEND;TZID=America/Chicago:20271127T133000
DTSTAMP:20260423T105100
CREATED:20231004T151938Z
LAST-MODIFIED:20260113T170634Z
UID:10044778-1827316800-1827322200@www.heartwoodcenter.com
SUMMARY:Women of Wisdom Meditation Class
DESCRIPTION:
URL:https://www.heartwoodcenter.com/event/women-of-wisdom-meditation-class/2027-11-27/
LOCATION:Heartwood\, 1818 Dempster Street\, Evanston\, IL\, 60202\, United States
CATEGORIES:Classes,Sangha Meditation
GEO:42.040868;-87.698614
X-APPLE-STRUCTURED-LOCATION;VALUE=URI;X-ADDRESS=Heartwood 1818 Dempster Street Evanston IL 60202 United States;X-APPLE-RADIUS=500;X-TITLE=1818 Dempster Street:geo:-87.698614,42.040868
END:VEVENT
BEGIN:VEVENT
DTSTART;TZID=America/Chicago:20271225T120000
DTEND;TZID=America/Chicago:20271225T133000
DTSTAMP:20260423T105100
CREATED:20231004T151938Z
LAST-MODIFIED:20260113T170634Z
UID:10044779-1829736000-1829741400@www.heartwoodcenter.com
SUMMARY:Women of Wisdom Meditation Class
DESCRIPTION:
URL:https://www.heartwoodcenter.com/event/women-of-wisdom-meditation-class/2027-12-25/
LOCATION:Heartwood\, 1818 Dempster Street\, Evanston\, IL\, 60202\, United States
CATEGORIES:Classes,Sangha Meditation
GEO:42.040868;-87.698614
X-APPLE-STRUCTURED-LOCATION;VALUE=URI;X-ADDRESS=Heartwood 1818 Dempster Street Evanston IL 60202 United States;X-APPLE-RADIUS=500;X-TITLE=1818 Dempster Street:geo:-87.698614,42.040868
END:VEVENT
BEGIN:VEVENT
DTSTART;TZID=America/Chicago:20280122T120000
DTEND;TZID=America/Chicago:20280122T133000
DTSTAMP:20260423T105100
CREATED:20231004T151938Z
LAST-MODIFIED:20260113T170634Z
UID:10044780-1832155200-1832160600@www.heartwoodcenter.com
SUMMARY:Women of Wisdom Meditation Class
DESCRIPTION:
URL:https://www.heartwoodcenter.com/event/women-of-wisdom-meditation-class/2028-01-22/
LOCATION:Heartwood\, 1818 Dempster Street\, Evanston\, IL\, 60202\, United States
CATEGORIES:Classes,Sangha Meditation
GEO:42.040868;-87.698614
X-APPLE-STRUCTURED-LOCATION;VALUE=URI;X-ADDRESS=Heartwood 1818 Dempster Street Evanston IL 60202 United States;X-APPLE-RADIUS=500;X-TITLE=1818 Dempster Street:geo:-87.698614,42.040868
END:VEVENT
BEGIN:VEVENT
DTSTART;TZID=America/Chicago:20280226T120000
DTEND;TZID=America/Chicago:20280226T133000
DTSTAMP:20260423T105100
CREATED:20231004T151938Z
LAST-MODIFIED:20260113T170634Z
UID:10044781-1835179200-1835184600@www.heartwoodcenter.com
SUMMARY:Women of Wisdom Meditation Class
DESCRIPTION:
URL:https://www.heartwoodcenter.com/event/women-of-wisdom-meditation-class/2028-02-26/
LOCATION:Heartwood\, 1818 Dempster Street\, Evanston\, IL\, 60202\, United States
CATEGORIES:Classes,Sangha Meditation
GEO:42.040868;-87.698614
X-APPLE-STRUCTURED-LOCATION;VALUE=URI;X-ADDRESS=Heartwood 1818 Dempster Street Evanston IL 60202 United States;X-APPLE-RADIUS=500;X-TITLE=1818 Dempster Street:geo:-87.698614,42.040868
END:VEVENT
BEGIN:VEVENT
DTSTART;TZID=America/Chicago:20280325T120000
DTEND;TZID=America/Chicago:20280325T133000
DTSTAMP:20260423T105100
CREATED:20231004T151938Z
LAST-MODIFIED:20260113T170634Z
UID:10044782-1837598400-1837603800@www.heartwoodcenter.com
SUMMARY:Women of Wisdom Meditation Class
DESCRIPTION:
URL:https://www.heartwoodcenter.com/event/women-of-wisdom-meditation-class/2028-03-25/
LOCATION:Heartwood\, 1818 Dempster Street\, Evanston\, IL\, 60202\, United States
CATEGORIES:Classes,Sangha Meditation
GEO:42.040868;-87.698614
X-APPLE-STRUCTURED-LOCATION;VALUE=URI;X-ADDRESS=Heartwood 1818 Dempster Street Evanston IL 60202 United States;X-APPLE-RADIUS=500;X-TITLE=1818 Dempster Street:geo:-87.698614,42.040868
END:VEVENT
BEGIN:VEVENT
DTSTART;TZID=America/Chicago:20280422T120000
DTEND;TZID=America/Chicago:20280422T133000
DTSTAMP:20260423T105100
CREATED:20231004T151938Z
LAST-MODIFIED:20260113T170634Z
UID:10044783-1840017600-1840023000@www.heartwoodcenter.com
SUMMARY:Women of Wisdom Meditation Class
DESCRIPTION:
URL:https://www.heartwoodcenter.com/event/women-of-wisdom-meditation-class/2028-04-22/
LOCATION:Heartwood\, 1818 Dempster Street\, Evanston\, IL\, 60202\, United States
CATEGORIES:Classes,Sangha Meditation
GEO:42.040868;-87.698614
X-APPLE-STRUCTURED-LOCATION;VALUE=URI;X-ADDRESS=Heartwood 1818 Dempster Street Evanston IL 60202 United States;X-APPLE-RADIUS=500;X-TITLE=1818 Dempster Street:geo:-87.698614,42.040868
END:VEVENT
BEGIN:VEVENT
DTSTART;TZID=America/Chicago:20280527T120000
DTEND;TZID=America/Chicago:20280527T133000
DTSTAMP:20260423T105100
CREATED:20231004T151938Z
LAST-MODIFIED:20260113T170634Z
UID:10044784-1843041600-1843047000@www.heartwoodcenter.com
SUMMARY:Women of Wisdom Meditation Class
DESCRIPTION:
URL:https://www.heartwoodcenter.com/event/women-of-wisdom-meditation-class/2028-05-27/
LOCATION:Heartwood\, 1818 Dempster Street\, Evanston\, IL\, 60202\, United States
CATEGORIES:Classes,Sangha Meditation
GEO:42.040868;-87.698614
X-APPLE-STRUCTURED-LOCATION;VALUE=URI;X-ADDRESS=Heartwood 1818 Dempster Street Evanston IL 60202 United States;X-APPLE-RADIUS=500;X-TITLE=1818 Dempster Street:geo:-87.698614,42.040868
END:VEVENT
BEGIN:VEVENT
DTSTART;TZID=America/Chicago:20280624T120000
DTEND;TZID=America/Chicago:20280624T133000
DTSTAMP:20260423T105100
CREATED:20231004T151938Z
LAST-MODIFIED:20260113T170634Z
UID:10044785-1845460800-1845466200@www.heartwoodcenter.com
SUMMARY:Women of Wisdom Meditation Class
DESCRIPTION:
URL:https://www.heartwoodcenter.com/event/women-of-wisdom-meditation-class/2028-06-24/
LOCATION:Heartwood\, 1818 Dempster Street\, Evanston\, IL\, 60202\, United States
CATEGORIES:Classes,Sangha Meditation
GEO:42.040868;-87.698614
X-APPLE-STRUCTURED-LOCATION;VALUE=URI;X-ADDRESS=Heartwood 1818 Dempster Street Evanston IL 60202 United States;X-APPLE-RADIUS=500;X-TITLE=1818 Dempster Street:geo:-87.698614,42.040868
END:VEVENT
BEGIN:VEVENT
DTSTART;TZID=America/Chicago:20280722T120000
DTEND;TZID=America/Chicago:20280722T133000
DTSTAMP:20260423T105100
CREATED:20231004T151938Z
LAST-MODIFIED:20260113T170634Z
UID:10044786-1847880000-1847885400@www.heartwoodcenter.com
SUMMARY:Women of Wisdom Meditation Class
DESCRIPTION:
URL:https://www.heartwoodcenter.com/event/women-of-wisdom-meditation-class/2028-07-22/
LOCATION:Heartwood\, 1818 Dempster Street\, Evanston\, IL\, 60202\, United States
CATEGORIES:Classes,Sangha Meditation
GEO:42.040868;-87.698614
X-APPLE-STRUCTURED-LOCATION;VALUE=URI;X-ADDRESS=Heartwood 1818 Dempster Street Evanston IL 60202 United States;X-APPLE-RADIUS=500;X-TITLE=1818 Dempster Street:geo:-87.698614,42.040868
END:VEVENT
BEGIN:VEVENT
DTSTART;TZID=America/Chicago:20280826T120000
DTEND;TZID=America/Chicago:20280826T133000
DTSTAMP:20260423T105100
CREATED:20231004T151938Z
LAST-MODIFIED:20260113T170634Z
UID:10044787-1850904000-1850909400@www.heartwoodcenter.com
SUMMARY:Women of Wisdom Meditation Class
DESCRIPTION:
URL:https://www.heartwoodcenter.com/event/women-of-wisdom-meditation-class/2028-08-26/
LOCATION:Heartwood\, 1818 Dempster Street\, Evanston\, IL\, 60202\, United States
CATEGORIES:Classes,Sangha Meditation
GEO:42.040868;-87.698614
X-APPLE-STRUCTURED-LOCATION;VALUE=URI;X-ADDRESS=Heartwood 1818 Dempster Street Evanston IL 60202 United States;X-APPLE-RADIUS=500;X-TITLE=1818 Dempster Street:geo:-87.698614,42.040868
END:VEVENT
BEGIN:VEVENT
DTSTART;TZID=America/Chicago:20280923T120000
DTEND;TZID=America/Chicago:20280923T133000
DTSTAMP:20260423T105100
CREATED:20231004T151938Z
LAST-MODIFIED:20260113T170634Z
UID:10044788-1853323200-1853328600@www.heartwoodcenter.com
SUMMARY:Women of Wisdom Meditation Class
DESCRIPTION:
URL:https://www.heartwoodcenter.com/event/women-of-wisdom-meditation-class/2028-09-23/
LOCATION:Heartwood\, 1818 Dempster Street\, Evanston\, IL\, 60202\, United States
CATEGORIES:Classes,Sangha Meditation
GEO:42.040868;-87.698614
X-APPLE-STRUCTURED-LOCATION;VALUE=URI;X-ADDRESS=Heartwood 1818 Dempster Street Evanston IL 60202 United States;X-APPLE-RADIUS=500;X-TITLE=1818 Dempster Street:geo:-87.698614,42.040868
END:VEVENT
BEGIN:VEVENT
DTSTART;TZID=America/Chicago:20281028T120000
DTEND;TZID=America/Chicago:20281028T133000
DTSTAMP:20260423T105100
CREATED:20231004T151938Z
LAST-MODIFIED:20260113T170634Z
UID:10044789-1856347200-1856352600@www.heartwoodcenter.com
SUMMARY:Women of Wisdom Meditation Class
DESCRIPTION:
URL:https://www.heartwoodcenter.com/event/women-of-wisdom-meditation-class/2028-10-28/
LOCATION:Heartwood\, 1818 Dempster Street\, Evanston\, IL\, 60202\, United States
CATEGORIES:Classes,Sangha Meditation
GEO:42.040868;-87.698614
X-APPLE-STRUCTURED-LOCATION;VALUE=URI;X-ADDRESS=Heartwood 1818 Dempster Street Evanston IL 60202 United States;X-APPLE-RADIUS=500;X-TITLE=1818 Dempster Street:geo:-87.698614,42.040868
END:VEVENT
END:VCALENDAR