BEGIN:VCALENDAR
VERSION:2.0
PRODID:-//Heartwood - ECPv6.13.2.1//NONSGML v1.0//EN
CALSCALE:GREGORIAN
METHOD:PUBLISH
X-WR-CALNAME:Heartwood
X-ORIGINAL-URL:https://www.heartwoodcenter.com
X-WR-CALDESC:Events for Heartwood
REFRESH-INTERVAL;VALUE=DURATION:PT1H
X-Robots-Tag:noindex
X-PUBLISHED-TTL:PT1H
BEGIN:VTIMEZONE
TZID:America/Chicago
BEGIN:DAYLIGHT
TZOFFSETFROM:-0600
TZOFFSETTO:-0500
TZNAME:CDT
DTSTART:20260308T080000
END:DAYLIGHT
BEGIN:STANDARD
TZOFFSETFROM:-0500
TZOFFSETTO:-0600
TZNAME:CST
DTSTART:20261101T070000
END:STANDARD
END:VTIMEZONE
BEGIN:VEVENT
DTSTART;TZID=America/Chicago:20260427T093000
DTEND;TZID=America/Chicago:20260427T103000
DTSTAMP:20260423T105218
CREATED:20251022T165412Z
LAST-MODIFIED:20251105T161614Z
UID:10042118-1777282200-1777285800@www.heartwoodcenter.com
SUMMARY:Therapeutic Group Class
DESCRIPTION:Every Monday from 9:30am-10:30am \n$35\, sliding scale available \nFor more information and to register\, click HERE.
URL:https://www.heartwoodcenter.com/event/therapeutic-group-class/2026-04-27/
LOCATION:Heartwood\, 1818 Dempster Street\, Evanston\, IL\, 60202\, United States
CATEGORIES:Classes
GEO:42.040868;-87.698614
X-APPLE-STRUCTURED-LOCATION;VALUE=URI;X-ADDRESS=Heartwood 1818 Dempster Street Evanston IL 60202 United States;X-APPLE-RADIUS=500;X-TITLE=1818 Dempster Street:geo:-87.698614,42.040868
END:VEVENT
BEGIN:VEVENT
DTSTART;TZID=America/Chicago:20260504T093000
DTEND;TZID=America/Chicago:20260504T103000
DTSTAMP:20260423T105218
CREATED:20251022T165412Z
LAST-MODIFIED:20251105T161614Z
UID:10042119-1777887000-1777890600@www.heartwoodcenter.com
SUMMARY:Therapeutic Group Class
DESCRIPTION:Every Monday from 9:30am-10:30am \n$35\, sliding scale available \nFor more information and to register\, click HERE.
URL:https://www.heartwoodcenter.com/event/therapeutic-group-class/2026-05-04/
LOCATION:Heartwood\, 1818 Dempster Street\, Evanston\, IL\, 60202\, United States
CATEGORIES:Classes
GEO:42.040868;-87.698614
X-APPLE-STRUCTURED-LOCATION;VALUE=URI;X-ADDRESS=Heartwood 1818 Dempster Street Evanston IL 60202 United States;X-APPLE-RADIUS=500;X-TITLE=1818 Dempster Street:geo:-87.698614,42.040868
END:VEVENT
BEGIN:VEVENT
DTSTART;TZID=America/Chicago:20260511T093000
DTEND;TZID=America/Chicago:20260511T103000
DTSTAMP:20260423T105218
CREATED:20251022T165412Z
LAST-MODIFIED:20251105T161614Z
UID:10042120-1778491800-1778495400@www.heartwoodcenter.com
SUMMARY:Therapeutic Group Class
DESCRIPTION:Every Monday from 9:30am-10:30am \n$35\, sliding scale available \nFor more information and to register\, click HERE.
URL:https://www.heartwoodcenter.com/event/therapeutic-group-class/2026-05-11/
LOCATION:Heartwood\, 1818 Dempster Street\, Evanston\, IL\, 60202\, United States
CATEGORIES:Classes
GEO:42.040868;-87.698614
X-APPLE-STRUCTURED-LOCATION;VALUE=URI;X-ADDRESS=Heartwood 1818 Dempster Street Evanston IL 60202 United States;X-APPLE-RADIUS=500;X-TITLE=1818 Dempster Street:geo:-87.698614,42.040868
END:VEVENT
BEGIN:VEVENT
DTSTART;TZID=America/Chicago:20260518T093000
DTEND;TZID=America/Chicago:20260518T103000
DTSTAMP:20260423T105218
CREATED:20251022T165412Z
LAST-MODIFIED:20251105T161614Z
UID:10042121-1779096600-1779100200@www.heartwoodcenter.com
SUMMARY:Therapeutic Group Class
DESCRIPTION:Every Monday from 9:30am-10:30am \n$35\, sliding scale available \nFor more information and to register\, click HERE.
URL:https://www.heartwoodcenter.com/event/therapeutic-group-class/2026-05-18/
LOCATION:Heartwood\, 1818 Dempster Street\, Evanston\, IL\, 60202\, United States
CATEGORIES:Classes
GEO:42.040868;-87.698614
X-APPLE-STRUCTURED-LOCATION;VALUE=URI;X-ADDRESS=Heartwood 1818 Dempster Street Evanston IL 60202 United States;X-APPLE-RADIUS=500;X-TITLE=1818 Dempster Street:geo:-87.698614,42.040868
END:VEVENT
BEGIN:VEVENT
DTSTART;TZID=America/Chicago:20260525T093000
DTEND;TZID=America/Chicago:20260525T103000
DTSTAMP:20260423T105218
CREATED:20251022T165412Z
LAST-MODIFIED:20251105T161614Z
UID:10042122-1779701400-1779705000@www.heartwoodcenter.com
SUMMARY:Therapeutic Group Class
DESCRIPTION:Every Monday from 9:30am-10:30am \n$35\, sliding scale available \nFor more information and to register\, click HERE.
URL:https://www.heartwoodcenter.com/event/therapeutic-group-class/2026-05-25/
LOCATION:Heartwood\, 1818 Dempster Street\, Evanston\, IL\, 60202\, United States
CATEGORIES:Classes
GEO:42.040868;-87.698614
X-APPLE-STRUCTURED-LOCATION;VALUE=URI;X-ADDRESS=Heartwood 1818 Dempster Street Evanston IL 60202 United States;X-APPLE-RADIUS=500;X-TITLE=1818 Dempster Street:geo:-87.698614,42.040868
END:VEVENT
BEGIN:VEVENT
DTSTART;TZID=America/Chicago:20260601T093000
DTEND;TZID=America/Chicago:20260601T103000
DTSTAMP:20260423T105218
CREATED:20251022T165412Z
LAST-MODIFIED:20251105T161614Z
UID:10042123-1780306200-1780309800@www.heartwoodcenter.com
SUMMARY:Therapeutic Group Class
DESCRIPTION:Every Monday from 9:30am-10:30am \n$35\, sliding scale available \nFor more information and to register\, click HERE.
URL:https://www.heartwoodcenter.com/event/therapeutic-group-class/2026-06-01/
LOCATION:Heartwood\, 1818 Dempster Street\, Evanston\, IL\, 60202\, United States
CATEGORIES:Classes
GEO:42.040868;-87.698614
X-APPLE-STRUCTURED-LOCATION;VALUE=URI;X-ADDRESS=Heartwood 1818 Dempster Street Evanston IL 60202 United States;X-APPLE-RADIUS=500;X-TITLE=1818 Dempster Street:geo:-87.698614,42.040868
END:VEVENT
BEGIN:VEVENT
DTSTART;TZID=America/Chicago:20260608T093000
DTEND;TZID=America/Chicago:20260608T103000
DTSTAMP:20260423T105218
CREATED:20251022T165412Z
LAST-MODIFIED:20251105T161614Z
UID:10042124-1780911000-1780914600@www.heartwoodcenter.com
SUMMARY:Therapeutic Group Class
DESCRIPTION:Every Monday from 9:30am-10:30am \n$35\, sliding scale available \nFor more information and to register\, click HERE.
URL:https://www.heartwoodcenter.com/event/therapeutic-group-class/2026-06-08/
LOCATION:Heartwood\, 1818 Dempster Street\, Evanston\, IL\, 60202\, United States
CATEGORIES:Classes
GEO:42.040868;-87.698614
X-APPLE-STRUCTURED-LOCATION;VALUE=URI;X-ADDRESS=Heartwood 1818 Dempster Street Evanston IL 60202 United States;X-APPLE-RADIUS=500;X-TITLE=1818 Dempster Street:geo:-87.698614,42.040868
END:VEVENT
BEGIN:VEVENT
DTSTART;TZID=America/Chicago:20260615T093000
DTEND;TZID=America/Chicago:20260615T103000
DTSTAMP:20260423T105218
CREATED:20251022T165412Z
LAST-MODIFIED:20251105T161614Z
UID:10042125-1781515800-1781519400@www.heartwoodcenter.com
SUMMARY:Therapeutic Group Class
DESCRIPTION:Every Monday from 9:30am-10:30am \n$35\, sliding scale available \nFor more information and to register\, click HERE.
URL:https://www.heartwoodcenter.com/event/therapeutic-group-class/2026-06-15/
LOCATION:Heartwood\, 1818 Dempster Street\, Evanston\, IL\, 60202\, United States
CATEGORIES:Classes
GEO:42.040868;-87.698614
X-APPLE-STRUCTURED-LOCATION;VALUE=URI;X-ADDRESS=Heartwood 1818 Dempster Street Evanston IL 60202 United States;X-APPLE-RADIUS=500;X-TITLE=1818 Dempster Street:geo:-87.698614,42.040868
END:VEVENT
BEGIN:VEVENT
DTSTART;TZID=America/Chicago:20260622T093000
DTEND;TZID=America/Chicago:20260622T103000
DTSTAMP:20260423T105218
CREATED:20251022T165412Z
LAST-MODIFIED:20251105T161614Z
UID:10042126-1782120600-1782124200@www.heartwoodcenter.com
SUMMARY:Therapeutic Group Class
DESCRIPTION:Every Monday from 9:30am-10:30am \n$35\, sliding scale available \nFor more information and to register\, click HERE.
URL:https://www.heartwoodcenter.com/event/therapeutic-group-class/2026-06-22/
LOCATION:Heartwood\, 1818 Dempster Street\, Evanston\, IL\, 60202\, United States
CATEGORIES:Classes
GEO:42.040868;-87.698614
X-APPLE-STRUCTURED-LOCATION;VALUE=URI;X-ADDRESS=Heartwood 1818 Dempster Street Evanston IL 60202 United States;X-APPLE-RADIUS=500;X-TITLE=1818 Dempster Street:geo:-87.698614,42.040868
END:VEVENT
BEGIN:VEVENT
DTSTART;TZID=America/Chicago:20260629T093000
DTEND;TZID=America/Chicago:20260629T103000
DTSTAMP:20260423T105218
CREATED:20251022T165412Z
LAST-MODIFIED:20251105T161614Z
UID:10042127-1782725400-1782729000@www.heartwoodcenter.com
SUMMARY:Therapeutic Group Class
DESCRIPTION:Every Monday from 9:30am-10:30am \n$35\, sliding scale available \nFor more information and to register\, click HERE.
URL:https://www.heartwoodcenter.com/event/therapeutic-group-class/2026-06-29/
LOCATION:Heartwood\, 1818 Dempster Street\, Evanston\, IL\, 60202\, United States
CATEGORIES:Classes
GEO:42.040868;-87.698614
X-APPLE-STRUCTURED-LOCATION;VALUE=URI;X-ADDRESS=Heartwood 1818 Dempster Street Evanston IL 60202 United States;X-APPLE-RADIUS=500;X-TITLE=1818 Dempster Street:geo:-87.698614,42.040868
END:VEVENT
BEGIN:VEVENT
DTSTART;TZID=America/Chicago:20260706T093000
DTEND;TZID=America/Chicago:20260706T103000
DTSTAMP:20260423T105218
CREATED:20251022T165412Z
LAST-MODIFIED:20251105T161614Z
UID:10042128-1783330200-1783333800@www.heartwoodcenter.com
SUMMARY:Therapeutic Group Class
DESCRIPTION:Every Monday from 9:30am-10:30am \n$35\, sliding scale available \nFor more information and to register\, click HERE.
URL:https://www.heartwoodcenter.com/event/therapeutic-group-class/2026-07-06/
LOCATION:Heartwood\, 1818 Dempster Street\, Evanston\, IL\, 60202\, United States
CATEGORIES:Classes
GEO:42.040868;-87.698614
X-APPLE-STRUCTURED-LOCATION;VALUE=URI;X-ADDRESS=Heartwood 1818 Dempster Street Evanston IL 60202 United States;X-APPLE-RADIUS=500;X-TITLE=1818 Dempster Street:geo:-87.698614,42.040868
END:VEVENT
BEGIN:VEVENT
DTSTART;TZID=America/Chicago:20260713T093000
DTEND;TZID=America/Chicago:20260713T103000
DTSTAMP:20260423T105218
CREATED:20251022T165412Z
LAST-MODIFIED:20251105T161614Z
UID:10042129-1783935000-1783938600@www.heartwoodcenter.com
SUMMARY:Therapeutic Group Class
DESCRIPTION:Every Monday from 9:30am-10:30am \n$35\, sliding scale available \nFor more information and to register\, click HERE.
URL:https://www.heartwoodcenter.com/event/therapeutic-group-class/2026-07-13/
LOCATION:Heartwood\, 1818 Dempster Street\, Evanston\, IL\, 60202\, United States
CATEGORIES:Classes
GEO:42.040868;-87.698614
X-APPLE-STRUCTURED-LOCATION;VALUE=URI;X-ADDRESS=Heartwood 1818 Dempster Street Evanston IL 60202 United States;X-APPLE-RADIUS=500;X-TITLE=1818 Dempster Street:geo:-87.698614,42.040868
END:VEVENT
BEGIN:VEVENT
DTSTART;TZID=America/Chicago:20260720T093000
DTEND;TZID=America/Chicago:20260720T103000
DTSTAMP:20260423T105218
CREATED:20251022T165412Z
LAST-MODIFIED:20251105T161614Z
UID:10042130-1784539800-1784543400@www.heartwoodcenter.com
SUMMARY:Therapeutic Group Class
DESCRIPTION:Every Monday from 9:30am-10:30am \n$35\, sliding scale available \nFor more information and to register\, click HERE.
URL:https://www.heartwoodcenter.com/event/therapeutic-group-class/2026-07-20/
LOCATION:Heartwood\, 1818 Dempster Street\, Evanston\, IL\, 60202\, United States
CATEGORIES:Classes
GEO:42.040868;-87.698614
X-APPLE-STRUCTURED-LOCATION;VALUE=URI;X-ADDRESS=Heartwood 1818 Dempster Street Evanston IL 60202 United States;X-APPLE-RADIUS=500;X-TITLE=1818 Dempster Street:geo:-87.698614,42.040868
END:VEVENT
BEGIN:VEVENT
DTSTART;TZID=America/Chicago:20260727T093000
DTEND;TZID=America/Chicago:20260727T103000
DTSTAMP:20260423T105218
CREATED:20251022T165412Z
LAST-MODIFIED:20251105T161614Z
UID:10042131-1785144600-1785148200@www.heartwoodcenter.com
SUMMARY:Therapeutic Group Class
DESCRIPTION:Every Monday from 9:30am-10:30am \n$35\, sliding scale available \nFor more information and to register\, click HERE.
URL:https://www.heartwoodcenter.com/event/therapeutic-group-class/2026-07-27/
LOCATION:Heartwood\, 1818 Dempster Street\, Evanston\, IL\, 60202\, United States
CATEGORIES:Classes
GEO:42.040868;-87.698614
X-APPLE-STRUCTURED-LOCATION;VALUE=URI;X-ADDRESS=Heartwood 1818 Dempster Street Evanston IL 60202 United States;X-APPLE-RADIUS=500;X-TITLE=1818 Dempster Street:geo:-87.698614,42.040868
END:VEVENT
BEGIN:VEVENT
DTSTART;TZID=America/Chicago:20260803T093000
DTEND;TZID=America/Chicago:20260803T103000
DTSTAMP:20260423T105218
CREATED:20251022T165412Z
LAST-MODIFIED:20251105T161614Z
UID:10042132-1785749400-1785753000@www.heartwoodcenter.com
SUMMARY:Therapeutic Group Class
DESCRIPTION:Every Monday from 9:30am-10:30am \n$35\, sliding scale available \nFor more information and to register\, click HERE.
URL:https://www.heartwoodcenter.com/event/therapeutic-group-class/2026-08-03/
LOCATION:Heartwood\, 1818 Dempster Street\, Evanston\, IL\, 60202\, United States
CATEGORIES:Classes
GEO:42.040868;-87.698614
X-APPLE-STRUCTURED-LOCATION;VALUE=URI;X-ADDRESS=Heartwood 1818 Dempster Street Evanston IL 60202 United States;X-APPLE-RADIUS=500;X-TITLE=1818 Dempster Street:geo:-87.698614,42.040868
END:VEVENT
BEGIN:VEVENT
DTSTART;TZID=America/Chicago:20260810T093000
DTEND;TZID=America/Chicago:20260810T103000
DTSTAMP:20260423T105218
CREATED:20251022T165412Z
LAST-MODIFIED:20251105T161614Z
UID:10042133-1786354200-1786357800@www.heartwoodcenter.com
SUMMARY:Therapeutic Group Class
DESCRIPTION:Every Monday from 9:30am-10:30am \n$35\, sliding scale available \nFor more information and to register\, click HERE.
URL:https://www.heartwoodcenter.com/event/therapeutic-group-class/2026-08-10/
LOCATION:Heartwood\, 1818 Dempster Street\, Evanston\, IL\, 60202\, United States
CATEGORIES:Classes
GEO:42.040868;-87.698614
X-APPLE-STRUCTURED-LOCATION;VALUE=URI;X-ADDRESS=Heartwood 1818 Dempster Street Evanston IL 60202 United States;X-APPLE-RADIUS=500;X-TITLE=1818 Dempster Street:geo:-87.698614,42.040868
END:VEVENT
BEGIN:VEVENT
DTSTART;TZID=America/Chicago:20260817T093000
DTEND;TZID=America/Chicago:20260817T103000
DTSTAMP:20260423T105218
CREATED:20251022T165412Z
LAST-MODIFIED:20251105T161614Z
UID:10042134-1786959000-1786962600@www.heartwoodcenter.com
SUMMARY:Therapeutic Group Class
DESCRIPTION:Every Monday from 9:30am-10:30am \n$35\, sliding scale available \nFor more information and to register\, click HERE.
URL:https://www.heartwoodcenter.com/event/therapeutic-group-class/2026-08-17/
LOCATION:Heartwood\, 1818 Dempster Street\, Evanston\, IL\, 60202\, United States
CATEGORIES:Classes
GEO:42.040868;-87.698614
X-APPLE-STRUCTURED-LOCATION;VALUE=URI;X-ADDRESS=Heartwood 1818 Dempster Street Evanston IL 60202 United States;X-APPLE-RADIUS=500;X-TITLE=1818 Dempster Street:geo:-87.698614,42.040868
END:VEVENT
BEGIN:VEVENT
DTSTART;TZID=America/Chicago:20260824T093000
DTEND;TZID=America/Chicago:20260824T103000
DTSTAMP:20260423T105218
CREATED:20251022T165412Z
LAST-MODIFIED:20251105T161614Z
UID:10042135-1787563800-1787567400@www.heartwoodcenter.com
SUMMARY:Therapeutic Group Class
DESCRIPTION:Every Monday from 9:30am-10:30am \n$35\, sliding scale available \nFor more information and to register\, click HERE.
URL:https://www.heartwoodcenter.com/event/therapeutic-group-class/2026-08-24/
LOCATION:Heartwood\, 1818 Dempster Street\, Evanston\, IL\, 60202\, United States
CATEGORIES:Classes
GEO:42.040868;-87.698614
X-APPLE-STRUCTURED-LOCATION;VALUE=URI;X-ADDRESS=Heartwood 1818 Dempster Street Evanston IL 60202 United States;X-APPLE-RADIUS=500;X-TITLE=1818 Dempster Street:geo:-87.698614,42.040868
END:VEVENT
BEGIN:VEVENT
DTSTART;TZID=America/Chicago:20260831T093000
DTEND;TZID=America/Chicago:20260831T103000
DTSTAMP:20260423T105218
CREATED:20251022T165412Z
LAST-MODIFIED:20251105T161614Z
UID:10042136-1788168600-1788172200@www.heartwoodcenter.com
SUMMARY:Therapeutic Group Class
DESCRIPTION:Every Monday from 9:30am-10:30am \n$35\, sliding scale available \nFor more information and to register\, click HERE.
URL:https://www.heartwoodcenter.com/event/therapeutic-group-class/2026-08-31/
LOCATION:Heartwood\, 1818 Dempster Street\, Evanston\, IL\, 60202\, United States
CATEGORIES:Classes
GEO:42.040868;-87.698614
X-APPLE-STRUCTURED-LOCATION;VALUE=URI;X-ADDRESS=Heartwood 1818 Dempster Street Evanston IL 60202 United States;X-APPLE-RADIUS=500;X-TITLE=1818 Dempster Street:geo:-87.698614,42.040868
END:VEVENT
BEGIN:VEVENT
DTSTART;TZID=America/Chicago:20260907T093000
DTEND;TZID=America/Chicago:20260907T103000
DTSTAMP:20260423T105218
CREATED:20251022T165412Z
LAST-MODIFIED:20251105T161614Z
UID:10042137-1788773400-1788777000@www.heartwoodcenter.com
SUMMARY:Therapeutic Group Class
DESCRIPTION:Every Monday from 9:30am-10:30am \n$35\, sliding scale available \nFor more information and to register\, click HERE.
URL:https://www.heartwoodcenter.com/event/therapeutic-group-class/2026-09-07/
LOCATION:Heartwood\, 1818 Dempster Street\, Evanston\, IL\, 60202\, United States
CATEGORIES:Classes
GEO:42.040868;-87.698614
X-APPLE-STRUCTURED-LOCATION;VALUE=URI;X-ADDRESS=Heartwood 1818 Dempster Street Evanston IL 60202 United States;X-APPLE-RADIUS=500;X-TITLE=1818 Dempster Street:geo:-87.698614,42.040868
END:VEVENT
BEGIN:VEVENT
DTSTART;TZID=America/Chicago:20260914T093000
DTEND;TZID=America/Chicago:20260914T103000
DTSTAMP:20260423T105218
CREATED:20251022T165412Z
LAST-MODIFIED:20251105T161614Z
UID:10042138-1789378200-1789381800@www.heartwoodcenter.com
SUMMARY:Therapeutic Group Class
DESCRIPTION:Every Monday from 9:30am-10:30am \n$35\, sliding scale available \nFor more information and to register\, click HERE.
URL:https://www.heartwoodcenter.com/event/therapeutic-group-class/2026-09-14/
LOCATION:Heartwood\, 1818 Dempster Street\, Evanston\, IL\, 60202\, United States
CATEGORIES:Classes
GEO:42.040868;-87.698614
X-APPLE-STRUCTURED-LOCATION;VALUE=URI;X-ADDRESS=Heartwood 1818 Dempster Street Evanston IL 60202 United States;X-APPLE-RADIUS=500;X-TITLE=1818 Dempster Street:geo:-87.698614,42.040868
END:VEVENT
BEGIN:VEVENT
DTSTART;TZID=America/Chicago:20260921T093000
DTEND;TZID=America/Chicago:20260921T103000
DTSTAMP:20260423T105218
CREATED:20251022T165412Z
LAST-MODIFIED:20251105T161614Z
UID:10042139-1789983000-1789986600@www.heartwoodcenter.com
SUMMARY:Therapeutic Group Class
DESCRIPTION:Every Monday from 9:30am-10:30am \n$35\, sliding scale available \nFor more information and to register\, click HERE.
URL:https://www.heartwoodcenter.com/event/therapeutic-group-class/2026-09-21/
LOCATION:Heartwood\, 1818 Dempster Street\, Evanston\, IL\, 60202\, United States
CATEGORIES:Classes
GEO:42.040868;-87.698614
X-APPLE-STRUCTURED-LOCATION;VALUE=URI;X-ADDRESS=Heartwood 1818 Dempster Street Evanston IL 60202 United States;X-APPLE-RADIUS=500;X-TITLE=1818 Dempster Street:geo:-87.698614,42.040868
END:VEVENT
BEGIN:VEVENT
DTSTART;TZID=America/Chicago:20260928T093000
DTEND;TZID=America/Chicago:20260928T103000
DTSTAMP:20260423T105218
CREATED:20251022T165412Z
LAST-MODIFIED:20251105T161614Z
UID:10042140-1790587800-1790591400@www.heartwoodcenter.com
SUMMARY:Therapeutic Group Class
DESCRIPTION:Every Monday from 9:30am-10:30am \n$35\, sliding scale available \nFor more information and to register\, click HERE.
URL:https://www.heartwoodcenter.com/event/therapeutic-group-class/2026-09-28/
LOCATION:Heartwood\, 1818 Dempster Street\, Evanston\, IL\, 60202\, United States
CATEGORIES:Classes
GEO:42.040868;-87.698614
X-APPLE-STRUCTURED-LOCATION;VALUE=URI;X-ADDRESS=Heartwood 1818 Dempster Street Evanston IL 60202 United States;X-APPLE-RADIUS=500;X-TITLE=1818 Dempster Street:geo:-87.698614,42.040868
END:VEVENT
BEGIN:VEVENT
DTSTART;TZID=America/Chicago:20261005T093000
DTEND;TZID=America/Chicago:20261005T103000
DTSTAMP:20260423T105218
CREATED:20251022T165412Z
LAST-MODIFIED:20251105T161614Z
UID:10042141-1791192600-1791196200@www.heartwoodcenter.com
SUMMARY:Therapeutic Group Class
DESCRIPTION:Every Monday from 9:30am-10:30am \n$35\, sliding scale available \nFor more information and to register\, click HERE.
URL:https://www.heartwoodcenter.com/event/therapeutic-group-class/2026-10-05/
LOCATION:Heartwood\, 1818 Dempster Street\, Evanston\, IL\, 60202\, United States
CATEGORIES:Classes
GEO:42.040868;-87.698614
X-APPLE-STRUCTURED-LOCATION;VALUE=URI;X-ADDRESS=Heartwood 1818 Dempster Street Evanston IL 60202 United States;X-APPLE-RADIUS=500;X-TITLE=1818 Dempster Street:geo:-87.698614,42.040868
END:VEVENT
BEGIN:VEVENT
DTSTART;TZID=America/Chicago:20261012T093000
DTEND;TZID=America/Chicago:20261012T103000
DTSTAMP:20260423T105218
CREATED:20251022T165412Z
LAST-MODIFIED:20251105T161614Z
UID:10042142-1791797400-1791801000@www.heartwoodcenter.com
SUMMARY:Therapeutic Group Class
DESCRIPTION:Every Monday from 9:30am-10:30am \n$35\, sliding scale available \nFor more information and to register\, click HERE.
URL:https://www.heartwoodcenter.com/event/therapeutic-group-class/2026-10-12/
LOCATION:Heartwood\, 1818 Dempster Street\, Evanston\, IL\, 60202\, United States
CATEGORIES:Classes
GEO:42.040868;-87.698614
X-APPLE-STRUCTURED-LOCATION;VALUE=URI;X-ADDRESS=Heartwood 1818 Dempster Street Evanston IL 60202 United States;X-APPLE-RADIUS=500;X-TITLE=1818 Dempster Street:geo:-87.698614,42.040868
END:VEVENT
BEGIN:VEVENT
DTSTART;TZID=America/Chicago:20261019T093000
DTEND;TZID=America/Chicago:20261019T103000
DTSTAMP:20260423T105218
CREATED:20251022T165412Z
LAST-MODIFIED:20251105T161614Z
UID:10042143-1792402200-1792405800@www.heartwoodcenter.com
SUMMARY:Therapeutic Group Class
DESCRIPTION:Every Monday from 9:30am-10:30am \n$35\, sliding scale available \nFor more information and to register\, click HERE.
URL:https://www.heartwoodcenter.com/event/therapeutic-group-class/2026-10-19/
LOCATION:Heartwood\, 1818 Dempster Street\, Evanston\, IL\, 60202\, United States
CATEGORIES:Classes
GEO:42.040868;-87.698614
X-APPLE-STRUCTURED-LOCATION;VALUE=URI;X-ADDRESS=Heartwood 1818 Dempster Street Evanston IL 60202 United States;X-APPLE-RADIUS=500;X-TITLE=1818 Dempster Street:geo:-87.698614,42.040868
END:VEVENT
BEGIN:VEVENT
DTSTART;TZID=America/Chicago:20261026T093000
DTEND;TZID=America/Chicago:20261026T103000
DTSTAMP:20260423T105218
CREATED:20251022T165412Z
LAST-MODIFIED:20251105T161614Z
UID:10042144-1793007000-1793010600@www.heartwoodcenter.com
SUMMARY:Therapeutic Group Class
DESCRIPTION:Every Monday from 9:30am-10:30am \n$35\, sliding scale available \nFor more information and to register\, click HERE.
URL:https://www.heartwoodcenter.com/event/therapeutic-group-class/2026-10-26/
LOCATION:Heartwood\, 1818 Dempster Street\, Evanston\, IL\, 60202\, United States
CATEGORIES:Classes
GEO:42.040868;-87.698614
X-APPLE-STRUCTURED-LOCATION;VALUE=URI;X-ADDRESS=Heartwood 1818 Dempster Street Evanston IL 60202 United States;X-APPLE-RADIUS=500;X-TITLE=1818 Dempster Street:geo:-87.698614,42.040868
END:VEVENT
BEGIN:VEVENT
DTSTART;TZID=America/Chicago:20261102T093000
DTEND;TZID=America/Chicago:20261102T103000
DTSTAMP:20260423T105218
CREATED:20251022T165412Z
LAST-MODIFIED:20251105T161614Z
UID:10042145-1793611800-1793615400@www.heartwoodcenter.com
SUMMARY:Therapeutic Group Class
DESCRIPTION:Every Monday from 9:30am-10:30am \n$35\, sliding scale available \nFor more information and to register\, click HERE.
URL:https://www.heartwoodcenter.com/event/therapeutic-group-class/2026-11-02/
LOCATION:Heartwood\, 1818 Dempster Street\, Evanston\, IL\, 60202\, United States
CATEGORIES:Classes
GEO:42.040868;-87.698614
X-APPLE-STRUCTURED-LOCATION;VALUE=URI;X-ADDRESS=Heartwood 1818 Dempster Street Evanston IL 60202 United States;X-APPLE-RADIUS=500;X-TITLE=1818 Dempster Street:geo:-87.698614,42.040868
END:VEVENT
BEGIN:VEVENT
DTSTART;TZID=America/Chicago:20261109T093000
DTEND;TZID=America/Chicago:20261109T103000
DTSTAMP:20260423T105218
CREATED:20251022T165412Z
LAST-MODIFIED:20251105T161614Z
UID:10042146-1794216600-1794220200@www.heartwoodcenter.com
SUMMARY:Therapeutic Group Class
DESCRIPTION:Every Monday from 9:30am-10:30am \n$35\, sliding scale available \nFor more information and to register\, click HERE.
URL:https://www.heartwoodcenter.com/event/therapeutic-group-class/2026-11-09/
LOCATION:Heartwood\, 1818 Dempster Street\, Evanston\, IL\, 60202\, United States
CATEGORIES:Classes
GEO:42.040868;-87.698614
X-APPLE-STRUCTURED-LOCATION;VALUE=URI;X-ADDRESS=Heartwood 1818 Dempster Street Evanston IL 60202 United States;X-APPLE-RADIUS=500;X-TITLE=1818 Dempster Street:geo:-87.698614,42.040868
END:VEVENT
BEGIN:VEVENT
DTSTART;TZID=America/Chicago:20261116T093000
DTEND;TZID=America/Chicago:20261116T103000
DTSTAMP:20260423T105218
CREATED:20251022T165412Z
LAST-MODIFIED:20251105T161614Z
UID:10042147-1794821400-1794825000@www.heartwoodcenter.com
SUMMARY:Therapeutic Group Class
DESCRIPTION:Every Monday from 9:30am-10:30am \n$35\, sliding scale available \nFor more information and to register\, click HERE.
URL:https://www.heartwoodcenter.com/event/therapeutic-group-class/2026-11-16/
LOCATION:Heartwood\, 1818 Dempster Street\, Evanston\, IL\, 60202\, United States
CATEGORIES:Classes
GEO:42.040868;-87.698614
X-APPLE-STRUCTURED-LOCATION;VALUE=URI;X-ADDRESS=Heartwood 1818 Dempster Street Evanston IL 60202 United States;X-APPLE-RADIUS=500;X-TITLE=1818 Dempster Street:geo:-87.698614,42.040868
END:VEVENT
END:VCALENDAR