BEGIN:VCALENDAR
VERSION:2.0
PRODID:-//Heartwood - ECPv6.13.2.1//NONSGML v1.0//EN
CALSCALE:GREGORIAN
METHOD:PUBLISH
X-WR-CALNAME:Heartwood
X-ORIGINAL-URL:https://www.heartwoodcenter.com
X-WR-CALDESC:Events for Heartwood
REFRESH-INTERVAL;VALUE=DURATION:PT1H
X-Robots-Tag:noindex
X-PUBLISHED-TTL:PT1H
BEGIN:VTIMEZONE
TZID:America/Chicago
BEGIN:DAYLIGHT
TZOFFSETFROM:-0600
TZOFFSETTO:-0500
TZNAME:CDT
DTSTART:20260308T080000
END:DAYLIGHT
BEGIN:STANDARD
TZOFFSETFROM:-0500
TZOFFSETTO:-0600
TZNAME:CST
DTSTART:20261101T070000
END:STANDARD
END:VTIMEZONE
BEGIN:VEVENT
DTSTART;TZID=America/Chicago:20260711T190000
DTEND;TZID=America/Chicago:20260711T201500
DTSTAMP:20260423T173652
CREATED:20240117T182304Z
LAST-MODIFIED:20240806T184938Z
UID:10040688-1783796400-1783800900@www.heartwoodcenter.com
SUMMARY:MAC TALLA: Somatic Sweat
DESCRIPTION:MAC TALLA: Somatic Sweat\nSecond Saturdays 7:00pm – 8:15pm\nHeartwood Yoga Room\n$20\, sliding scale available \nSomatic cardio\, strength and mindfulness. Simple movements\, repeated to music\, build internal sensation. Simple mantras\, repeated\, release restrictions. Simple breath patterns\, repeated\, provoke and settle. The outcome is a stronger\, calmer you\, fully present to whatever life sends your way. Yoga mats provided. Be barefoot or bring gym shoes.
URL:https://www.heartwoodcenter.com/event/mac-talla-somatic-sweat/2026-07-11/
LOCATION:Heartwood\, 1818 Dempster Street\, Evanston\, IL\, 60202\, United States
CATEGORIES:Classes
GEO:42.040868;-87.698614
X-APPLE-STRUCTURED-LOCATION;VALUE=URI;X-ADDRESS=Heartwood 1818 Dempster Street Evanston IL 60202 United States;X-APPLE-RADIUS=500;X-TITLE=1818 Dempster Street:geo:-87.698614,42.040868
END:VEVENT
END:VCALENDAR