BEGIN:VCALENDAR
VERSION:2.0
PRODID:-//Heartwood - ECPv6.13.2.1//NONSGML v1.0//EN
CALSCALE:GREGORIAN
METHOD:PUBLISH
X-WR-CALNAME:Heartwood
X-ORIGINAL-URL:https://www.heartwoodcenter.com
X-WR-CALDESC:Events for Heartwood
REFRESH-INTERVAL;VALUE=DURATION:PT1H
X-Robots-Tag:noindex
X-PUBLISHED-TTL:PT1H
BEGIN:VTIMEZONE
TZID:America/Chicago
BEGIN:DAYLIGHT
TZOFFSETFROM:-0600
TZOFFSETTO:-0500
TZNAME:CDT
DTSTART:20290311T080000
END:DAYLIGHT
BEGIN:STANDARD
TZOFFSETFROM:-0500
TZOFFSETTO:-0600
TZNAME:CST
DTSTART:20291104T070000
END:STANDARD
END:VTIMEZONE
BEGIN:VEVENT
DTSTART;TZID=America/Chicago:20290402T093000
DTEND;TZID=America/Chicago:20290402T103000
DTSTAMP:20260425T170149
CREATED:20251022T165412Z
LAST-MODIFIED:20251105T161614Z
UID:10042271-1869816600-1869820200@www.heartwoodcenter.com
SUMMARY:Therapeutic Group Class
DESCRIPTION:Every Monday from 9:30am-10:30am \n$35\, sliding scale available \nFor more information and to register\, click HERE.
URL:https://www.heartwoodcenter.com/event/therapeutic-group-class/2029-04-02/
LOCATION:Heartwood\, 1818 Dempster Street\, Evanston\, IL\, 60202\, United States
CATEGORIES:Classes
GEO:42.040868;-87.698614
X-APPLE-STRUCTURED-LOCATION;VALUE=URI;X-ADDRESS=Heartwood 1818 Dempster Street Evanston IL 60202 United States;X-APPLE-RADIUS=500;X-TITLE=1818 Dempster Street:geo:-87.698614,42.040868
END:VEVENT
BEGIN:VEVENT
DTSTART;TZID=America/Chicago:20290409T093000
DTEND;TZID=America/Chicago:20290409T103000
DTSTAMP:20260425T170149
CREATED:20251022T165412Z
LAST-MODIFIED:20251105T161614Z
UID:10042272-1870421400-1870425000@www.heartwoodcenter.com
SUMMARY:Therapeutic Group Class
DESCRIPTION:Every Monday from 9:30am-10:30am \n$35\, sliding scale available \nFor more information and to register\, click HERE.
URL:https://www.heartwoodcenter.com/event/therapeutic-group-class/2029-04-09/
LOCATION:Heartwood\, 1818 Dempster Street\, Evanston\, IL\, 60202\, United States
CATEGORIES:Classes
GEO:42.040868;-87.698614
X-APPLE-STRUCTURED-LOCATION;VALUE=URI;X-ADDRESS=Heartwood 1818 Dempster Street Evanston IL 60202 United States;X-APPLE-RADIUS=500;X-TITLE=1818 Dempster Street:geo:-87.698614,42.040868
END:VEVENT
BEGIN:VEVENT
DTSTART;TZID=America/Chicago:20290416T093000
DTEND;TZID=America/Chicago:20290416T103000
DTSTAMP:20260425T170149
CREATED:20251022T165412Z
LAST-MODIFIED:20251105T161614Z
UID:10042273-1871026200-1871029800@www.heartwoodcenter.com
SUMMARY:Therapeutic Group Class
DESCRIPTION:Every Monday from 9:30am-10:30am \n$35\, sliding scale available \nFor more information and to register\, click HERE.
URL:https://www.heartwoodcenter.com/event/therapeutic-group-class/2029-04-16/
LOCATION:Heartwood\, 1818 Dempster Street\, Evanston\, IL\, 60202\, United States
CATEGORIES:Classes
GEO:42.040868;-87.698614
X-APPLE-STRUCTURED-LOCATION;VALUE=URI;X-ADDRESS=Heartwood 1818 Dempster Street Evanston IL 60202 United States;X-APPLE-RADIUS=500;X-TITLE=1818 Dempster Street:geo:-87.698614,42.040868
END:VEVENT
BEGIN:VEVENT
DTSTART;TZID=America/Chicago:20290423T093000
DTEND;TZID=America/Chicago:20290423T103000
DTSTAMP:20260425T170149
CREATED:20251022T165412Z
LAST-MODIFIED:20251105T161614Z
UID:10042274-1871631000-1871634600@www.heartwoodcenter.com
SUMMARY:Therapeutic Group Class
DESCRIPTION:Every Monday from 9:30am-10:30am \n$35\, sliding scale available \nFor more information and to register\, click HERE.
URL:https://www.heartwoodcenter.com/event/therapeutic-group-class/2029-04-23/
LOCATION:Heartwood\, 1818 Dempster Street\, Evanston\, IL\, 60202\, United States
CATEGORIES:Classes
GEO:42.040868;-87.698614
X-APPLE-STRUCTURED-LOCATION;VALUE=URI;X-ADDRESS=Heartwood 1818 Dempster Street Evanston IL 60202 United States;X-APPLE-RADIUS=500;X-TITLE=1818 Dempster Street:geo:-87.698614,42.040868
END:VEVENT
BEGIN:VEVENT
DTSTART;TZID=America/Chicago:20290430T093000
DTEND;TZID=America/Chicago:20290430T103000
DTSTAMP:20260425T170149
CREATED:20251022T165412Z
LAST-MODIFIED:20251105T161614Z
UID:10042275-1872235800-1872239400@www.heartwoodcenter.com
SUMMARY:Therapeutic Group Class
DESCRIPTION:Every Monday from 9:30am-10:30am \n$35\, sliding scale available \nFor more information and to register\, click HERE.
URL:https://www.heartwoodcenter.com/event/therapeutic-group-class/2029-04-30/
LOCATION:Heartwood\, 1818 Dempster Street\, Evanston\, IL\, 60202\, United States
CATEGORIES:Classes
GEO:42.040868;-87.698614
X-APPLE-STRUCTURED-LOCATION;VALUE=URI;X-ADDRESS=Heartwood 1818 Dempster Street Evanston IL 60202 United States;X-APPLE-RADIUS=500;X-TITLE=1818 Dempster Street:geo:-87.698614,42.040868
END:VEVENT
END:VCALENDAR