BEGIN:VCALENDAR
VERSION:2.0
PRODID:-//Heartwood - ECPv6.13.2.1//NONSGML v1.0//EN
CALSCALE:GREGORIAN
METHOD:PUBLISH
X-WR-CALNAME:Heartwood
X-ORIGINAL-URL:https://www.heartwoodcenter.com
X-WR-CALDESC:Events for Heartwood
REFRESH-INTERVAL;VALUE=DURATION:PT1H
X-Robots-Tag:noindex
X-PUBLISHED-TTL:PT1H
BEGIN:VTIMEZONE
TZID:America/Chicago
BEGIN:DAYLIGHT
TZOFFSETFROM:-0600
TZOFFSETTO:-0500
TZNAME:CDT
DTSTART:20280312T080000
END:DAYLIGHT
BEGIN:STANDARD
TZOFFSETFROM:-0500
TZOFFSETTO:-0600
TZNAME:CST
DTSTART:20281105T070000
END:STANDARD
END:VTIMEZONE
BEGIN:VEVENT
DTSTART;TZID=America/Chicago:20280303T093000
DTEND;TZID=America/Chicago:20280303T103000
DTSTAMP:20260424T213629
CREATED:20260113T170340Z
LAST-MODIFIED:20260113T170340Z
UID:10044613-1835688600-1835692200@www.heartwoodcenter.com
SUMMARY:Yoga for Strength
DESCRIPTION:Drop in or buy a package. \nLearn more here: https://www.yogatherapywithsarah.com/book-online-1
URL:https://www.heartwoodcenter.com/event/yoga-for-strength-2/2028-03-03/
LOCATION:Heartwood\, 1818 Dempster Street\, Evanston\, IL\, 60202\, United States
CATEGORIES:Classes
GEO:42.040868;-87.698614
X-APPLE-STRUCTURED-LOCATION;VALUE=URI;X-ADDRESS=Heartwood 1818 Dempster Street Evanston IL 60202 United States;X-APPLE-RADIUS=500;X-TITLE=1818 Dempster Street:geo:-87.698614,42.040868
END:VEVENT
BEGIN:VEVENT
DTSTART;TZID=America/Chicago:20280310T093000
DTEND;TZID=America/Chicago:20280310T103000
DTSTAMP:20260424T213629
CREATED:20260113T170340Z
LAST-MODIFIED:20260113T170340Z
UID:10044614-1836293400-1836297000@www.heartwoodcenter.com
SUMMARY:Yoga for Strength
DESCRIPTION:Drop in or buy a package. \nLearn more here: https://www.yogatherapywithsarah.com/book-online-1
URL:https://www.heartwoodcenter.com/event/yoga-for-strength-2/2028-03-10/
LOCATION:Heartwood\, 1818 Dempster Street\, Evanston\, IL\, 60202\, United States
CATEGORIES:Classes
GEO:42.040868;-87.698614
X-APPLE-STRUCTURED-LOCATION;VALUE=URI;X-ADDRESS=Heartwood 1818 Dempster Street Evanston IL 60202 United States;X-APPLE-RADIUS=500;X-TITLE=1818 Dempster Street:geo:-87.698614,42.040868
END:VEVENT
BEGIN:VEVENT
DTSTART;TZID=America/Chicago:20280317T093000
DTEND;TZID=America/Chicago:20280317T103000
DTSTAMP:20260424T213629
CREATED:20260113T170340Z
LAST-MODIFIED:20260113T170340Z
UID:10044615-1836898200-1836901800@www.heartwoodcenter.com
SUMMARY:Yoga for Strength
DESCRIPTION:Drop in or buy a package. \nLearn more here: https://www.yogatherapywithsarah.com/book-online-1
URL:https://www.heartwoodcenter.com/event/yoga-for-strength-2/2028-03-17/
LOCATION:Heartwood\, 1818 Dempster Street\, Evanston\, IL\, 60202\, United States
CATEGORIES:Classes
GEO:42.040868;-87.698614
X-APPLE-STRUCTURED-LOCATION;VALUE=URI;X-ADDRESS=Heartwood 1818 Dempster Street Evanston IL 60202 United States;X-APPLE-RADIUS=500;X-TITLE=1818 Dempster Street:geo:-87.698614,42.040868
END:VEVENT
BEGIN:VEVENT
DTSTART;TZID=America/Chicago:20280324T093000
DTEND;TZID=America/Chicago:20280324T103000
DTSTAMP:20260424T213629
CREATED:20260113T170340Z
LAST-MODIFIED:20260113T170340Z
UID:10044616-1837503000-1837506600@www.heartwoodcenter.com
SUMMARY:Yoga for Strength
DESCRIPTION:Drop in or buy a package. \nLearn more here: https://www.yogatherapywithsarah.com/book-online-1
URL:https://www.heartwoodcenter.com/event/yoga-for-strength-2/2028-03-24/
LOCATION:Heartwood\, 1818 Dempster Street\, Evanston\, IL\, 60202\, United States
CATEGORIES:Classes
GEO:42.040868;-87.698614
X-APPLE-STRUCTURED-LOCATION;VALUE=URI;X-ADDRESS=Heartwood 1818 Dempster Street Evanston IL 60202 United States;X-APPLE-RADIUS=500;X-TITLE=1818 Dempster Street:geo:-87.698614,42.040868
END:VEVENT
BEGIN:VEVENT
DTSTART;TZID=America/Chicago:20280331T093000
DTEND;TZID=America/Chicago:20280331T103000
DTSTAMP:20260424T213629
CREATED:20260113T170340Z
LAST-MODIFIED:20260113T170340Z
UID:10044617-1838107800-1838111400@www.heartwoodcenter.com
SUMMARY:Yoga for Strength
DESCRIPTION:Drop in or buy a package. \nLearn more here: https://www.yogatherapywithsarah.com/book-online-1
URL:https://www.heartwoodcenter.com/event/yoga-for-strength-2/2028-03-31/
LOCATION:Heartwood\, 1818 Dempster Street\, Evanston\, IL\, 60202\, United States
CATEGORIES:Classes
GEO:42.040868;-87.698614
X-APPLE-STRUCTURED-LOCATION;VALUE=URI;X-ADDRESS=Heartwood 1818 Dempster Street Evanston IL 60202 United States;X-APPLE-RADIUS=500;X-TITLE=1818 Dempster Street:geo:-87.698614,42.040868
END:VEVENT
END:VCALENDAR