BEGIN:VCALENDAR
VERSION:2.0
PRODID:-//Heartwood - ECPv6.13.2.1//NONSGML v1.0//EN
CALSCALE:GREGORIAN
METHOD:PUBLISH
X-WR-CALNAME:Heartwood
X-ORIGINAL-URL:https://www.heartwoodcenter.com
X-WR-CALDESC:Events for Heartwood
REFRESH-INTERVAL;VALUE=DURATION:PT1H
X-Robots-Tag:noindex
X-PUBLISHED-TTL:PT1H
BEGIN:VTIMEZONE
TZID:America/Chicago
BEGIN:DAYLIGHT
TZOFFSETFROM:-0600
TZOFFSETTO:-0500
TZNAME:CDT
DTSTART:20270314T080000
END:DAYLIGHT
BEGIN:STANDARD
TZOFFSETFROM:-0500
TZOFFSETTO:-0600
TZNAME:CST
DTSTART:20271107T070000
END:STANDARD
END:VTIMEZONE
BEGIN:VEVENT
DTSTART;TZID=America/Chicago:20271203T093000
DTEND;TZID=America/Chicago:20271203T103000
DTSTAMP:20260424T170958
CREATED:20260113T170340Z
LAST-MODIFIED:20260113T170340Z
UID:10044600-1827826200-1827829800@www.heartwoodcenter.com
SUMMARY:Yoga for Strength
DESCRIPTION:Drop in or buy a package. \nLearn more here: https://www.yogatherapywithsarah.com/book-online-1
URL:https://www.heartwoodcenter.com/event/yoga-for-strength-2/2027-12-03/
LOCATION:Heartwood\, 1818 Dempster Street\, Evanston\, IL\, 60202\, United States
CATEGORIES:Classes
GEO:42.040868;-87.698614
X-APPLE-STRUCTURED-LOCATION;VALUE=URI;X-ADDRESS=Heartwood 1818 Dempster Street Evanston IL 60202 United States;X-APPLE-RADIUS=500;X-TITLE=1818 Dempster Street:geo:-87.698614,42.040868
END:VEVENT
BEGIN:VEVENT
DTSTART;TZID=America/Chicago:20271210T093000
DTEND;TZID=America/Chicago:20271210T103000
DTSTAMP:20260424T170958
CREATED:20260113T170340Z
LAST-MODIFIED:20260113T170340Z
UID:10044601-1828431000-1828434600@www.heartwoodcenter.com
SUMMARY:Yoga for Strength
DESCRIPTION:Drop in or buy a package. \nLearn more here: https://www.yogatherapywithsarah.com/book-online-1
URL:https://www.heartwoodcenter.com/event/yoga-for-strength-2/2027-12-10/
LOCATION:Heartwood\, 1818 Dempster Street\, Evanston\, IL\, 60202\, United States
CATEGORIES:Classes
GEO:42.040868;-87.698614
X-APPLE-STRUCTURED-LOCATION;VALUE=URI;X-ADDRESS=Heartwood 1818 Dempster Street Evanston IL 60202 United States;X-APPLE-RADIUS=500;X-TITLE=1818 Dempster Street:geo:-87.698614,42.040868
END:VEVENT
BEGIN:VEVENT
DTSTART;TZID=America/Chicago:20271217T093000
DTEND;TZID=America/Chicago:20271217T103000
DTSTAMP:20260424T170958
CREATED:20260113T170340Z
LAST-MODIFIED:20260113T170340Z
UID:10044602-1829035800-1829039400@www.heartwoodcenter.com
SUMMARY:Yoga for Strength
DESCRIPTION:Drop in or buy a package. \nLearn more here: https://www.yogatherapywithsarah.com/book-online-1
URL:https://www.heartwoodcenter.com/event/yoga-for-strength-2/2027-12-17/
LOCATION:Heartwood\, 1818 Dempster Street\, Evanston\, IL\, 60202\, United States
CATEGORIES:Classes
GEO:42.040868;-87.698614
X-APPLE-STRUCTURED-LOCATION;VALUE=URI;X-ADDRESS=Heartwood 1818 Dempster Street Evanston IL 60202 United States;X-APPLE-RADIUS=500;X-TITLE=1818 Dempster Street:geo:-87.698614,42.040868
END:VEVENT
BEGIN:VEVENT
DTSTART;TZID=America/Chicago:20271224T093000
DTEND;TZID=America/Chicago:20271224T103000
DTSTAMP:20260424T170958
CREATED:20260113T170340Z
LAST-MODIFIED:20260113T170340Z
UID:10044603-1829640600-1829644200@www.heartwoodcenter.com
SUMMARY:Yoga for Strength
DESCRIPTION:Drop in or buy a package. \nLearn more here: https://www.yogatherapywithsarah.com/book-online-1
URL:https://www.heartwoodcenter.com/event/yoga-for-strength-2/2027-12-24/
LOCATION:Heartwood\, 1818 Dempster Street\, Evanston\, IL\, 60202\, United States
CATEGORIES:Classes
GEO:42.040868;-87.698614
X-APPLE-STRUCTURED-LOCATION;VALUE=URI;X-ADDRESS=Heartwood 1818 Dempster Street Evanston IL 60202 United States;X-APPLE-RADIUS=500;X-TITLE=1818 Dempster Street:geo:-87.698614,42.040868
END:VEVENT
BEGIN:VEVENT
DTSTART;TZID=America/Chicago:20271231T093000
DTEND;TZID=America/Chicago:20271231T103000
DTSTAMP:20260424T170958
CREATED:20260113T170340Z
LAST-MODIFIED:20260113T170340Z
UID:10044604-1830245400-1830249000@www.heartwoodcenter.com
SUMMARY:Yoga for Strength
DESCRIPTION:Drop in or buy a package. \nLearn more here: https://www.yogatherapywithsarah.com/book-online-1
URL:https://www.heartwoodcenter.com/event/yoga-for-strength-2/2027-12-31/
LOCATION:Heartwood\, 1818 Dempster Street\, Evanston\, IL\, 60202\, United States
CATEGORIES:Classes
GEO:42.040868;-87.698614
X-APPLE-STRUCTURED-LOCATION;VALUE=URI;X-ADDRESS=Heartwood 1818 Dempster Street Evanston IL 60202 United States;X-APPLE-RADIUS=500;X-TITLE=1818 Dempster Street:geo:-87.698614,42.040868
END:VEVENT
END:VCALENDAR