BEGIN:VCALENDAR
VERSION:2.0
PRODID:-//Heartwood - ECPv6.13.2.1//NONSGML v1.0//EN
CALSCALE:GREGORIAN
METHOD:PUBLISH
X-ORIGINAL-URL:https://www.heartwoodcenter.com
X-WR-CALDESC:Events for Heartwood
REFRESH-INTERVAL;VALUE=DURATION:PT1H
X-Robots-Tag:noindex
X-PUBLISHED-TTL:PT1H
BEGIN:VTIMEZONE
TZID:America/Chicago
BEGIN:DAYLIGHT
TZOFFSETFROM:-0600
TZOFFSETTO:-0500
TZNAME:CDT
DTSTART:20260308T080000
END:DAYLIGHT
BEGIN:STANDARD
TZOFFSETFROM:-0500
TZOFFSETTO:-0600
TZNAME:CST
DTSTART:20261101T070000
END:STANDARD
END:VTIMEZONE
BEGIN:VEVENT
DTSTART;TZID=America/Chicago:20260807T100000
DTEND;TZID=America/Chicago:20260807T113000
DTSTAMP:20260423T172523
CREATED:20260128T181017Z
LAST-MODIFIED:20260204T004410Z
UID:10044843-1786096800-1786102200@www.heartwoodcenter.com
SUMMARY:The Stress-Less Mother Course - 8-Week Series
DESCRIPTION:A powerful in-person experience for overwhelmed\, busy mothers who want more calm\, confidence\, and connection — without guilt or burnout. \nYou love your children deeply — and yet you’re exhausted\, overstimulated\, and often questioning yourself. You’re doing everything\, but it still feels like you’re falling short. \nThe Stress-Less Mother is an 8-week\, in-person group designed to help busy parents slow down\, support their nervous system\, and parent from a place of calm confidence instead of constant reaction. This is not about becoming a “perfect” mother. It’s about becoming a grounded\, present\, regulated one — even on hard days. \nIn this 8-week experience\, you will: \n\n\nBreak the cycle of overwhelm\, guilt\, and emotional burnout \n\n\nLearn how to calm your nervous system so stress doesn’t run your day \n\n\nStop snapping\, overreacting\, or shutting down when things get intense \n\n\nRespond to your children with clarity instead of reacting from exhaustion \n\n\nBuild confidence in your parenting choices without second-guessing yourself \n\n\nDevelop deep self-compassion and release the pressure to “do it all” \n\n\nUnderstand your emotional triggers and learn how to work with them \n\n\nCreate a clear vision for the mother\, and woman\, you want to be \n\n\nStrengthen trust\, connection\, and emotional safety in your family \n\n\nWhat makes this different: \nThis is a live\, in-person experience held in a beautiful shrine room\, intentionally designed to help you slow down\, feel supported\, and truly connect — with yourself and with other mothers who get it. \nEach session includes: \n\n\nA grounding mindfulness or nervous-system regulation practice and methods to use at home \n\n\n\n\nA teaching focused on real-life parenting stress \n\n\n\n\nReflective journaling prompts \n\n\nSupportive\, guided group discussion \n\n\nWhat’s included: \n\n\n8 in-person group sessions (90 minutes each) \n\n\nTwo private one-on-one sessions for personalized support \n\n\nSpecial bonus handouts\, worksheets\, and reflection tools \n\n\nTake-home practices you can use immediately in daily life \n\n\nPrivate online group to connect\, reflect\, and receive support between sessions \n\n\nBy the end of this experience\, you will leave feeling: \n• More grounded and emotionally steady\n• Clearer in your values and parenting choices\n• Confident in how you respond\,even during stressful moments\n• More connected to your children and yourself\n• Less reactive\, less overwhelmed\, and more at ease \nThis is support for the long term not quick fixes. \nProgram Details \nDates: Fridays\, March 20th – May 8th \nTime: Fridays\, 10:00 am – 11:30 am \nLocation: In-person (Shrine Room) 1818 Dempster Street\, Evanston\, at the Heartwood Center \nInvestment: $697.00 or two payments at $350.00 each. \nLEARN MORE.
URL:https://www.heartwoodcenter.com/event/the-stress-less-mother-course/2026-08-07/
LOCATION:Heartwood\, 1818 Dempster Street\, Evanston\, IL\, 60202\, United States
CATEGORIES:Classes
GEO:42.040868;-87.698614
X-APPLE-STRUCTURED-LOCATION;VALUE=URI;X-ADDRESS=Heartwood 1818 Dempster Street Evanston IL 60202 United States;X-APPLE-RADIUS=500;X-TITLE=1818 Dempster Street:geo:-87.698614,42.040868
END:VEVENT
BEGIN:VEVENT
DTSTART;TZID=America/Chicago:20260814T100000
DTEND;TZID=America/Chicago:20260814T113000
DTSTAMP:20260423T172523
CREATED:20260128T181017Z
LAST-MODIFIED:20260204T004410Z
UID:10044844-1786701600-1786707000@www.heartwoodcenter.com
SUMMARY:The Stress-Less Mother Course - 8-Week Series
DESCRIPTION:A powerful in-person experience for overwhelmed\, busy mothers who want more calm\, confidence\, and connection — without guilt or burnout. \nYou love your children deeply — and yet you’re exhausted\, overstimulated\, and often questioning yourself. You’re doing everything\, but it still feels like you’re falling short. \nThe Stress-Less Mother is an 8-week\, in-person group designed to help busy parents slow down\, support their nervous system\, and parent from a place of calm confidence instead of constant reaction. This is not about becoming a “perfect” mother. It’s about becoming a grounded\, present\, regulated one — even on hard days. \nIn this 8-week experience\, you will: \n\n\nBreak the cycle of overwhelm\, guilt\, and emotional burnout \n\n\nLearn how to calm your nervous system so stress doesn’t run your day \n\n\nStop snapping\, overreacting\, or shutting down when things get intense \n\n\nRespond to your children with clarity instead of reacting from exhaustion \n\n\nBuild confidence in your parenting choices without second-guessing yourself \n\n\nDevelop deep self-compassion and release the pressure to “do it all” \n\n\nUnderstand your emotional triggers and learn how to work with them \n\n\nCreate a clear vision for the mother\, and woman\, you want to be \n\n\nStrengthen trust\, connection\, and emotional safety in your family \n\n\nWhat makes this different: \nThis is a live\, in-person experience held in a beautiful shrine room\, intentionally designed to help you slow down\, feel supported\, and truly connect — with yourself and with other mothers who get it. \nEach session includes: \n\n\nA grounding mindfulness or nervous-system regulation practice and methods to use at home \n\n\n\n\nA teaching focused on real-life parenting stress \n\n\n\n\nReflective journaling prompts \n\n\nSupportive\, guided group discussion \n\n\nWhat’s included: \n\n\n8 in-person group sessions (90 minutes each) \n\n\nTwo private one-on-one sessions for personalized support \n\n\nSpecial bonus handouts\, worksheets\, and reflection tools \n\n\nTake-home practices you can use immediately in daily life \n\n\nPrivate online group to connect\, reflect\, and receive support between sessions \n\n\nBy the end of this experience\, you will leave feeling: \n• More grounded and emotionally steady\n• Clearer in your values and parenting choices\n• Confident in how you respond\,even during stressful moments\n• More connected to your children and yourself\n• Less reactive\, less overwhelmed\, and more at ease \nThis is support for the long term not quick fixes. \nProgram Details \nDates: Fridays\, March 20th – May 8th \nTime: Fridays\, 10:00 am – 11:30 am \nLocation: In-person (Shrine Room) 1818 Dempster Street\, Evanston\, at the Heartwood Center \nInvestment: $697.00 or two payments at $350.00 each. \nLEARN MORE.
URL:https://www.heartwoodcenter.com/event/the-stress-less-mother-course/2026-08-14/
LOCATION:Heartwood\, 1818 Dempster Street\, Evanston\, IL\, 60202\, United States
CATEGORIES:Classes
GEO:42.040868;-87.698614
X-APPLE-STRUCTURED-LOCATION;VALUE=URI;X-ADDRESS=Heartwood 1818 Dempster Street Evanston IL 60202 United States;X-APPLE-RADIUS=500;X-TITLE=1818 Dempster Street:geo:-87.698614,42.040868
END:VEVENT
BEGIN:VEVENT
DTSTART;TZID=America/Chicago:20260821T100000
DTEND;TZID=America/Chicago:20260821T113000
DTSTAMP:20260423T172523
CREATED:20260128T181017Z
LAST-MODIFIED:20260204T004410Z
UID:10044845-1787306400-1787311800@www.heartwoodcenter.com
SUMMARY:The Stress-Less Mother Course - 8-Week Series
DESCRIPTION:A powerful in-person experience for overwhelmed\, busy mothers who want more calm\, confidence\, and connection — without guilt or burnout. \nYou love your children deeply — and yet you’re exhausted\, overstimulated\, and often questioning yourself. You’re doing everything\, but it still feels like you’re falling short. \nThe Stress-Less Mother is an 8-week\, in-person group designed to help busy parents slow down\, support their nervous system\, and parent from a place of calm confidence instead of constant reaction. This is not about becoming a “perfect” mother. It’s about becoming a grounded\, present\, regulated one — even on hard days. \nIn this 8-week experience\, you will: \n\n\nBreak the cycle of overwhelm\, guilt\, and emotional burnout \n\n\nLearn how to calm your nervous system so stress doesn’t run your day \n\n\nStop snapping\, overreacting\, or shutting down when things get intense \n\n\nRespond to your children with clarity instead of reacting from exhaustion \n\n\nBuild confidence in your parenting choices without second-guessing yourself \n\n\nDevelop deep self-compassion and release the pressure to “do it all” \n\n\nUnderstand your emotional triggers and learn how to work with them \n\n\nCreate a clear vision for the mother\, and woman\, you want to be \n\n\nStrengthen trust\, connection\, and emotional safety in your family \n\n\nWhat makes this different: \nThis is a live\, in-person experience held in a beautiful shrine room\, intentionally designed to help you slow down\, feel supported\, and truly connect — with yourself and with other mothers who get it. \nEach session includes: \n\n\nA grounding mindfulness or nervous-system regulation practice and methods to use at home \n\n\n\n\nA teaching focused on real-life parenting stress \n\n\n\n\nReflective journaling prompts \n\n\nSupportive\, guided group discussion \n\n\nWhat’s included: \n\n\n8 in-person group sessions (90 minutes each) \n\n\nTwo private one-on-one sessions for personalized support \n\n\nSpecial bonus handouts\, worksheets\, and reflection tools \n\n\nTake-home practices you can use immediately in daily life \n\n\nPrivate online group to connect\, reflect\, and receive support between sessions \n\n\nBy the end of this experience\, you will leave feeling: \n• More grounded and emotionally steady\n• Clearer in your values and parenting choices\n• Confident in how you respond\,even during stressful moments\n• More connected to your children and yourself\n• Less reactive\, less overwhelmed\, and more at ease \nThis is support for the long term not quick fixes. \nProgram Details \nDates: Fridays\, March 20th – May 8th \nTime: Fridays\, 10:00 am – 11:30 am \nLocation: In-person (Shrine Room) 1818 Dempster Street\, Evanston\, at the Heartwood Center \nInvestment: $697.00 or two payments at $350.00 each. \nLEARN MORE.
URL:https://www.heartwoodcenter.com/event/the-stress-less-mother-course/2026-08-21/
LOCATION:Heartwood\, 1818 Dempster Street\, Evanston\, IL\, 60202\, United States
CATEGORIES:Classes
GEO:42.040868;-87.698614
X-APPLE-STRUCTURED-LOCATION;VALUE=URI;X-ADDRESS=Heartwood 1818 Dempster Street Evanston IL 60202 United States;X-APPLE-RADIUS=500;X-TITLE=1818 Dempster Street:geo:-87.698614,42.040868
END:VEVENT
BEGIN:VEVENT
DTSTART;TZID=America/Chicago:20260828T100000
DTEND;TZID=America/Chicago:20260828T113000
DTSTAMP:20260423T172523
CREATED:20260128T181017Z
LAST-MODIFIED:20260204T004410Z
UID:10044846-1787911200-1787916600@www.heartwoodcenter.com
SUMMARY:The Stress-Less Mother Course - 8-Week Series
DESCRIPTION:A powerful in-person experience for overwhelmed\, busy mothers who want more calm\, confidence\, and connection — without guilt or burnout. \nYou love your children deeply — and yet you’re exhausted\, overstimulated\, and often questioning yourself. You’re doing everything\, but it still feels like you’re falling short. \nThe Stress-Less Mother is an 8-week\, in-person group designed to help busy parents slow down\, support their nervous system\, and parent from a place of calm confidence instead of constant reaction. This is not about becoming a “perfect” mother. It’s about becoming a grounded\, present\, regulated one — even on hard days. \nIn this 8-week experience\, you will: \n\n\nBreak the cycle of overwhelm\, guilt\, and emotional burnout \n\n\nLearn how to calm your nervous system so stress doesn’t run your day \n\n\nStop snapping\, overreacting\, or shutting down when things get intense \n\n\nRespond to your children with clarity instead of reacting from exhaustion \n\n\nBuild confidence in your parenting choices without second-guessing yourself \n\n\nDevelop deep self-compassion and release the pressure to “do it all” \n\n\nUnderstand your emotional triggers and learn how to work with them \n\n\nCreate a clear vision for the mother\, and woman\, you want to be \n\n\nStrengthen trust\, connection\, and emotional safety in your family \n\n\nWhat makes this different: \nThis is a live\, in-person experience held in a beautiful shrine room\, intentionally designed to help you slow down\, feel supported\, and truly connect — with yourself and with other mothers who get it. \nEach session includes: \n\n\nA grounding mindfulness or nervous-system regulation practice and methods to use at home \n\n\n\n\nA teaching focused on real-life parenting stress \n\n\n\n\nReflective journaling prompts \n\n\nSupportive\, guided group discussion \n\n\nWhat’s included: \n\n\n8 in-person group sessions (90 minutes each) \n\n\nTwo private one-on-one sessions for personalized support \n\n\nSpecial bonus handouts\, worksheets\, and reflection tools \n\n\nTake-home practices you can use immediately in daily life \n\n\nPrivate online group to connect\, reflect\, and receive support between sessions \n\n\nBy the end of this experience\, you will leave feeling: \n• More grounded and emotionally steady\n• Clearer in your values and parenting choices\n• Confident in how you respond\,even during stressful moments\n• More connected to your children and yourself\n• Less reactive\, less overwhelmed\, and more at ease \nThis is support for the long term not quick fixes. \nProgram Details \nDates: Fridays\, March 20th – May 8th \nTime: Fridays\, 10:00 am – 11:30 am \nLocation: In-person (Shrine Room) 1818 Dempster Street\, Evanston\, at the Heartwood Center \nInvestment: $697.00 or two payments at $350.00 each. \nLEARN MORE.
URL:https://www.heartwoodcenter.com/event/the-stress-less-mother-course/2026-08-28/
LOCATION:Heartwood\, 1818 Dempster Street\, Evanston\, IL\, 60202\, United States
CATEGORIES:Classes
GEO:42.040868;-87.698614
X-APPLE-STRUCTURED-LOCATION;VALUE=URI;X-ADDRESS=Heartwood 1818 Dempster Street Evanston IL 60202 United States;X-APPLE-RADIUS=500;X-TITLE=1818 Dempster Street:geo:-87.698614,42.040868
END:VEVENT
END:VCALENDAR