BEGIN:VCALENDAR
VERSION:2.0
PRODID:-//Heartwood - ECPv6.13.2.1//NONSGML v1.0//EN
CALSCALE:GREGORIAN
METHOD:PUBLISH
X-WR-CALNAME:Heartwood
X-ORIGINAL-URL:https://www.heartwoodcenter.com
X-WR-CALDESC:Events for Heartwood
REFRESH-INTERVAL;VALUE=DURATION:PT1H
X-Robots-Tag:noindex
X-PUBLISHED-TTL:PT1H
BEGIN:VTIMEZONE
TZID:America/Chicago
BEGIN:DAYLIGHT
TZOFFSETFROM:-0600
TZOFFSETTO:-0500
TZNAME:CDT
DTSTART:20260308T080000
END:DAYLIGHT
BEGIN:STANDARD
TZOFFSETFROM:-0500
TZOFFSETTO:-0600
TZNAME:CST
DTSTART:20261101T070000
END:STANDARD
END:VTIMEZONE
BEGIN:VEVENT
DTSTART;TZID=America/Chicago:20260803T093000
DTEND;TZID=America/Chicago:20260803T103000
DTSTAMP:20260423T172609
CREATED:20251022T165412Z
LAST-MODIFIED:20251105T161614Z
UID:10042132-1785749400-1785753000@www.heartwoodcenter.com
SUMMARY:Therapeutic Group Class
DESCRIPTION:Every Monday from 9:30am-10:30am \n$35\, sliding scale available \nFor more information and to register\, click HERE.
URL:https://www.heartwoodcenter.com/event/therapeutic-group-class/2026-08-03/
LOCATION:Heartwood\, 1818 Dempster Street\, Evanston\, IL\, 60202\, United States
CATEGORIES:Classes
GEO:42.040868;-87.698614
X-APPLE-STRUCTURED-LOCATION;VALUE=URI;X-ADDRESS=Heartwood 1818 Dempster Street Evanston IL 60202 United States;X-APPLE-RADIUS=500;X-TITLE=1818 Dempster Street:geo:-87.698614,42.040868
END:VEVENT
BEGIN:VEVENT
DTSTART;TZID=America/Chicago:20260810T093000
DTEND;TZID=America/Chicago:20260810T103000
DTSTAMP:20260423T172609
CREATED:20251022T165412Z
LAST-MODIFIED:20251105T161614Z
UID:10042133-1786354200-1786357800@www.heartwoodcenter.com
SUMMARY:Therapeutic Group Class
DESCRIPTION:Every Monday from 9:30am-10:30am \n$35\, sliding scale available \nFor more information and to register\, click HERE.
URL:https://www.heartwoodcenter.com/event/therapeutic-group-class/2026-08-10/
LOCATION:Heartwood\, 1818 Dempster Street\, Evanston\, IL\, 60202\, United States
CATEGORIES:Classes
GEO:42.040868;-87.698614
X-APPLE-STRUCTURED-LOCATION;VALUE=URI;X-ADDRESS=Heartwood 1818 Dempster Street Evanston IL 60202 United States;X-APPLE-RADIUS=500;X-TITLE=1818 Dempster Street:geo:-87.698614,42.040868
END:VEVENT
BEGIN:VEVENT
DTSTART;TZID=America/Chicago:20260817T093000
DTEND;TZID=America/Chicago:20260817T103000
DTSTAMP:20260423T172609
CREATED:20251022T165412Z
LAST-MODIFIED:20251105T161614Z
UID:10042134-1786959000-1786962600@www.heartwoodcenter.com
SUMMARY:Therapeutic Group Class
DESCRIPTION:Every Monday from 9:30am-10:30am \n$35\, sliding scale available \nFor more information and to register\, click HERE.
URL:https://www.heartwoodcenter.com/event/therapeutic-group-class/2026-08-17/
LOCATION:Heartwood\, 1818 Dempster Street\, Evanston\, IL\, 60202\, United States
CATEGORIES:Classes
GEO:42.040868;-87.698614
X-APPLE-STRUCTURED-LOCATION;VALUE=URI;X-ADDRESS=Heartwood 1818 Dempster Street Evanston IL 60202 United States;X-APPLE-RADIUS=500;X-TITLE=1818 Dempster Street:geo:-87.698614,42.040868
END:VEVENT
BEGIN:VEVENT
DTSTART;TZID=America/Chicago:20260824T093000
DTEND;TZID=America/Chicago:20260824T103000
DTSTAMP:20260423T172609
CREATED:20251022T165412Z
LAST-MODIFIED:20251105T161614Z
UID:10042135-1787563800-1787567400@www.heartwoodcenter.com
SUMMARY:Therapeutic Group Class
DESCRIPTION:Every Monday from 9:30am-10:30am \n$35\, sliding scale available \nFor more information and to register\, click HERE.
URL:https://www.heartwoodcenter.com/event/therapeutic-group-class/2026-08-24/
LOCATION:Heartwood\, 1818 Dempster Street\, Evanston\, IL\, 60202\, United States
CATEGORIES:Classes
GEO:42.040868;-87.698614
X-APPLE-STRUCTURED-LOCATION;VALUE=URI;X-ADDRESS=Heartwood 1818 Dempster Street Evanston IL 60202 United States;X-APPLE-RADIUS=500;X-TITLE=1818 Dempster Street:geo:-87.698614,42.040868
END:VEVENT
BEGIN:VEVENT
DTSTART;TZID=America/Chicago:20260831T093000
DTEND;TZID=America/Chicago:20260831T103000
DTSTAMP:20260423T172609
CREATED:20251022T165412Z
LAST-MODIFIED:20251105T161614Z
UID:10042136-1788168600-1788172200@www.heartwoodcenter.com
SUMMARY:Therapeutic Group Class
DESCRIPTION:Every Monday from 9:30am-10:30am \n$35\, sliding scale available \nFor more information and to register\, click HERE.
URL:https://www.heartwoodcenter.com/event/therapeutic-group-class/2026-08-31/
LOCATION:Heartwood\, 1818 Dempster Street\, Evanston\, IL\, 60202\, United States
CATEGORIES:Classes
GEO:42.040868;-87.698614
X-APPLE-STRUCTURED-LOCATION;VALUE=URI;X-ADDRESS=Heartwood 1818 Dempster Street Evanston IL 60202 United States;X-APPLE-RADIUS=500;X-TITLE=1818 Dempster Street:geo:-87.698614,42.040868
END:VEVENT
END:VCALENDAR