BEGIN:VCALENDAR
VERSION:2.0
PRODID:-//Heartwood - ECPv6.13.2.1//NONSGML v1.0//EN
CALSCALE:GREGORIAN
METHOD:PUBLISH
X-WR-CALNAME:Heartwood
X-ORIGINAL-URL:https://www.heartwoodcenter.com
X-WR-CALDESC:Events for Heartwood
REFRESH-INTERVAL;VALUE=DURATION:PT1H
X-Robots-Tag:noindex
X-PUBLISHED-TTL:PT1H
BEGIN:VTIMEZONE
TZID:America/Chicago
BEGIN:DAYLIGHT
TZOFFSETFROM:-0600
TZOFFSETTO:-0500
TZNAME:CDT
DTSTART:20260308T080000
END:DAYLIGHT
BEGIN:STANDARD
TZOFFSETFROM:-0500
TZOFFSETTO:-0600
TZNAME:CST
DTSTART:20261101T070000
END:STANDARD
END:VTIMEZONE
BEGIN:VEVENT
DTSTART;TZID=America/Chicago:20260703T173000
DTEND;TZID=America/Chicago:20260703T190000
DTSTAMP:20260423T150513
CREATED:20210616T130451Z
LAST-MODIFIED:20260210T234622Z
UID:10041536-1783099800-1783105200@www.heartwoodcenter.com
SUMMARY:Friday Meditation Class
DESCRIPTION:Friday Meditation Class\, led by Larry Akey and Nancy Floy\n  \n5:30pm – 7:00pm (via Zoom until early May 2026) \nOur text is Flight of the Garuda by Lama Shabkar Tsogdruk Rangdrol\, a 19th century wandering yogi from Amdo in the eastern part of Tibet. This beautifully poetic text comprises twenty-three songs that aid our practice of trekchö\, cutting through delusion to natural primordial awareness. \nEmail Larry (email address Lakey0752@gmail.com) or at (202)580-9313 for the key code to enter the building or further information. \nDonations appreciated.
URL:https://www.heartwoodcenter.com/event/friday-meditation-class/2026-07-03/
LOCATION:Heartwood\, 1818 Dempster Street\, Evanston\, IL\, 60202\, United States
CATEGORIES:Classes,Sangha Meditation
GEO:42.040868;-87.698614
X-APPLE-STRUCTURED-LOCATION;VALUE=URI;X-ADDRESS=Heartwood 1818 Dempster Street Evanston IL 60202 United States;X-APPLE-RADIUS=500;X-TITLE=1818 Dempster Street:geo:-87.698614,42.040868
END:VEVENT
BEGIN:VEVENT
DTSTART;TZID=America/Chicago:20260710T173000
DTEND;TZID=America/Chicago:20260710T190000
DTSTAMP:20260423T150513
CREATED:20210616T130451Z
LAST-MODIFIED:20260210T234622Z
UID:10041537-1783704600-1783710000@www.heartwoodcenter.com
SUMMARY:Friday Meditation Class
DESCRIPTION:Friday Meditation Class\, led by Larry Akey and Nancy Floy\n  \n5:30pm – 7:00pm (via Zoom until early May 2026) \nOur text is Flight of the Garuda by Lama Shabkar Tsogdruk Rangdrol\, a 19th century wandering yogi from Amdo in the eastern part of Tibet. This beautifully poetic text comprises twenty-three songs that aid our practice of trekchö\, cutting through delusion to natural primordial awareness. \nEmail Larry (email address Lakey0752@gmail.com) or at (202)580-9313 for the key code to enter the building or further information. \nDonations appreciated.
URL:https://www.heartwoodcenter.com/event/friday-meditation-class/2026-07-10/
LOCATION:Heartwood\, 1818 Dempster Street\, Evanston\, IL\, 60202\, United States
CATEGORIES:Classes,Sangha Meditation
GEO:42.040868;-87.698614
X-APPLE-STRUCTURED-LOCATION;VALUE=URI;X-ADDRESS=Heartwood 1818 Dempster Street Evanston IL 60202 United States;X-APPLE-RADIUS=500;X-TITLE=1818 Dempster Street:geo:-87.698614,42.040868
END:VEVENT
BEGIN:VEVENT
DTSTART;TZID=America/Chicago:20260717T173000
DTEND;TZID=America/Chicago:20260717T190000
DTSTAMP:20260423T150513
CREATED:20210616T130451Z
LAST-MODIFIED:20260210T234622Z
UID:10041538-1784309400-1784314800@www.heartwoodcenter.com
SUMMARY:Friday Meditation Class
DESCRIPTION:Friday Meditation Class\, led by Larry Akey and Nancy Floy\n  \n5:30pm – 7:00pm (via Zoom until early May 2026) \nOur text is Flight of the Garuda by Lama Shabkar Tsogdruk Rangdrol\, a 19th century wandering yogi from Amdo in the eastern part of Tibet. This beautifully poetic text comprises twenty-three songs that aid our practice of trekchö\, cutting through delusion to natural primordial awareness. \nEmail Larry (email address Lakey0752@gmail.com) or at (202)580-9313 for the key code to enter the building or further information. \nDonations appreciated.
URL:https://www.heartwoodcenter.com/event/friday-meditation-class/2026-07-17/
LOCATION:Heartwood\, 1818 Dempster Street\, Evanston\, IL\, 60202\, United States
CATEGORIES:Classes,Sangha Meditation
GEO:42.040868;-87.698614
X-APPLE-STRUCTURED-LOCATION;VALUE=URI;X-ADDRESS=Heartwood 1818 Dempster Street Evanston IL 60202 United States;X-APPLE-RADIUS=500;X-TITLE=1818 Dempster Street:geo:-87.698614,42.040868
END:VEVENT
BEGIN:VEVENT
DTSTART;TZID=America/Chicago:20260724T173000
DTEND;TZID=America/Chicago:20260724T190000
DTSTAMP:20260423T150513
CREATED:20210616T130451Z
LAST-MODIFIED:20260210T234622Z
UID:10041539-1784914200-1784919600@www.heartwoodcenter.com
SUMMARY:Friday Meditation Class
DESCRIPTION:Friday Meditation Class\, led by Larry Akey and Nancy Floy\n  \n5:30pm – 7:00pm (via Zoom until early May 2026) \nOur text is Flight of the Garuda by Lama Shabkar Tsogdruk Rangdrol\, a 19th century wandering yogi from Amdo in the eastern part of Tibet. This beautifully poetic text comprises twenty-three songs that aid our practice of trekchö\, cutting through delusion to natural primordial awareness. \nEmail Larry (email address Lakey0752@gmail.com) or at (202)580-9313 for the key code to enter the building or further information. \nDonations appreciated.
URL:https://www.heartwoodcenter.com/event/friday-meditation-class/2026-07-24/
LOCATION:Heartwood\, 1818 Dempster Street\, Evanston\, IL\, 60202\, United States
CATEGORIES:Classes,Sangha Meditation
GEO:42.040868;-87.698614
X-APPLE-STRUCTURED-LOCATION;VALUE=URI;X-ADDRESS=Heartwood 1818 Dempster Street Evanston IL 60202 United States;X-APPLE-RADIUS=500;X-TITLE=1818 Dempster Street:geo:-87.698614,42.040868
END:VEVENT
BEGIN:VEVENT
DTSTART;TZID=America/Chicago:20260731T173000
DTEND;TZID=America/Chicago:20260731T190000
DTSTAMP:20260423T150513
CREATED:20210616T130451Z
LAST-MODIFIED:20260210T234622Z
UID:10043247-1785519000-1785524400@www.heartwoodcenter.com
SUMMARY:Friday Meditation Class
DESCRIPTION:Friday Meditation Class\, led by Larry Akey and Nancy Floy\n  \n5:30pm – 7:00pm (via Zoom until early May 2026) \nOur text is Flight of the Garuda by Lama Shabkar Tsogdruk Rangdrol\, a 19th century wandering yogi from Amdo in the eastern part of Tibet. This beautifully poetic text comprises twenty-three songs that aid our practice of trekchö\, cutting through delusion to natural primordial awareness. \nEmail Larry (email address Lakey0752@gmail.com) or at (202)580-9313 for the key code to enter the building or further information. \nDonations appreciated.
URL:https://www.heartwoodcenter.com/event/friday-meditation-class/2026-07-31/
LOCATION:Heartwood\, 1818 Dempster Street\, Evanston\, IL\, 60202\, United States
CATEGORIES:Classes,Sangha Meditation
GEO:42.040868;-87.698614
X-APPLE-STRUCTURED-LOCATION;VALUE=URI;X-ADDRESS=Heartwood 1818 Dempster Street Evanston IL 60202 United States;X-APPLE-RADIUS=500;X-TITLE=1818 Dempster Street:geo:-87.698614,42.040868
END:VEVENT
END:VCALENDAR