BEGIN:VCALENDAR
VERSION:2.0
PRODID:-//Heartwood - ECPv6.13.2.1//NONSGML v1.0//EN
CALSCALE:GREGORIAN
METHOD:PUBLISH
X-ORIGINAL-URL:https://www.heartwoodcenter.com
X-WR-CALDESC:Events for Heartwood
REFRESH-INTERVAL;VALUE=DURATION:PT1H
X-Robots-Tag:noindex
X-PUBLISHED-TTL:PT1H
BEGIN:VTIMEZONE
TZID:America/Chicago
BEGIN:DAYLIGHT
TZOFFSETFROM:-0600
TZOFFSETTO:-0500
TZNAME:CDT
DTSTART:20260308T080000
END:DAYLIGHT
BEGIN:STANDARD
TZOFFSETFROM:-0500
TZOFFSETTO:-0600
TZNAME:CST
DTSTART:20261101T070000
END:STANDARD
END:VTIMEZONE
BEGIN:VEVENT
DTSTART;TZID=America/Chicago:20260603T173000
DTEND;TZID=America/Chicago:20260603T183000
DTSTAMP:20260423T150501
CREATED:20260304T203418Z
LAST-MODIFIED:20260310T180923Z
UID:10045145-1780507800-1780511400@www.heartwoodcenter.com
SUMMARY:Wednesday Evening Yoga
DESCRIPTION:https://roots-centered-yoga.lovable.app/
URL:https://www.heartwoodcenter.com/event/wednesday-evening-yoga/2026-06-03/
LOCATION:Heartwood\, 1818 Dempster Street\, Evanston\, IL\, 60202\, United States
CATEGORIES:Classes
GEO:42.040868;-87.698614
X-APPLE-STRUCTURED-LOCATION;VALUE=URI;X-ADDRESS=Heartwood 1818 Dempster Street Evanston IL 60202 United States;X-APPLE-RADIUS=500;X-TITLE=1818 Dempster Street:geo:-87.698614,42.040868
END:VEVENT
BEGIN:VEVENT
DTSTART;TZID=America/Chicago:20260610T173000
DTEND;TZID=America/Chicago:20260610T183000
DTSTAMP:20260423T150501
CREATED:20260304T203418Z
LAST-MODIFIED:20260310T180923Z
UID:10045146-1781112600-1781116200@www.heartwoodcenter.com
SUMMARY:Wednesday Evening Yoga
DESCRIPTION:https://roots-centered-yoga.lovable.app/
URL:https://www.heartwoodcenter.com/event/wednesday-evening-yoga/2026-06-10/
LOCATION:Heartwood\, 1818 Dempster Street\, Evanston\, IL\, 60202\, United States
CATEGORIES:Classes
GEO:42.040868;-87.698614
X-APPLE-STRUCTURED-LOCATION;VALUE=URI;X-ADDRESS=Heartwood 1818 Dempster Street Evanston IL 60202 United States;X-APPLE-RADIUS=500;X-TITLE=1818 Dempster Street:geo:-87.698614,42.040868
END:VEVENT
BEGIN:VEVENT
DTSTART;TZID=America/Chicago:20260617T173000
DTEND;TZID=America/Chicago:20260617T183000
DTSTAMP:20260423T150501
CREATED:20260304T203418Z
LAST-MODIFIED:20260310T180923Z
UID:10045147-1781717400-1781721000@www.heartwoodcenter.com
SUMMARY:Wednesday Evening Yoga
DESCRIPTION:https://roots-centered-yoga.lovable.app/
URL:https://www.heartwoodcenter.com/event/wednesday-evening-yoga/2026-06-17/
LOCATION:Heartwood\, 1818 Dempster Street\, Evanston\, IL\, 60202\, United States
CATEGORIES:Classes
GEO:42.040868;-87.698614
X-APPLE-STRUCTURED-LOCATION;VALUE=URI;X-ADDRESS=Heartwood 1818 Dempster Street Evanston IL 60202 United States;X-APPLE-RADIUS=500;X-TITLE=1818 Dempster Street:geo:-87.698614,42.040868
END:VEVENT
BEGIN:VEVENT
DTSTART;TZID=America/Chicago:20260624T173000
DTEND;TZID=America/Chicago:20260624T183000
DTSTAMP:20260423T150501
CREATED:20260304T203418Z
LAST-MODIFIED:20260310T180923Z
UID:10045148-1782322200-1782325800@www.heartwoodcenter.com
SUMMARY:Wednesday Evening Yoga
DESCRIPTION:https://roots-centered-yoga.lovable.app/
URL:https://www.heartwoodcenter.com/event/wednesday-evening-yoga/2026-06-24/
LOCATION:Heartwood\, 1818 Dempster Street\, Evanston\, IL\, 60202\, United States
CATEGORIES:Classes
GEO:42.040868;-87.698614
X-APPLE-STRUCTURED-LOCATION;VALUE=URI;X-ADDRESS=Heartwood 1818 Dempster Street Evanston IL 60202 United States;X-APPLE-RADIUS=500;X-TITLE=1818 Dempster Street:geo:-87.698614,42.040868
END:VEVENT
END:VCALENDAR