BEGIN:VCALENDAR
VERSION:2.0
PRODID:-//Heartwood - ECPv6.13.2.1//NONSGML v1.0//EN
CALSCALE:GREGORIAN
METHOD:PUBLISH
X-ORIGINAL-URL:https://www.heartwoodcenter.com
X-WR-CALDESC:Events for Heartwood
REFRESH-INTERVAL;VALUE=DURATION:PT1H
X-Robots-Tag:noindex
X-PUBLISHED-TTL:PT1H
BEGIN:VTIMEZONE
TZID:America/Chicago
BEGIN:DAYLIGHT
TZOFFSETFROM:-0600
TZOFFSETTO:-0500
TZNAME:CDT
DTSTART:20260308T080000
END:DAYLIGHT
BEGIN:STANDARD
TZOFFSETFROM:-0500
TZOFFSETTO:-0600
TZNAME:CST
DTSTART:20261101T070000
END:STANDARD
END:VTIMEZONE
BEGIN:VEVENT
DTSTART;TZID=America/Chicago:20260605T093000
DTEND;TZID=America/Chicago:20260605T103000
DTSTAMP:20260423T150501
CREATED:20260113T170340Z
LAST-MODIFIED:20260113T170340Z
UID:10044522-1780651800-1780655400@www.heartwoodcenter.com
SUMMARY:Yoga for Strength
DESCRIPTION:Drop in or buy a package. \nLearn more here: https://www.yogatherapywithsarah.com/book-online-1
URL:https://www.heartwoodcenter.com/event/yoga-for-strength-2/2026-06-05/
LOCATION:Heartwood\, 1818 Dempster Street\, Evanston\, IL\, 60202\, United States
CATEGORIES:Classes
GEO:42.040868;-87.698614
X-APPLE-STRUCTURED-LOCATION;VALUE=URI;X-ADDRESS=Heartwood 1818 Dempster Street Evanston IL 60202 United States;X-APPLE-RADIUS=500;X-TITLE=1818 Dempster Street:geo:-87.698614,42.040868
END:VEVENT
BEGIN:VEVENT
DTSTART;TZID=America/Chicago:20260612T093000
DTEND;TZID=America/Chicago:20260612T103000
DTSTAMP:20260423T150501
CREATED:20260113T170340Z
LAST-MODIFIED:20260113T170340Z
UID:10044523-1781256600-1781260200@www.heartwoodcenter.com
SUMMARY:Yoga for Strength
DESCRIPTION:Drop in or buy a package. \nLearn more here: https://www.yogatherapywithsarah.com/book-online-1
URL:https://www.heartwoodcenter.com/event/yoga-for-strength-2/2026-06-12/
LOCATION:Heartwood\, 1818 Dempster Street\, Evanston\, IL\, 60202\, United States
CATEGORIES:Classes
GEO:42.040868;-87.698614
X-APPLE-STRUCTURED-LOCATION;VALUE=URI;X-ADDRESS=Heartwood 1818 Dempster Street Evanston IL 60202 United States;X-APPLE-RADIUS=500;X-TITLE=1818 Dempster Street:geo:-87.698614,42.040868
END:VEVENT
BEGIN:VEVENT
DTSTART;TZID=America/Chicago:20260619T093000
DTEND;TZID=America/Chicago:20260619T103000
DTSTAMP:20260423T150501
CREATED:20260113T170340Z
LAST-MODIFIED:20260113T170340Z
UID:10044524-1781861400-1781865000@www.heartwoodcenter.com
SUMMARY:Yoga for Strength
DESCRIPTION:Drop in or buy a package. \nLearn more here: https://www.yogatherapywithsarah.com/book-online-1
URL:https://www.heartwoodcenter.com/event/yoga-for-strength-2/2026-06-19/
LOCATION:Heartwood\, 1818 Dempster Street\, Evanston\, IL\, 60202\, United States
CATEGORIES:Classes
GEO:42.040868;-87.698614
X-APPLE-STRUCTURED-LOCATION;VALUE=URI;X-ADDRESS=Heartwood 1818 Dempster Street Evanston IL 60202 United States;X-APPLE-RADIUS=500;X-TITLE=1818 Dempster Street:geo:-87.698614,42.040868
END:VEVENT
BEGIN:VEVENT
DTSTART;TZID=America/Chicago:20260626T093000
DTEND;TZID=America/Chicago:20260626T103000
DTSTAMP:20260423T150501
CREATED:20260113T170340Z
LAST-MODIFIED:20260113T170340Z
UID:10044525-1782466200-1782469800@www.heartwoodcenter.com
SUMMARY:Yoga for Strength
DESCRIPTION:Drop in or buy a package. \nLearn more here: https://www.yogatherapywithsarah.com/book-online-1
URL:https://www.heartwoodcenter.com/event/yoga-for-strength-2/2026-06-26/
LOCATION:Heartwood\, 1818 Dempster Street\, Evanston\, IL\, 60202\, United States
CATEGORIES:Classes
GEO:42.040868;-87.698614
X-APPLE-STRUCTURED-LOCATION;VALUE=URI;X-ADDRESS=Heartwood 1818 Dempster Street Evanston IL 60202 United States;X-APPLE-RADIUS=500;X-TITLE=1818 Dempster Street:geo:-87.698614,42.040868
END:VEVENT
END:VCALENDAR