BEGIN:VCALENDAR
VERSION:2.0
PRODID:-//Heartwood - ECPv6.13.2.1//NONSGML v1.0//EN
CALSCALE:GREGORIAN
METHOD:PUBLISH
X-ORIGINAL-URL:https://www.heartwoodcenter.com
X-WR-CALDESC:Events for Heartwood
REFRESH-INTERVAL;VALUE=DURATION:PT1H
X-Robots-Tag:noindex
X-PUBLISHED-TTL:PT1H
BEGIN:VTIMEZONE
TZID:America/Chicago
BEGIN:DAYLIGHT
TZOFFSETFROM:-0600
TZOFFSETTO:-0500
TZNAME:CDT
DTSTART:20260308T080000
END:DAYLIGHT
BEGIN:STANDARD
TZOFFSETFROM:-0500
TZOFFSETTO:-0600
TZNAME:CST
DTSTART:20261101T070000
END:STANDARD
END:VTIMEZONE
BEGIN:VEVENT
DTSTART;TZID=America/Chicago:20260602T173000
DTEND;TZID=America/Chicago:20260602T190000
DTSTAMP:20260423T150502
CREATED:20230621T141758Z
LAST-MODIFIED:20251218T151910Z
UID:10040336-1780421400-1780426800@www.heartwoodcenter.com
SUMMARY:Tuesday Sangha: Why We Meditate
DESCRIPTION:Tuesdays\, 5:30pm to 7pm. \n\n\n\n\nHeartwood’s sanghas are increasingly body-centered\, deeply curious about delving into a variety of meditative approaches while still honoring Siddhartha Gautama’s radical notion of sitting quietly until he understood suffering — and how to break free from it. Each session will open with a guided meditation\, progress to an exploration of new approaches and techniques\, dive into group practice exploring those techniques\, and end with discussion and Q&A. \n\n\n\n\n\n\n\n\n\n\n\n\n\n\n\n\n\n\n\n\n\nWe will spend the next several months studying the practices in Why We Meditate by Tsoknyi Rinpoche and Daniel Goleman. They offer a somewhat nontraditional\, body-centered approach to calm abiding and insight meditation. Whether you’re new to meditation or a seasoned practitioner looking to freshen up your practice\, we think you will find their approach helpful. You may find it useful to acquire a copy of their text for your own personal practice.\n\n\n\n\n\n\n\n\n\n\n\n\n\n\n\n\n\n\n\n  \n\n\nWhile drop-ins are always welcome\, the Sangha encourages repeat visits and the keeping of a journal to track your meditation pathway. Heartwood Sangha’s Nancy Floy and Larry Akey will guide the class\, with sangha members and guest practitioners encouraged to provide new perspectives and practices. \nNo charge; donations gratefully accepted. Please contact Larry for more information at (202)580-9313.
URL:https://www.heartwoodcenter.com/event/fall-winter-sangha/2026-06-02/
LOCATION:Heartwood\, 1818 Dempster Street\, Evanston\, IL\, 60202\, United States
CATEGORIES:Classes
GEO:42.040868;-87.698614
X-APPLE-STRUCTURED-LOCATION;VALUE=URI;X-ADDRESS=Heartwood 1818 Dempster Street Evanston IL 60202 United States;X-APPLE-RADIUS=500;X-TITLE=1818 Dempster Street:geo:-87.698614,42.040868
END:VEVENT
BEGIN:VEVENT
DTSTART;TZID=America/Chicago:20260609T173000
DTEND;TZID=America/Chicago:20260609T190000
DTSTAMP:20260423T150502
CREATED:20230621T141758Z
LAST-MODIFIED:20251218T151910Z
UID:10040337-1781026200-1781031600@www.heartwoodcenter.com
SUMMARY:Tuesday Sangha: Why We Meditate
DESCRIPTION:Tuesdays\, 5:30pm to 7pm. \n\n\n\n\nHeartwood’s sanghas are increasingly body-centered\, deeply curious about delving into a variety of meditative approaches while still honoring Siddhartha Gautama’s radical notion of sitting quietly until he understood suffering — and how to break free from it. Each session will open with a guided meditation\, progress to an exploration of new approaches and techniques\, dive into group practice exploring those techniques\, and end with discussion and Q&A. \n\n\n\n\n\n\n\n\n\n\n\n\n\n\n\n\n\n\n\n\n\nWe will spend the next several months studying the practices in Why We Meditate by Tsoknyi Rinpoche and Daniel Goleman. They offer a somewhat nontraditional\, body-centered approach to calm abiding and insight meditation. Whether you’re new to meditation or a seasoned practitioner looking to freshen up your practice\, we think you will find their approach helpful. You may find it useful to acquire a copy of their text for your own personal practice.\n\n\n\n\n\n\n\n\n\n\n\n\n\n\n\n\n\n\n\n  \n\n\nWhile drop-ins are always welcome\, the Sangha encourages repeat visits and the keeping of a journal to track your meditation pathway. Heartwood Sangha’s Nancy Floy and Larry Akey will guide the class\, with sangha members and guest practitioners encouraged to provide new perspectives and practices. \nNo charge; donations gratefully accepted. Please contact Larry for more information at (202)580-9313.
URL:https://www.heartwoodcenter.com/event/fall-winter-sangha/2026-06-09/
LOCATION:Heartwood\, 1818 Dempster Street\, Evanston\, IL\, 60202\, United States
CATEGORIES:Classes
GEO:42.040868;-87.698614
X-APPLE-STRUCTURED-LOCATION;VALUE=URI;X-ADDRESS=Heartwood 1818 Dempster Street Evanston IL 60202 United States;X-APPLE-RADIUS=500;X-TITLE=1818 Dempster Street:geo:-87.698614,42.040868
END:VEVENT
BEGIN:VEVENT
DTSTART;TZID=America/Chicago:20260616T173000
DTEND;TZID=America/Chicago:20260616T190000
DTSTAMP:20260423T150502
CREATED:20230621T141758Z
LAST-MODIFIED:20251218T151910Z
UID:10040338-1781631000-1781636400@www.heartwoodcenter.com
SUMMARY:Tuesday Sangha: Why We Meditate
DESCRIPTION:Tuesdays\, 5:30pm to 7pm. \n\n\n\n\nHeartwood’s sanghas are increasingly body-centered\, deeply curious about delving into a variety of meditative approaches while still honoring Siddhartha Gautama’s radical notion of sitting quietly until he understood suffering — and how to break free from it. Each session will open with a guided meditation\, progress to an exploration of new approaches and techniques\, dive into group practice exploring those techniques\, and end with discussion and Q&A. \n\n\n\n\n\n\n\n\n\n\n\n\n\n\n\n\n\n\n\n\n\nWe will spend the next several months studying the practices in Why We Meditate by Tsoknyi Rinpoche and Daniel Goleman. They offer a somewhat nontraditional\, body-centered approach to calm abiding and insight meditation. Whether you’re new to meditation or a seasoned practitioner looking to freshen up your practice\, we think you will find their approach helpful. You may find it useful to acquire a copy of their text for your own personal practice.\n\n\n\n\n\n\n\n\n\n\n\n\n\n\n\n\n\n\n\n  \n\n\nWhile drop-ins are always welcome\, the Sangha encourages repeat visits and the keeping of a journal to track your meditation pathway. Heartwood Sangha’s Nancy Floy and Larry Akey will guide the class\, with sangha members and guest practitioners encouraged to provide new perspectives and practices. \nNo charge; donations gratefully accepted. Please contact Larry for more information at (202)580-9313.
URL:https://www.heartwoodcenter.com/event/fall-winter-sangha/2026-06-16/
LOCATION:Heartwood\, 1818 Dempster Street\, Evanston\, IL\, 60202\, United States
CATEGORIES:Classes
GEO:42.040868;-87.698614
X-APPLE-STRUCTURED-LOCATION;VALUE=URI;X-ADDRESS=Heartwood 1818 Dempster Street Evanston IL 60202 United States;X-APPLE-RADIUS=500;X-TITLE=1818 Dempster Street:geo:-87.698614,42.040868
END:VEVENT
BEGIN:VEVENT
DTSTART;TZID=America/Chicago:20260623T173000
DTEND;TZID=America/Chicago:20260623T190000
DTSTAMP:20260423T150502
CREATED:20230621T141758Z
LAST-MODIFIED:20251218T151910Z
UID:10040339-1782235800-1782241200@www.heartwoodcenter.com
SUMMARY:Tuesday Sangha: Why We Meditate
DESCRIPTION:Tuesdays\, 5:30pm to 7pm. \n\n\n\n\nHeartwood’s sanghas are increasingly body-centered\, deeply curious about delving into a variety of meditative approaches while still honoring Siddhartha Gautama’s radical notion of sitting quietly until he understood suffering — and how to break free from it. Each session will open with a guided meditation\, progress to an exploration of new approaches and techniques\, dive into group practice exploring those techniques\, and end with discussion and Q&A. \n\n\n\n\n\n\n\n\n\n\n\n\n\n\n\n\n\n\n\n\n\nWe will spend the next several months studying the practices in Why We Meditate by Tsoknyi Rinpoche and Daniel Goleman. They offer a somewhat nontraditional\, body-centered approach to calm abiding and insight meditation. Whether you’re new to meditation or a seasoned practitioner looking to freshen up your practice\, we think you will find their approach helpful. You may find it useful to acquire a copy of their text for your own personal practice.\n\n\n\n\n\n\n\n\n\n\n\n\n\n\n\n\n\n\n\n  \n\n\nWhile drop-ins are always welcome\, the Sangha encourages repeat visits and the keeping of a journal to track your meditation pathway. Heartwood Sangha’s Nancy Floy and Larry Akey will guide the class\, with sangha members and guest practitioners encouraged to provide new perspectives and practices. \nNo charge; donations gratefully accepted. Please contact Larry for more information at (202)580-9313.
URL:https://www.heartwoodcenter.com/event/fall-winter-sangha/2026-06-23/
LOCATION:Heartwood\, 1818 Dempster Street\, Evanston\, IL\, 60202\, United States
CATEGORIES:Classes
GEO:42.040868;-87.698614
X-APPLE-STRUCTURED-LOCATION;VALUE=URI;X-ADDRESS=Heartwood 1818 Dempster Street Evanston IL 60202 United States;X-APPLE-RADIUS=500;X-TITLE=1818 Dempster Street:geo:-87.698614,42.040868
END:VEVENT
BEGIN:VEVENT
DTSTART;TZID=America/Chicago:20260630T173000
DTEND;TZID=America/Chicago:20260630T190000
DTSTAMP:20260423T150502
CREATED:20230621T141758Z
LAST-MODIFIED:20251218T151910Z
UID:10040340-1782840600-1782846000@www.heartwoodcenter.com
SUMMARY:Tuesday Sangha: Why We Meditate
DESCRIPTION:Tuesdays\, 5:30pm to 7pm. \n\n\n\n\nHeartwood’s sanghas are increasingly body-centered\, deeply curious about delving into a variety of meditative approaches while still honoring Siddhartha Gautama’s radical notion of sitting quietly until he understood suffering — and how to break free from it. Each session will open with a guided meditation\, progress to an exploration of new approaches and techniques\, dive into group practice exploring those techniques\, and end with discussion and Q&A. \n\n\n\n\n\n\n\n\n\n\n\n\n\n\n\n\n\n\n\n\n\nWe will spend the next several months studying the practices in Why We Meditate by Tsoknyi Rinpoche and Daniel Goleman. They offer a somewhat nontraditional\, body-centered approach to calm abiding and insight meditation. Whether you’re new to meditation or a seasoned practitioner looking to freshen up your practice\, we think you will find their approach helpful. You may find it useful to acquire a copy of their text for your own personal practice.\n\n\n\n\n\n\n\n\n\n\n\n\n\n\n\n\n\n\n\n  \n\n\nWhile drop-ins are always welcome\, the Sangha encourages repeat visits and the keeping of a journal to track your meditation pathway. Heartwood Sangha’s Nancy Floy and Larry Akey will guide the class\, with sangha members and guest practitioners encouraged to provide new perspectives and practices. \nNo charge; donations gratefully accepted. Please contact Larry for more information at (202)580-9313.
URL:https://www.heartwoodcenter.com/event/fall-winter-sangha/2026-06-30/
LOCATION:Heartwood\, 1818 Dempster Street\, Evanston\, IL\, 60202\, United States
CATEGORIES:Classes
GEO:42.040868;-87.698614
X-APPLE-STRUCTURED-LOCATION;VALUE=URI;X-ADDRESS=Heartwood 1818 Dempster Street Evanston IL 60202 United States;X-APPLE-RADIUS=500;X-TITLE=1818 Dempster Street:geo:-87.698614,42.040868
END:VEVENT
END:VCALENDAR