BEGIN:VCALENDAR
VERSION:2.0
PRODID:-//Heartwood - ECPv6.13.2.1//NONSGML v1.0//EN
CALSCALE:GREGORIAN
METHOD:PUBLISH
X-WR-CALNAME:Heartwood
X-ORIGINAL-URL:https://www.heartwoodcenter.com
X-WR-CALDESC:Events for Heartwood
REFRESH-INTERVAL;VALUE=DURATION:PT1H
X-Robots-Tag:noindex
X-PUBLISHED-TTL:PT1H
BEGIN:VTIMEZONE
TZID:America/Chicago
BEGIN:DAYLIGHT
TZOFFSETFROM:-0600
TZOFFSETTO:-0500
TZNAME:CDT
DTSTART:20260308T080000
END:DAYLIGHT
BEGIN:STANDARD
TZOFFSETFROM:-0500
TZOFFSETTO:-0600
TZNAME:CST
DTSTART:20261101T070000
END:STANDARD
END:VTIMEZONE
BEGIN:VEVENT
DTSTART;TZID=America/Chicago:20260507T180000
DTEND;TZID=America/Chicago:20260507T190000
DTSTAMP:20260423T133734
CREATED:20251120T152436Z
LAST-MODIFIED:20251120T152436Z
UID:10043495-1778176800-1778180400@www.heartwoodcenter.com
SUMMARY:Aikido
DESCRIPTION:Monday 7:15-8:15PM adults \nThursday 6-7pm Children & 7:15-8:15PM adults \nThe Lakeshore Aikido Club will start a new course dedicated to beginners\, adult and young adult. Please join us and embrace this modern Japanese martial art in a friendly and welcoming community in the heart of Evanston! \nAikido is a modern Japanese martial art (DO) based on the idea of harmonizing (AIKI) with your opponent to peacefully resolve conflict. The goal is subduing not harming. The Aikido practitioner uses circular movements and joint locks to redirect an attacker’s force and neutralize them. Aikido training is physically demanding\, but it doesn’t rely on strength. It emphasizes developing endurance\, flexibility\, stability\, and situational awareness. Aikido is a non-competitive activity\, and there are no tournaments. Instead\, students work with partners to improve their techniques. These include throws\, strikes\, pins\, and joint locks. The goal is to use the attacker’s momentum against them. \nAll beginners classes will be include the following aspects:\n– Body conditioning and stretching\n– Aikido safe falling and rolling (ukemi)\n– Martial arts principles\n– Understanding Aikido Self-defense\n– Aikido etiquette and values\n– “Silent meditation” (mokuso) and mindfulness\n– Aikido movements and postures\n– Aikido basic techniques (kihon waza) \nEvery enrolled student will receive complementary\n– Aikido Student Manual\n– Aikido LAC Student ID\n– Aikido uniform
URL:https://www.heartwoodcenter.com/event/aikido-5/2026-05-07/
CATEGORIES:Classes
END:VEVENT
BEGIN:VEVENT
DTSTART;TZID=America/Chicago:20260514T180000
DTEND;TZID=America/Chicago:20260514T190000
DTSTAMP:20260423T133734
CREATED:20251120T152436Z
LAST-MODIFIED:20251120T152436Z
UID:10043496-1778781600-1778785200@www.heartwoodcenter.com
SUMMARY:Aikido
DESCRIPTION:Monday 7:15-8:15PM adults \nThursday 6-7pm Children & 7:15-8:15PM adults \nThe Lakeshore Aikido Club will start a new course dedicated to beginners\, adult and young adult. Please join us and embrace this modern Japanese martial art in a friendly and welcoming community in the heart of Evanston! \nAikido is a modern Japanese martial art (DO) based on the idea of harmonizing (AIKI) with your opponent to peacefully resolve conflict. The goal is subduing not harming. The Aikido practitioner uses circular movements and joint locks to redirect an attacker’s force and neutralize them. Aikido training is physically demanding\, but it doesn’t rely on strength. It emphasizes developing endurance\, flexibility\, stability\, and situational awareness. Aikido is a non-competitive activity\, and there are no tournaments. Instead\, students work with partners to improve their techniques. These include throws\, strikes\, pins\, and joint locks. The goal is to use the attacker’s momentum against them. \nAll beginners classes will be include the following aspects:\n– Body conditioning and stretching\n– Aikido safe falling and rolling (ukemi)\n– Martial arts principles\n– Understanding Aikido Self-defense\n– Aikido etiquette and values\n– “Silent meditation” (mokuso) and mindfulness\n– Aikido movements and postures\n– Aikido basic techniques (kihon waza) \nEvery enrolled student will receive complementary\n– Aikido Student Manual\n– Aikido LAC Student ID\n– Aikido uniform
URL:https://www.heartwoodcenter.com/event/aikido-5/2026-05-14/
CATEGORIES:Classes
END:VEVENT
BEGIN:VEVENT
DTSTART;TZID=America/Chicago:20260521T180000
DTEND;TZID=America/Chicago:20260521T190000
DTSTAMP:20260423T133734
CREATED:20251120T152436Z
LAST-MODIFIED:20251120T152436Z
UID:10043497-1779386400-1779390000@www.heartwoodcenter.com
SUMMARY:Aikido
DESCRIPTION:Monday 7:15-8:15PM adults \nThursday 6-7pm Children & 7:15-8:15PM adults \nThe Lakeshore Aikido Club will start a new course dedicated to beginners\, adult and young adult. Please join us and embrace this modern Japanese martial art in a friendly and welcoming community in the heart of Evanston! \nAikido is a modern Japanese martial art (DO) based on the idea of harmonizing (AIKI) with your opponent to peacefully resolve conflict. The goal is subduing not harming. The Aikido practitioner uses circular movements and joint locks to redirect an attacker’s force and neutralize them. Aikido training is physically demanding\, but it doesn’t rely on strength. It emphasizes developing endurance\, flexibility\, stability\, and situational awareness. Aikido is a non-competitive activity\, and there are no tournaments. Instead\, students work with partners to improve their techniques. These include throws\, strikes\, pins\, and joint locks. The goal is to use the attacker’s momentum against them. \nAll beginners classes will be include the following aspects:\n– Body conditioning and stretching\n– Aikido safe falling and rolling (ukemi)\n– Martial arts principles\n– Understanding Aikido Self-defense\n– Aikido etiquette and values\n– “Silent meditation” (mokuso) and mindfulness\n– Aikido movements and postures\n– Aikido basic techniques (kihon waza) \nEvery enrolled student will receive complementary\n– Aikido Student Manual\n– Aikido LAC Student ID\n– Aikido uniform
URL:https://www.heartwoodcenter.com/event/aikido-5/2026-05-21/
CATEGORIES:Classes
END:VEVENT
BEGIN:VEVENT
DTSTART;TZID=America/Chicago:20260528T180000
DTEND;TZID=America/Chicago:20260528T190000
DTSTAMP:20260423T133734
CREATED:20251120T152436Z
LAST-MODIFIED:20251120T152436Z
UID:10043498-1779991200-1779994800@www.heartwoodcenter.com
SUMMARY:Aikido
DESCRIPTION:Monday 7:15-8:15PM adults \nThursday 6-7pm Children & 7:15-8:15PM adults \nThe Lakeshore Aikido Club will start a new course dedicated to beginners\, adult and young adult. Please join us and embrace this modern Japanese martial art in a friendly and welcoming community in the heart of Evanston! \nAikido is a modern Japanese martial art (DO) based on the idea of harmonizing (AIKI) with your opponent to peacefully resolve conflict. The goal is subduing not harming. The Aikido practitioner uses circular movements and joint locks to redirect an attacker’s force and neutralize them. Aikido training is physically demanding\, but it doesn’t rely on strength. It emphasizes developing endurance\, flexibility\, stability\, and situational awareness. Aikido is a non-competitive activity\, and there are no tournaments. Instead\, students work with partners to improve their techniques. These include throws\, strikes\, pins\, and joint locks. The goal is to use the attacker’s momentum against them. \nAll beginners classes will be include the following aspects:\n– Body conditioning and stretching\n– Aikido safe falling and rolling (ukemi)\n– Martial arts principles\n– Understanding Aikido Self-defense\n– Aikido etiquette and values\n– “Silent meditation” (mokuso) and mindfulness\n– Aikido movements and postures\n– Aikido basic techniques (kihon waza) \nEvery enrolled student will receive complementary\n– Aikido Student Manual\n– Aikido LAC Student ID\n– Aikido uniform
URL:https://www.heartwoodcenter.com/event/aikido-5/2026-05-28/
CATEGORIES:Classes
END:VEVENT
END:VCALENDAR