BEGIN:VCALENDAR
VERSION:2.0
PRODID:-//Heartwood - ECPv6.13.2.1//NONSGML v1.0//EN
CALSCALE:GREGORIAN
METHOD:PUBLISH
X-ORIGINAL-URL:https://www.heartwoodcenter.com
X-WR-CALDESC:Events for Heartwood
REFRESH-INTERVAL;VALUE=DURATION:PT1H
X-Robots-Tag:noindex
X-PUBLISHED-TTL:PT1H
BEGIN:VTIMEZONE
TZID:America/Chicago
BEGIN:DAYLIGHT
TZOFFSETFROM:-0600
TZOFFSETTO:-0500
TZNAME:CDT
DTSTART:20250309T080000
END:DAYLIGHT
BEGIN:STANDARD
TZOFFSETFROM:-0500
TZOFFSETTO:-0600
TZNAME:CST
DTSTART:20251102T070000
END:STANDARD
END:VTIMEZONE
BEGIN:VEVENT
DTSTART;TZID=America/Chicago:20251201T093000
DTEND;TZID=America/Chicago:20251201T103000
DTSTAMP:20260423T175526
CREATED:20251022T165412Z
LAST-MODIFIED:20251105T161614Z
UID:10042097-1764581400-1764585000@www.heartwoodcenter.com
SUMMARY:Therapeutic Group Class
DESCRIPTION:Every Monday from 9:30am-10:30am \n$35\, sliding scale available \nFor more information and to register\, click HERE.
URL:https://www.heartwoodcenter.com/event/therapeutic-group-class/2025-12-01/
LOCATION:Heartwood\, 1818 Dempster Street\, Evanston\, IL\, 60202\, United States
CATEGORIES:Classes
GEO:42.040868;-87.698614
X-APPLE-STRUCTURED-LOCATION;VALUE=URI;X-ADDRESS=Heartwood 1818 Dempster Street Evanston IL 60202 United States;X-APPLE-RADIUS=500;X-TITLE=1818 Dempster Street:geo:-87.698614,42.040868
END:VEVENT
BEGIN:VEVENT
DTSTART;TZID=America/Chicago:20251208T093000
DTEND;TZID=America/Chicago:20251208T103000
DTSTAMP:20260423T175526
CREATED:20251022T165412Z
LAST-MODIFIED:20251105T161614Z
UID:10042098-1765186200-1765189800@www.heartwoodcenter.com
SUMMARY:Therapeutic Group Class
DESCRIPTION:Every Monday from 9:30am-10:30am \n$35\, sliding scale available \nFor more information and to register\, click HERE.
URL:https://www.heartwoodcenter.com/event/therapeutic-group-class/2025-12-08/
LOCATION:Heartwood\, 1818 Dempster Street\, Evanston\, IL\, 60202\, United States
CATEGORIES:Classes
GEO:42.040868;-87.698614
X-APPLE-STRUCTURED-LOCATION;VALUE=URI;X-ADDRESS=Heartwood 1818 Dempster Street Evanston IL 60202 United States;X-APPLE-RADIUS=500;X-TITLE=1818 Dempster Street:geo:-87.698614,42.040868
END:VEVENT
BEGIN:VEVENT
DTSTART;TZID=America/Chicago:20251215T093000
DTEND;TZID=America/Chicago:20251215T103000
DTSTAMP:20260423T175526
CREATED:20251022T165412Z
LAST-MODIFIED:20251105T161614Z
UID:10042099-1765791000-1765794600@www.heartwoodcenter.com
SUMMARY:Therapeutic Group Class
DESCRIPTION:Every Monday from 9:30am-10:30am \n$35\, sliding scale available \nFor more information and to register\, click HERE.
URL:https://www.heartwoodcenter.com/event/therapeutic-group-class/2025-12-15/
LOCATION:Heartwood\, 1818 Dempster Street\, Evanston\, IL\, 60202\, United States
CATEGORIES:Classes
GEO:42.040868;-87.698614
X-APPLE-STRUCTURED-LOCATION;VALUE=URI;X-ADDRESS=Heartwood 1818 Dempster Street Evanston IL 60202 United States;X-APPLE-RADIUS=500;X-TITLE=1818 Dempster Street:geo:-87.698614,42.040868
END:VEVENT
BEGIN:VEVENT
DTSTART;TZID=America/Chicago:20251222T093000
DTEND;TZID=America/Chicago:20251222T103000
DTSTAMP:20260423T175526
CREATED:20251022T165412Z
LAST-MODIFIED:20251105T161614Z
UID:10042100-1766395800-1766399400@www.heartwoodcenter.com
SUMMARY:Therapeutic Group Class
DESCRIPTION:Every Monday from 9:30am-10:30am \n$35\, sliding scale available \nFor more information and to register\, click HERE.
URL:https://www.heartwoodcenter.com/event/therapeutic-group-class/2025-12-22/
LOCATION:Heartwood\, 1818 Dempster Street\, Evanston\, IL\, 60202\, United States
CATEGORIES:Classes
GEO:42.040868;-87.698614
X-APPLE-STRUCTURED-LOCATION;VALUE=URI;X-ADDRESS=Heartwood 1818 Dempster Street Evanston IL 60202 United States;X-APPLE-RADIUS=500;X-TITLE=1818 Dempster Street:geo:-87.698614,42.040868
END:VEVENT
BEGIN:VEVENT
DTSTART;TZID=America/Chicago:20251229T093000
DTEND;TZID=America/Chicago:20251229T103000
DTSTAMP:20260423T175526
CREATED:20251022T165412Z
LAST-MODIFIED:20251105T161614Z
UID:10042101-1767000600-1767004200@www.heartwoodcenter.com
SUMMARY:Therapeutic Group Class
DESCRIPTION:Every Monday from 9:30am-10:30am \n$35\, sliding scale available \nFor more information and to register\, click HERE.
URL:https://www.heartwoodcenter.com/event/therapeutic-group-class/2025-12-29/
LOCATION:Heartwood\, 1818 Dempster Street\, Evanston\, IL\, 60202\, United States
CATEGORIES:Classes
GEO:42.040868;-87.698614
X-APPLE-STRUCTURED-LOCATION;VALUE=URI;X-ADDRESS=Heartwood 1818 Dempster Street Evanston IL 60202 United States;X-APPLE-RADIUS=500;X-TITLE=1818 Dempster Street:geo:-87.698614,42.040868
END:VEVENT
END:VCALENDAR