BEGIN:VCALENDAR
VERSION:2.0
PRODID:-//Heartwood - ECPv6.13.2.1//NONSGML v1.0//EN
CALSCALE:GREGORIAN
METHOD:PUBLISH
X-ORIGINAL-URL:https://www.heartwoodcenter.com
X-WR-CALDESC:Events for Heartwood
REFRESH-INTERVAL;VALUE=DURATION:PT1H
X-Robots-Tag:noindex
X-PUBLISHED-TTL:PT1H
BEGIN:VTIMEZONE
TZID:America/Chicago
BEGIN:DAYLIGHT
TZOFFSETFROM:-0600
TZOFFSETTO:-0500
TZNAME:CDT
DTSTART:20250309T080000
END:DAYLIGHT
BEGIN:STANDARD
TZOFFSETFROM:-0500
TZOFFSETTO:-0600
TZNAME:CST
DTSTART:20251102T070000
END:STANDARD
END:VTIMEZONE
BEGIN:VEVENT
DTSTART;TZID=America/Chicago:20250120T093000
DTEND;TZID=America/Chicago:20250120T103000
DTSTAMP:20260425T113532
CREATED:20240524T182319Z
LAST-MODIFIED:20251105T163625Z
UID:10041802-1737365400-1737369000@www.heartwoodcenter.com
SUMMARY:Therapeutic Yoga Class
DESCRIPTION:Mondays 9:30-10:30am for 4 weeks. In-person only  \nThis friendly gentle yoga class is one of a kind in the Midwest! Certified Yoga Therapist Sarah Westbrook and her Assistant Yoga Teachers assign and guide each student through their own unique sequence. Your sequence will address your main complaint: pain anywhere in the body\, breathing issues\, or any other physical or mental concern.\n  \nYour first class of this series will be an Intake Class including a comprehensive Posture & Movement Patterns Assessment. Yoga Therapy is uniquely suited to addressing suffering by revising ingrained movement habits\, correcting breathing patterns and custom cueing. \n\nAll the Yoga Teacher Assistants have years of experience\, are certified and insured\, many have multiple licenses and certifications. This is a one-of-a-kind opportunity to receive high level care and expert individualized attention at an accessible price.
URL:https://www.heartwoodcenter.com/event/therapeutic-yoga-class-2/2025-01-20/
LOCATION:Heartwood\, 1818 Dempster Street\, Evanston\, IL\, 60202\, United States
CATEGORIES:Classes
GEO:42.040868;-87.698614
X-APPLE-STRUCTURED-LOCATION;VALUE=URI;X-ADDRESS=Heartwood 1818 Dempster Street Evanston IL 60202 United States;X-APPLE-RADIUS=500;X-TITLE=1818 Dempster Street:geo:-87.698614,42.040868
END:VEVENT
BEGIN:VEVENT
DTSTART;TZID=America/Chicago:20250127T093000
DTEND;TZID=America/Chicago:20250127T103000
DTSTAMP:20260425T113532
CREATED:20240524T182319Z
LAST-MODIFIED:20251105T163625Z
UID:10041803-1737970200-1737973800@www.heartwoodcenter.com
SUMMARY:Therapeutic Yoga Class
DESCRIPTION:Mondays 9:30-10:30am for 4 weeks. In-person only  \nThis friendly gentle yoga class is one of a kind in the Midwest! Certified Yoga Therapist Sarah Westbrook and her Assistant Yoga Teachers assign and guide each student through their own unique sequence. Your sequence will address your main complaint: pain anywhere in the body\, breathing issues\, or any other physical or mental concern.\n  \nYour first class of this series will be an Intake Class including a comprehensive Posture & Movement Patterns Assessment. Yoga Therapy is uniquely suited to addressing suffering by revising ingrained movement habits\, correcting breathing patterns and custom cueing. \n\nAll the Yoga Teacher Assistants have years of experience\, are certified and insured\, many have multiple licenses and certifications. This is a one-of-a-kind opportunity to receive high level care and expert individualized attention at an accessible price.
URL:https://www.heartwoodcenter.com/event/therapeutic-yoga-class-2/2025-01-27/
LOCATION:Heartwood\, 1818 Dempster Street\, Evanston\, IL\, 60202\, United States
CATEGORIES:Classes
GEO:42.040868;-87.698614
X-APPLE-STRUCTURED-LOCATION;VALUE=URI;X-ADDRESS=Heartwood 1818 Dempster Street Evanston IL 60202 United States;X-APPLE-RADIUS=500;X-TITLE=1818 Dempster Street:geo:-87.698614,42.040868
END:VEVENT
END:VCALENDAR