BEGIN:VCALENDAR
VERSION:2.0
PRODID:-//Heartwood - ECPv6.13.2.1//NONSGML v1.0//EN
CALSCALE:GREGORIAN
METHOD:PUBLISH
X-ORIGINAL-URL:https://www.heartwoodcenter.com
X-WR-CALDESC:Events for Heartwood
REFRESH-INTERVAL;VALUE=DURATION:PT1H
X-Robots-Tag:noindex
X-PUBLISHED-TTL:PT1H
BEGIN:VTIMEZONE
TZID:America/Chicago
BEGIN:DAYLIGHT
TZOFFSETFROM:-0600
TZOFFSETTO:-0500
TZNAME:CDT
DTSTART:20240310T080000
END:DAYLIGHT
BEGIN:STANDARD
TZOFFSETFROM:-0500
TZOFFSETTO:-0600
TZNAME:CST
DTSTART:20241103T070000
END:STANDARD
END:VTIMEZONE
BEGIN:VEVENT
DTSTART;TZID=America/Chicago:20241002T110000
DTEND;TZID=America/Chicago:20241002T113000
DTSTAMP:20260424T150919
CREATED:20240130T184445Z
LAST-MODIFIED:20240524T183948Z
UID:10040708-1727866800-1727868600@www.heartwoodcenter.com
SUMMARY:Virtual Community Yoga Nidra
DESCRIPTION:“Yoga nidra is a systematic method of inducing complete physical\, mental\, and emotional relaxation.” — Swami Satyananda Saraswati\n\nThink of it as a guided meditation where all you have to do is lie down and listen to the instructions. All you need is 30 minutes to deeply relax your mind and body.\n\nSessions are offered virtually. A link will be sent upon registration.\n\nPay what you can: $5-$15. All proceeds will be donated to a charity each month. View the list of beneficiaries here: https://airtable.com/appcp3mkyE9Z0KXN1/shr8x08ttCrumQtS0\n\nTo Register: https://harmonypotential.as.me/yoga-nidra
URL:https://www.heartwoodcenter.com/event/free-virtual-yoga-nidra-with-huong-nguyen/2024-10-02/
LOCATION:Heartwood\, 1818 Dempster Street\, Evanston\, IL\, 60202\, United States
CATEGORIES:Classes
GEO:42.040868;-87.698614
X-APPLE-STRUCTURED-LOCATION;VALUE=URI;X-ADDRESS=Heartwood 1818 Dempster Street Evanston IL 60202 United States;X-APPLE-RADIUS=500;X-TITLE=1818 Dempster Street:geo:-87.698614,42.040868
END:VEVENT
BEGIN:VEVENT
DTSTART;TZID=America/Chicago:20241009T110000
DTEND;TZID=America/Chicago:20241009T113000
DTSTAMP:20260424T150919
CREATED:20240130T184445Z
LAST-MODIFIED:20240524T183948Z
UID:10040709-1728471600-1728473400@www.heartwoodcenter.com
SUMMARY:Virtual Community Yoga Nidra
DESCRIPTION:“Yoga nidra is a systematic method of inducing complete physical\, mental\, and emotional relaxation.” — Swami Satyananda Saraswati\n\nThink of it as a guided meditation where all you have to do is lie down and listen to the instructions. All you need is 30 minutes to deeply relax your mind and body.\n\nSessions are offered virtually. A link will be sent upon registration.\n\nPay what you can: $5-$15. All proceeds will be donated to a charity each month. View the list of beneficiaries here: https://airtable.com/appcp3mkyE9Z0KXN1/shr8x08ttCrumQtS0\n\nTo Register: https://harmonypotential.as.me/yoga-nidra
URL:https://www.heartwoodcenter.com/event/free-virtual-yoga-nidra-with-huong-nguyen/2024-10-09/
LOCATION:Heartwood\, 1818 Dempster Street\, Evanston\, IL\, 60202\, United States
CATEGORIES:Classes
GEO:42.040868;-87.698614
X-APPLE-STRUCTURED-LOCATION;VALUE=URI;X-ADDRESS=Heartwood 1818 Dempster Street Evanston IL 60202 United States;X-APPLE-RADIUS=500;X-TITLE=1818 Dempster Street:geo:-87.698614,42.040868
END:VEVENT
BEGIN:VEVENT
DTSTART;TZID=America/Chicago:20241016T110000
DTEND;TZID=America/Chicago:20241016T113000
DTSTAMP:20260424T150919
CREATED:20240130T184445Z
LAST-MODIFIED:20240524T183948Z
UID:10040710-1729076400-1729078200@www.heartwoodcenter.com
SUMMARY:Virtual Community Yoga Nidra
DESCRIPTION:“Yoga nidra is a systematic method of inducing complete physical\, mental\, and emotional relaxation.” — Swami Satyananda Saraswati\n\nThink of it as a guided meditation where all you have to do is lie down and listen to the instructions. All you need is 30 minutes to deeply relax your mind and body.\n\nSessions are offered virtually. A link will be sent upon registration.\n\nPay what you can: $5-$15. All proceeds will be donated to a charity each month. View the list of beneficiaries here: https://airtable.com/appcp3mkyE9Z0KXN1/shr8x08ttCrumQtS0\n\nTo Register: https://harmonypotential.as.me/yoga-nidra
URL:https://www.heartwoodcenter.com/event/free-virtual-yoga-nidra-with-huong-nguyen/2024-10-16/
LOCATION:Heartwood\, 1818 Dempster Street\, Evanston\, IL\, 60202\, United States
CATEGORIES:Classes
GEO:42.040868;-87.698614
X-APPLE-STRUCTURED-LOCATION;VALUE=URI;X-ADDRESS=Heartwood 1818 Dempster Street Evanston IL 60202 United States;X-APPLE-RADIUS=500;X-TITLE=1818 Dempster Street:geo:-87.698614,42.040868
END:VEVENT
BEGIN:VEVENT
DTSTART;TZID=America/Chicago:20241023T110000
DTEND;TZID=America/Chicago:20241023T113000
DTSTAMP:20260424T150919
CREATED:20240130T184445Z
LAST-MODIFIED:20240524T183948Z
UID:10040711-1729681200-1729683000@www.heartwoodcenter.com
SUMMARY:Virtual Community Yoga Nidra
DESCRIPTION:“Yoga nidra is a systematic method of inducing complete physical\, mental\, and emotional relaxation.” — Swami Satyananda Saraswati\n\nThink of it as a guided meditation where all you have to do is lie down and listen to the instructions. All you need is 30 minutes to deeply relax your mind and body.\n\nSessions are offered virtually. A link will be sent upon registration.\n\nPay what you can: $5-$15. All proceeds will be donated to a charity each month. View the list of beneficiaries here: https://airtable.com/appcp3mkyE9Z0KXN1/shr8x08ttCrumQtS0\n\nTo Register: https://harmonypotential.as.me/yoga-nidra
URL:https://www.heartwoodcenter.com/event/free-virtual-yoga-nidra-with-huong-nguyen/2024-10-23/
LOCATION:Heartwood\, 1818 Dempster Street\, Evanston\, IL\, 60202\, United States
CATEGORIES:Classes
GEO:42.040868;-87.698614
X-APPLE-STRUCTURED-LOCATION;VALUE=URI;X-ADDRESS=Heartwood 1818 Dempster Street Evanston IL 60202 United States;X-APPLE-RADIUS=500;X-TITLE=1818 Dempster Street:geo:-87.698614,42.040868
END:VEVENT
BEGIN:VEVENT
DTSTART;TZID=America/Chicago:20241030T110000
DTEND;TZID=America/Chicago:20241030T113000
DTSTAMP:20260424T150919
CREATED:20240130T184445Z
LAST-MODIFIED:20240524T183948Z
UID:10040712-1730286000-1730287800@www.heartwoodcenter.com
SUMMARY:Virtual Community Yoga Nidra
DESCRIPTION:“Yoga nidra is a systematic method of inducing complete physical\, mental\, and emotional relaxation.” — Swami Satyananda Saraswati\n\nThink of it as a guided meditation where all you have to do is lie down and listen to the instructions. All you need is 30 minutes to deeply relax your mind and body.\n\nSessions are offered virtually. A link will be sent upon registration.\n\nPay what you can: $5-$15. All proceeds will be donated to a charity each month. View the list of beneficiaries here: https://airtable.com/appcp3mkyE9Z0KXN1/shr8x08ttCrumQtS0\n\nTo Register: https://harmonypotential.as.me/yoga-nidra
URL:https://www.heartwoodcenter.com/event/free-virtual-yoga-nidra-with-huong-nguyen/2024-10-30/
LOCATION:Heartwood\, 1818 Dempster Street\, Evanston\, IL\, 60202\, United States
CATEGORIES:Classes
GEO:42.040868;-87.698614
X-APPLE-STRUCTURED-LOCATION;VALUE=URI;X-ADDRESS=Heartwood 1818 Dempster Street Evanston IL 60202 United States;X-APPLE-RADIUS=500;X-TITLE=1818 Dempster Street:geo:-87.698614,42.040868
END:VEVENT
END:VCALENDAR