BEGIN:VCALENDAR
VERSION:2.0
PRODID:-//Heartwood - ECPv6.13.2.1//NONSGML v1.0//EN
CALSCALE:GREGORIAN
METHOD:PUBLISH
X-WR-CALNAME:Heartwood
X-ORIGINAL-URL:https://www.heartwoodcenter.com
X-WR-CALDESC:Events for Heartwood
REFRESH-INTERVAL;VALUE=DURATION:PT1H
X-Robots-Tag:noindex
X-PUBLISHED-TTL:PT1H
BEGIN:VTIMEZONE
TZID:America/Chicago
BEGIN:DAYLIGHT
TZOFFSETFROM:-0600
TZOFFSETTO:-0500
TZNAME:CDT
DTSTART:20240310T080000
END:DAYLIGHT
BEGIN:STANDARD
TZOFFSETFROM:-0500
TZOFFSETTO:-0600
TZNAME:CST
DTSTART:20241103T070000
END:STANDARD
END:VTIMEZONE
BEGIN:VEVENT
DTSTART;TZID=America/Chicago:20241207T100000
DTEND;TZID=America/Chicago:20241207T140000
DTSTAMP:20260424T130913
CREATED:20241118T211911Z
LAST-MODIFIED:20241118T211911Z
UID:23688-1733565600-1733580000@www.heartwoodcenter.com
SUMMARY:Welcome In! A Half-Day Retreat
DESCRIPTION:Welcome In is a gathering centered around reflection\, exploration of resilience strategies\, and intention-setting through conversation\, journaling prompts\, Yin Yoga\, and meditation. Facilitated by Dr. Melissa Perrin\, this retreat opens the door to a new year; a new chapter; and the “next normal.” \nWear comfortable clothing and bring your yoga mat. If you don’t have a mat\, we’ll provide one for you. Parking is on-site in an adjacent lot or there is residential street parking nearby. \nLight snacks and water will be provided. \nLearn more and register.
URL:https://www.heartwoodcenter.com/event/welcome-in-a-half-day-retreat/
LOCATION:Heartwood\, 1818 Dempster Street\, Evanston\, IL\, 60202\, United States
CATEGORIES:Classes
GEO:42.040868;-87.698614
X-APPLE-STRUCTURED-LOCATION;VALUE=URI;X-ADDRESS=Heartwood 1818 Dempster Street Evanston IL 60202 United States;X-APPLE-RADIUS=500;X-TITLE=1818 Dempster Street:geo:-87.698614,42.040868
END:VEVENT
END:VCALENDAR