BEGIN:VCALENDAR
VERSION:2.0
PRODID:-//Heartwood - ECPv6.13.2.1//NONSGML v1.0//EN
CALSCALE:GREGORIAN
METHOD:PUBLISH
X-WR-CALNAME:Heartwood
X-ORIGINAL-URL:https://www.heartwoodcenter.com
X-WR-CALDESC:Events for Heartwood
REFRESH-INTERVAL;VALUE=DURATION:PT1H
X-Robots-Tag:noindex
X-PUBLISHED-TTL:PT1H
BEGIN:VTIMEZONE
TZID:America/Chicago
BEGIN:DAYLIGHT
TZOFFSETFROM:-0600
TZOFFSETTO:-0500
TZNAME:CDT
DTSTART:20230312T080000
END:DAYLIGHT
BEGIN:STANDARD
TZOFFSETFROM:-0500
TZOFFSETTO:-0600
TZNAME:CST
DTSTART:20231105T070000
END:STANDARD
END:VTIMEZONE
BEGIN:VEVENT
DTSTART;VALUE=DATE:20230311
DTEND;VALUE=DATE:20230313
DTSTAMP:20260425T211555
CREATED:20230304T151105Z
LAST-MODIFIED:20230304T151105Z
UID:20878-1678492800-1678665599@www.heartwoodcenter.com
SUMMARY:The Yoga Of Living: Brightening Our Lights of Discernment & Compassion with Rod Stryker
DESCRIPTION:March 11 & 12 || A ParaYoga Immersion at the Heartwood Center in Evanston Illinois \nIf we are to be in right relationship with the world and the people in it\, we must be in right relationship with ourself. The rewards include greater resilience and less suffering\, and the ability to “see” from a larger context so that we are consistently guided by the innate intelligence––literally\, the wisdom in our own heart. Over the course of this weekend we will dive into the most relevant teachings of tantra and we’ll turn to the teachings of the yoga sutra (the seminal text of Yoga) specifically\, sutra 1:34 and those practices that directly resolve the “darkening of the heart.” \nSaturday Session 1 | 9:30 – 12:30pm \nSaturday Session 2 | 2:30 – 5:00pm \nSunday Session 3 | 9:30 – 12:30pm \nPanel Discussion | 1:15 – 2:15pm \nSunday Session 4 | 2:30 – 4:30pm \nClosing |  4:30 – 5:30pm \nFor More Information and Registration: www.parayoga.com \n 
URL:https://www.heartwoodcenter.com/event/the-yoga-of-living-brightening-our-lights-of-discernment-compassion-with-rod-stryker/
LOCATION:Heartwood\, 1818 Dempster Street\, Evanston\, IL\, 60202\, United States
CATEGORIES:Classes
GEO:42.040868;-87.698614
X-APPLE-STRUCTURED-LOCATION;VALUE=URI;X-ADDRESS=Heartwood 1818 Dempster Street Evanston IL 60202 United States;X-APPLE-RADIUS=500;X-TITLE=1818 Dempster Street:geo:-87.698614,42.040868
END:VEVENT
END:VCALENDAR