BEGIN:VCALENDAR
VERSION:2.0
PRODID:-//Heartwood - ECPv6.13.2.1//NONSGML v1.0//EN
CALSCALE:GREGORIAN
METHOD:PUBLISH
X-WR-CALNAME:Heartwood
X-ORIGINAL-URL:https://www.heartwoodcenter.com
X-WR-CALDESC:Events for Heartwood
REFRESH-INTERVAL;VALUE=DURATION:PT1H
X-Robots-Tag:noindex
X-PUBLISHED-TTL:PT1H
BEGIN:VTIMEZONE
TZID:America/Chicago
BEGIN:DAYLIGHT
TZOFFSETFROM:-0600
TZOFFSETTO:-0500
TZNAME:CDT
DTSTART:20230312T080000
END:DAYLIGHT
BEGIN:STANDARD
TZOFFSETFROM:-0500
TZOFFSETTO:-0600
TZNAME:CST
DTSTART:20231105T070000
END:STANDARD
END:VTIMEZONE
BEGIN:VEVENT
DTSTART;TZID=America/Chicago:20230627T180000
DTEND;TZID=America/Chicago:20230627T190000
DTSTAMP:20260425T163246
CREATED:20220916T152956Z
LAST-MODIFIED:20230705T155539Z
UID:10040170-1687888800-1687892400@www.heartwoodcenter.com
SUMMARY:The Wakeful Body
DESCRIPTION:Somatic Awareness as a Path to Liberation \nAre you ready to get out of your head?  Tap into the innate wisdom of your body with simple\, down-to-earth practices.   \nBased on The Wakeful Body by Lama Willa Blythe Baker\, you will learn a way to meditate that is self-aware\, self-compassionate and fully embodied.  Meditation as a way of being.  Meditation that is always available to you — on the cushion\, on the yoga mat or on the street.   \nWe had the good fortune to learn these meditations directly from Lama Willa and we’re looking forward to sharing them with you.  Whether you are new to meditation or a seasoned practitioner\, we are sure you will find this meditative approach something you will return to again and again. \nUnless otherwise indicated\, all meditation classes at Heartwood are free and open to the public.  Of course\, your donations are gratefully accepted. \nFor more information\, contact Larry.
URL:https://www.heartwoodcenter.com/event/the-wakeful-body/2023-06-27/
LOCATION:Heartwood\, 1818 Dempster Street\, Evanston\, IL\, 60202\, United States
CATEGORIES:Classes,Sangha Meditation
GEO:42.040868;-87.698614
X-APPLE-STRUCTURED-LOCATION;VALUE=URI;X-ADDRESS=Heartwood 1818 Dempster Street Evanston IL 60202 United States;X-APPLE-RADIUS=500;X-TITLE=1818 Dempster Street:geo:-87.698614,42.040868
END:VEVENT
END:VCALENDAR