BEGIN:VCALENDAR
VERSION:2.0
PRODID:-//Heartwood - ECPv6.13.2.1//NONSGML v1.0//EN
CALSCALE:GREGORIAN
METHOD:PUBLISH
X-WR-CALNAME:Heartwood
X-ORIGINAL-URL:https://www.heartwoodcenter.com
X-WR-CALDESC:Events for Heartwood
REFRESH-INTERVAL;VALUE=DURATION:PT1H
X-Robots-Tag:noindex
X-PUBLISHED-TTL:PT1H
BEGIN:VTIMEZONE
TZID:America/Chicago
BEGIN:DAYLIGHT
TZOFFSETFROM:-0600
TZOFFSETTO:-0500
TZNAME:CDT
DTSTART:20250309T080000
END:DAYLIGHT
BEGIN:STANDARD
TZOFFSETFROM:-0500
TZOFFSETTO:-0600
TZNAME:CST
DTSTART:20251102T070000
END:STANDARD
END:VTIMEZONE
BEGIN:VEVENT
DTSTART;TZID=America/Chicago:20251003T120000
DTEND;TZID=America/Chicago:20251003T130000
DTSTAMP:20260423T233413
CREATED:20250318T162724Z
LAST-MODIFIED:20251105T161718Z
UID:24355-1759492800-1759496400@www.heartwoodcenter.com
SUMMARY:A Marketing & Manifesting Workshop for the Soulful Entrepreneur
DESCRIPTION:Get a taste of what it’s like to market and manifest with nothing but the essence that is you.\n\n\n\n\nThis is for the soulpreneurs out there who hate how marketing and manifesting has been taught. \n(I’m in the same boat with you.) \nWhy do we hate it? \nBecause it pulls us away from ourselves… \nThat marketing expert who makes you post 5 times on that platform\, talk about yourself in a way that doesn’t feel truthful\, or gives you a bunch of bro marketing tactics in order to make a buck? \nThat manifesting leader who recites scripture assuming you believe in the same God\, asks you to throw cinnamon out your front door\, or has you tricking yourself into believing you’re making sales by setting 50 alarms and notifications on your phone? \nThis is why. Because we’re overcomplicating the hell out of this. \nAll of this only brings us further away from ourselves. \nWhen all we really need to do is come back to ourselves\, to remember who we are\, to tap into our essence. \nThis is what makes you magnetic. \nI’m all about your essence\, and I’ve got a knack for pulling it out of you. \nMy kind of marketing is centered around the truth of your heart as it relates to the strength of your work. There’s something you have achieved for yourself that you now help others achieve through your work. This is the actual transformation you provide. This is what you sell\, because you are the walking representation of your own transformation. \nMy kind of manifesting is centered around you shedding all of the shit that isn’t you – all of those limiting beliefs\, outdated patterns and old programming. We unravel and unlearn all of this so that you can attune to your unique frequency\, your universal signal – your essence\, which is also your higher self. This is what you attract\, because you attract who you are\, not what you want. \nThis is an opportunity to get a taste of the methods that bring you back to yourself\, to your truth to your essence. \nRegister HERE.
URL:https://www.heartwoodcenter.com/event/the-l-i-f-e-method-live-a-marketing-workshop-for-the-soulful-entrepreneur/
LOCATION:Heartwood\, 1818 Dempster Street\, Evanston\, IL\, 60202\, United States
CATEGORIES:Classes
GEO:42.040868;-87.698614
X-APPLE-STRUCTURED-LOCATION;VALUE=URI;X-ADDRESS=Heartwood 1818 Dempster Street Evanston IL 60202 United States;X-APPLE-RADIUS=500;X-TITLE=1818 Dempster Street:geo:-87.698614,42.040868
END:VEVENT
END:VCALENDAR