BEGIN:VCALENDAR
VERSION:2.0
PRODID:-//Heartwood - ECPv6.13.2.1//NONSGML v1.0//EN
CALSCALE:GREGORIAN
METHOD:PUBLISH
X-WR-CALNAME:Heartwood
X-ORIGINAL-URL:https://www.heartwoodcenter.com
X-WR-CALDESC:Events for Heartwood
REFRESH-INTERVAL;VALUE=DURATION:PT1H
X-Robots-Tag:noindex
X-PUBLISHED-TTL:PT1H
BEGIN:VTIMEZONE
TZID:America/Chicago
BEGIN:DAYLIGHT
TZOFFSETFROM:-0600
TZOFFSETTO:-0500
TZNAME:CDT
DTSTART:20220313T080000
END:DAYLIGHT
BEGIN:STANDARD
TZOFFSETFROM:-0500
TZOFFSETTO:-0600
TZNAME:CST
DTSTART:20221106T070000
END:STANDARD
END:VTIMEZONE
BEGIN:VEVENT
DTSTART;TZID=America/Chicago:20220430T110000
DTEND;TZID=America/Chicago:20220430T130000
DTSTAMP:20260423T104752
CREATED:20220202T194253Z
LAST-MODIFIED:20220306T164558Z
UID:19606-1651316400-1651323600@www.heartwoodcenter.com
SUMMARY:Spring Event
DESCRIPTION:PLANTING SEEDS OF HEALTH AND HOPE: EMERGING STRONG FROM COVID\n\n\nThe past couple of years have been really hard. This pandemic has overwhelmed and stressed us to the max. We’ve lost loved ones\, jobs\, health and confidence in our  experts and leaders. We are physically exhausted\, emotionally spent and soul weary. \nWe need an infusion of energy to nourish our body\, mind and spirit . . . to recuperate and carry on. But is there anywhere we can look to find it?  Yes! \nHEARTWOOD IS SUCH A PLACE\n\n\n\nHas illness or stress compromised your immune system?\nAre you struggling to keep your energy reserves up?\nAre you anxious? Fearful? Not sleeping well?\nFeeling overwhelmed? Confused? Vulnerable?\nHave you lost clarity? Peace of mind??\nFeeling soul-weary?\n\nWE HEAR YOU. AND WE WANT TO HELP.\n\n\nAt Heartwood\, we are​ a community-based center committed to providing a compassionate\, safe space for all who want to explore healing on any level. We are independent professionals from multiple healing and health care modalities. Because we are able to refer\, consult and collaborate directly with colleagues within Heartwood\, we can easily offer you a coordinated health care plan with a range of options for addressing your needs – physical\, emotional\, mental and spiritual. See a list of services below. \n\n\nPlease register below to ensure that we have enough free things to give everyone!\n\n[wpforms id=”19712″ title=”false”] \n\n\nYou are cordially invited to come join us for LOTS OF FREE STUFF and: \n\nMeet our practitioners\nGet answers to your questions.\nSample a few types of massage\nTake a mini yoga or tai chi class\nBuy a raffle ticket ($1) for free services\n\nSaturday\, April 30\, 2022\, 11:00am-1:00pm in the Skylight Room  
URL:https://www.heartwoodcenter.com/event/spring-event-2/
LOCATION:Heartwood\, 1818 Dempster Street\, Evanston\, IL\, 60202\, United States
CATEGORIES:Classes
GEO:42.040868;-87.698614
X-APPLE-STRUCTURED-LOCATION;VALUE=URI;X-ADDRESS=Heartwood 1818 Dempster Street Evanston IL 60202 United States;X-APPLE-RADIUS=500;X-TITLE=1818 Dempster Street:geo:-87.698614,42.040868
END:VEVENT
END:VCALENDAR