BEGIN:VCALENDAR
VERSION:2.0
PRODID:-//Heartwood - ECPv6.13.2.1//NONSGML v1.0//EN
CALSCALE:GREGORIAN
METHOD:PUBLISH
X-WR-CALNAME:Heartwood
X-ORIGINAL-URL:https://www.heartwoodcenter.com
X-WR-CALDESC:Events for Heartwood
REFRESH-INTERVAL;VALUE=DURATION:PT1H
X-Robots-Tag:noindex
X-PUBLISHED-TTL:PT1H
BEGIN:VTIMEZONE
TZID:America/Chicago
BEGIN:DAYLIGHT
TZOFFSETFROM:-0600
TZOFFSETTO:-0500
TZNAME:CDT
DTSTART:20250309T080000
END:DAYLIGHT
BEGIN:STANDARD
TZOFFSETFROM:-0500
TZOFFSETTO:-0600
TZNAME:CST
DTSTART:20251102T070000
END:STANDARD
END:VTIMEZONE
BEGIN:VEVENT
DTSTART;TZID=America/Chicago:20251025T103000
DTEND;TZID=America/Chicago:20251025T120000
DTSTAMP:20260423T232259
CREATED:20251001T193333Z
LAST-MODIFIED:20251001T224103Z
UID:26055-1761388200-1761393600@www.heartwoodcenter.com
SUMMARY:Simple skills for busy people - Align & Ground Your Energy for Daily Ease & Flow
DESCRIPTION:A workshop offered by Sarah Bernauer\nHeartwood Center\n\nSkylight Room\nSaturday October 25th\n10:30 to noon\nREGISTER HERE!\n\n[display-posts post_type=”practitioners” include_content=”true” display-posts wrapper=”div” image_size=”full” id=”20364″ order=”ASC” orderby=”name”]
URL:https://www.heartwoodcenter.com/event/simple-skills-for-busy-people-align-ground-your-energy-for-daily-ease-flow/
LOCATION:Heartwood\, 1818 Dempster Street\, Evanston\, IL\, 60202\, United States
CATEGORIES:Classes
GEO:42.040868;-87.698614
X-APPLE-STRUCTURED-LOCATION;VALUE=URI;X-ADDRESS=Heartwood 1818 Dempster Street Evanston IL 60202 United States;X-APPLE-RADIUS=500;X-TITLE=1818 Dempster Street:geo:-87.698614,42.040868
END:VEVENT
END:VCALENDAR