BEGIN:VCALENDAR
VERSION:2.0
PRODID:-//Heartwood - ECPv6.13.2.1//NONSGML v1.0//EN
CALSCALE:GREGORIAN
METHOD:PUBLISH
X-WR-CALNAME:Heartwood
X-ORIGINAL-URL:https://www.heartwoodcenter.com
X-WR-CALDESC:Events for Heartwood
REFRESH-INTERVAL;VALUE=DURATION:PT1H
X-Robots-Tag:noindex
X-PUBLISHED-TTL:PT1H
BEGIN:VTIMEZONE
TZID:America/Chicago
BEGIN:DAYLIGHT
TZOFFSETFROM:-0600
TZOFFSETTO:-0500
TZNAME:CDT
DTSTART:20230312T080000
END:DAYLIGHT
BEGIN:STANDARD
TZOFFSETFROM:-0500
TZOFFSETTO:-0600
TZNAME:CST
DTSTART:20231105T070000
END:STANDARD
END:VTIMEZONE
BEGIN:VEVENT
DTSTART;TZID=America/Chicago:20230923T100000
DTEND;TZID=America/Chicago:20230923T110000
DTSTAMP:20260425T123615
CREATED:20230109T210157Z
LAST-MODIFIED:20230614T154513Z
UID:10041699-1695463200-1695466800@www.heartwoodcenter.com
SUMMARY:Mindful Self-Compassion Short Course
DESCRIPTION:This course is an adaptation of the empirically-supported 8-week course. The SC-MSC is designed with a targeted set of practices from the longer course\, requiring less initial time commitment. \nDetails \n\n\n1.5 hours on day one and 1 hour every class following. \nSaturday\, September 9th: 10:00 AM – 11:30 AM CST. \nSaturday\, Sept 16\, 23\, 30th: 10:00 AM – 11:00 AM CST. \n\n\nSession summaries  \n\n\nCertificate of completion \n\n\n*Please note: a minimum number of students is required for the class to run—if the minimum is not met\, you will be fully refunded. \nLearn More: https://www.bloomandbelong.com/events/mindful-self-compassion-course-8-weeks-erybz-fzmtr-8rxf9-egs6c \n[display-posts post_type=”practitioners” include_content=”true” display-posts wrapper=”div” image_size=”full” id=”18871″ order=”ASC” orderby=”name”]
URL:https://www.heartwoodcenter.com/event/mindful-self-compassion-morning-course/2023-09-23/
LOCATION:Heartwood\, 1818 Dempster Street\, Evanston\, IL\, 60202\, United States
CATEGORIES:Classes
GEO:42.040868;-87.698614
X-APPLE-STRUCTURED-LOCATION;VALUE=URI;X-ADDRESS=Heartwood 1818 Dempster Street Evanston IL 60202 United States;X-APPLE-RADIUS=500;X-TITLE=1818 Dempster Street:geo:-87.698614,42.040868
END:VEVENT
END:VCALENDAR