BEGIN:VCALENDAR
VERSION:2.0
PRODID:-//Heartwood - ECPv6.13.2.1//NONSGML v1.0//EN
CALSCALE:GREGORIAN
METHOD:PUBLISH
X-WR-CALNAME:Heartwood
X-ORIGINAL-URL:https://www.heartwoodcenter.com
X-WR-CALDESC:Events for Heartwood
REFRESH-INTERVAL;VALUE=DURATION:PT1H
X-Robots-Tag:noindex
X-PUBLISHED-TTL:PT1H
BEGIN:VTIMEZONE
TZID:America/Chicago
BEGIN:DAYLIGHT
TZOFFSETFROM:-0600
TZOFFSETTO:-0500
TZNAME:CDT
DTSTART:20230312T080000
END:DAYLIGHT
BEGIN:STANDARD
TZOFFSETFROM:-0500
TZOFFSETTO:-0600
TZNAME:CST
DTSTART:20231105T070000
END:STANDARD
END:VTIMEZONE
BEGIN:VEVENT
DTSTART;TZID=America/Chicago:20231002T170000
DTEND;TZID=America/Chicago:20231002T200000
DTSTAMP:20260425T111145
CREATED:20230109T205853Z
LAST-MODIFIED:20230614T154958Z
UID:10041693-1696266000-1696276800@www.heartwoodcenter.com
SUMMARY:Mindful Self-Compassion Evening Course
DESCRIPTION:Hina invites you to join her MSC Course for a journey of learning\, self-discovery\, and self-awareness to nurture and grow your own self-compassion and emotional resiliency. The course will be offered live via Zoom over 8 weeks\, and includes a silent retreat. \n8 weeks\, 3-hour class once a week (24 hours) \nSeptember 4th\, 2023 – October 23\, 2023 (Mondays). Time: 5:00 pm CST to 8:00 pm CST \n1 retreat (3 hours) – Saturday\, October 7th\, 2023\, from 9:30 am – 12:30 pm CST. \nFor National Board Certified Health and Wellness Coaches (NBC-HWC)\, this course provides 24 hours of continuing education units. You will receive an official certificate of completion with CE credit hours (minimum attendance and completion of questionnaire required). \n\nLearn More: https://www.bloomandbelong.com/events \n[display-posts post_type=”practitioners” include_content=”true” display-posts wrapper=”div” image_size=”full” id=”18871″ order=”ASC” orderby=”name”]
URL:https://www.heartwoodcenter.com/event/mindful-self-compassion-evening-course/2023-10-02/
LOCATION:Heartwood\, 1818 Dempster Street\, Evanston\, IL\, 60202\, United States
CATEGORIES:Classes
GEO:42.040868;-87.698614
X-APPLE-STRUCTURED-LOCATION;VALUE=URI;X-ADDRESS=Heartwood 1818 Dempster Street Evanston IL 60202 United States;X-APPLE-RADIUS=500;X-TITLE=1818 Dempster Street:geo:-87.698614,42.040868
END:VEVENT
END:VCALENDAR