BEGIN:VCALENDAR
VERSION:2.0
PRODID:-//Heartwood - ECPv6.13.2.1//NONSGML v1.0//EN
CALSCALE:GREGORIAN
METHOD:PUBLISH
X-WR-CALNAME:Heartwood
X-ORIGINAL-URL:https://www.heartwoodcenter.com
X-WR-CALDESC:Events for Heartwood
REFRESH-INTERVAL;VALUE=DURATION:PT1H
X-Robots-Tag:noindex
X-PUBLISHED-TTL:PT1H
BEGIN:VTIMEZONE
TZID:America/Chicago
BEGIN:DAYLIGHT
TZOFFSETFROM:-0600
TZOFFSETTO:-0500
TZNAME:CDT
DTSTART:20250309T080000
END:DAYLIGHT
BEGIN:STANDARD
TZOFFSETFROM:-0500
TZOFFSETTO:-0600
TZNAME:CST
DTSTART:20251102T070000
END:STANDARD
END:VTIMEZONE
BEGIN:VEVENT
DTSTART;TZID=America/Chicago:20251028T120000
DTEND;TZID=America/Chicago:20251028T130000
DTSTAMP:20260423T215409
CREATED:20251011T194719Z
LAST-MODIFIED:20251105T161224Z
UID:26063-1761652800-1761656400@www.heartwoodcenter.com
SUMMARY:Marketing & Manifesting like the Soulpreneur You Were Meant to Be
DESCRIPTION:Your essence is your most authentic expression of energy. \nWhich also means it’s your highest frequency\, your universal signal and your energetic signature.  \nIt’s your higher self.  \nBut instead\, we’ve been taught to look outside of ourselves for the answers to our business building questions.  \nAnd that’s the opposite of what a soul-aligned business owner needs to do. \nFor me\, this would show up in abundance wounds\, visibility wounds\, narcissistic partners\, staying and accepting less than what I deserve\, not feeling like I was good enough\, not feeling worthy of love\, rejection wounds\, abandonment wounds\, feeling like I had to perform or earn love\, feeling like my gifts weren’t good enough\, feeling like I couldn’t charge for my work\, feeling endlessly stuck\, the list goes on and on… \nInstead of looking outside of myself\, I had to go within.  \nYour essence is what makes you move\, fully aligned and embodied… \nOn purpose\, with precision\, and in our power. \nPeople can no longer be sold to; they must be soul’d to.  \nBut in order for you to sell with soul\, you need to be soul’d on you first.  \nIn this upcoming workshop all about building businesses that are truly soul-aligned\, I’m going to talk about the following: \n\nAll of the things that are keeping you stuck right now (Trust me\, you’ll resonate with at least one of them.)\nThe way through via the Soul’d approach (However\, the way forward is not my way\, it’s yours.)\nA taste of the Soul’d approach featuring The D.E.B.I.T. Method\, The C.R.E.D.I.T. Method and The L.I.F.E. Method (We’ll workshop through them together & there will be options presented to dive deeper if this work sings to you.)\n\nYou’ll walk away from this experience feeling more anchored into your higher calling\, more connected to the essence that is you\, and more empowered to move forward with a marketing and manifesting strategy that is actually aligned and feels possible for you. \nLEARN MORE & REGISTER HERE.
URL:https://www.heartwoodcenter.com/event/marketing-manifesting-like-the-soulpreneur-you-were-meant-to-be/
LOCATION:Heartwood\, 1818 Dempster Street\, Evanston\, IL\, 60202\, United States
CATEGORIES:Classes
GEO:42.040868;-87.698614
X-APPLE-STRUCTURED-LOCATION;VALUE=URI;X-ADDRESS=Heartwood 1818 Dempster Street Evanston IL 60202 United States;X-APPLE-RADIUS=500;X-TITLE=1818 Dempster Street:geo:-87.698614,42.040868
END:VEVENT
END:VCALENDAR