BEGIN:VCALENDAR
VERSION:2.0
PRODID:-//Heartwood - ECPv6.13.2.1//NONSGML v1.0//EN
CALSCALE:GREGORIAN
METHOD:PUBLISH
X-WR-CALNAME:Heartwood
X-ORIGINAL-URL:https://www.heartwoodcenter.com
X-WR-CALDESC:Events for Heartwood
REFRESH-INTERVAL;VALUE=DURATION:PT1H
X-Robots-Tag:noindex
X-PUBLISHED-TTL:PT1H
BEGIN:VTIMEZONE
TZID:America/Chicago
BEGIN:DAYLIGHT
TZOFFSETFROM:-0600
TZOFFSETTO:-0500
TZNAME:CDT
DTSTART:20230312T080000
END:DAYLIGHT
BEGIN:STANDARD
TZOFFSETFROM:-0500
TZOFFSETTO:-0600
TZNAME:CST
DTSTART:20231105T070000
END:STANDARD
END:VTIMEZONE
BEGIN:VEVENT
DTSTART;TZID=America/Chicago:20230221T120000
DTEND;TZID=America/Chicago:20230221T130000
DTSTAMP:20260425T225910
CREATED:20230207T200605Z
LAST-MODIFIED:20230207T200843Z
UID:20796-1676980800-1676984400@www.heartwoodcenter.com
SUMMARY:Magic Marketing: A Practical Approach to Making Your Marketing Magnetic
DESCRIPTION:A Pay-What-You-Can Marketing Workshop for the Heartwood Community\n\n\n\nWhen & Where:\nTuesday\, February 21: 12pm-1pm (bring your lunch!)\nWe’ll chat via Zoom. Link will be provided.\nA Little More Info:Using my proprietary (and one-of-a-kind) L.I.F.E. Method I will guide attendees on how to align their audience to their work. Sound magical? Yes\, but actually\, it’s a simple\, straightforward and *practical* approach to attracting clients right to you. The L.I.F.E. Method quite literally makes you a magnet for anything you desire\, and in our case\, we’re going to use it for your marketing strategy. By the time you are done with this workshop\, your marketing will be elevated and reflect an easy\, ethical and *effective* approach to inspiring others to buy from you.A Little About Me:With nearly 15 years in the marketing industry\, Christina Giordano pivoted into e-learning with the launch of her Magic Marketing suite. She now offers three one-of-a-kind proprietary methods: The L.I.F.E. Method\, The S.O.U.L. Method\, and The L.O.V.E. Method – each one designed to support entrepreneurs as they pivot into alignment within themselves and within their businesses. Christina empowers you to show up\, be seen\, and shine (aka market yourself) in the way that is uniquely\, and wholeheartedly\, you. \n  \nIf you feel called to make a donation and register that way\, please do so here: http://PayPal.Me/thechristinagio If not\, please email me and let me know that you can attend\, so that I can add you to the list of recipients to receive the Zoom info at a later date.\n\n[display-posts post_type=”practitioners” include_content=”true” display-posts wrapper=”div” image_size=”full” id=”20446″ order=”ASC” orderby=”name”]
URL:https://www.heartwoodcenter.com/event/magic-marketing-a-practical-approach-to-making-your-marketing-magnetic/
LOCATION:Heartwood\, 1818 Dempster Street\, Evanston\, IL\, 60202\, United States
CATEGORIES:Classes
GEO:42.040868;-87.698614
X-APPLE-STRUCTURED-LOCATION;VALUE=URI;X-ADDRESS=Heartwood 1818 Dempster Street Evanston IL 60202 United States;X-APPLE-RADIUS=500;X-TITLE=1818 Dempster Street:geo:-87.698614,42.040868
END:VEVENT
END:VCALENDAR