BEGIN:VCALENDAR
VERSION:2.0
PRODID:-//Heartwood - ECPv6.13.2.1//NONSGML v1.0//EN
CALSCALE:GREGORIAN
METHOD:PUBLISH
X-WR-CALNAME:Heartwood
X-ORIGINAL-URL:https://www.heartwoodcenter.com
X-WR-CALDESC:Events for Heartwood
REFRESH-INTERVAL;VALUE=DURATION:PT1H
X-Robots-Tag:noindex
X-PUBLISHED-TTL:PT1H
BEGIN:VTIMEZONE
TZID:America/Chicago
BEGIN:DAYLIGHT
TZOFFSETFROM:-0600
TZOFFSETTO:-0500
TZNAME:CDT
DTSTART:20260308T080000
END:DAYLIGHT
BEGIN:STANDARD
TZOFFSETFROM:-0500
TZOFFSETTO:-0600
TZNAME:CST
DTSTART:20261101T070000
END:STANDARD
END:VTIMEZONE
BEGIN:VEVENT
DTSTART;TZID=America/Chicago:20260401T093000
DTEND;TZID=America/Chicago:20260401T103000
DTSTAMP:20260423T111536
CREATED:20241030T171642Z
LAST-MODIFIED:20251105T162040Z
UID:10041888-1775035800-1775039400@www.heartwoodcenter.com
SUMMARY:Gentle Yoga Class
DESCRIPTION:Expect to learn fundamental yoga skills in a slower\, gentler way (simpler poses\, often with the support of props or the wall\, with adaptations for those with chronic conditions or limited range of motion).\nStudents should be able to get up and down from the floor (able to use your own hands\, feet\, or a chair) and have their doctor’s permission to participate in yoga/exercise classes. \n\nPractice fundamental movements (bending over\, reaching arms overhead\, twisting. etc.) with pr
URL:https://www.heartwoodcenter.com/event/gentle-yoga-class-2/2026-04-01/
LOCATION:Heartwood\, 1818 Dempster Street\, Evanston\, IL\, 60202\, United States
CATEGORIES:Classes
GEO:42.040868;-87.698614
X-APPLE-STRUCTURED-LOCATION;VALUE=URI;X-ADDRESS=Heartwood 1818 Dempster Street Evanston IL 60202 United States;X-APPLE-RADIUS=500;X-TITLE=1818 Dempster Street:geo:-87.698614,42.040868
END:VEVENT
END:VCALENDAR