BEGIN:VCALENDAR
VERSION:2.0
PRODID:-//Heartwood - ECPv6.13.2.1//NONSGML v1.0//EN
CALSCALE:GREGORIAN
METHOD:PUBLISH
X-WR-CALNAME:Heartwood
X-ORIGINAL-URL:https://www.heartwoodcenter.com
X-WR-CALDESC:Events for Heartwood
REFRESH-INTERVAL;VALUE=DURATION:PT1H
X-Robots-Tag:noindex
X-PUBLISHED-TTL:PT1H
BEGIN:VTIMEZONE
TZID:America/Chicago
BEGIN:DAYLIGHT
TZOFFSETFROM:-0600
TZOFFSETTO:-0500
TZNAME:CDT
DTSTART:20230312T080000
END:DAYLIGHT
BEGIN:STANDARD
TZOFFSETFROM:-0500
TZOFFSETTO:-0600
TZNAME:CST
DTSTART:20231105T070000
END:STANDARD
END:VTIMEZONE
BEGIN:VEVENT
DTSTART;TZID=America/Chicago:20231101T120000
DTEND;TZID=America/Chicago:20231101T133000
DTSTAMP:20260425T094116
CREATED:20231012T160654Z
LAST-MODIFIED:20231012T160654Z
UID:21767-1698840000-1698845400@www.heartwoodcenter.com
SUMMARY:Free Marketing Workshop
DESCRIPTION:It’s happening! Free 90-minute marketing workshop for the Heartwood community on Wednesday\, November 1 beginning at noon. Hope you to see you there!\n\nTo register: https://giordanochristina.activehosted.com/f/34\n\n \nChristina Giordano\nWelcome to Soul’d™ – an authentic approach to building a soul-aligned business. \nThis work is for you if you feel as though your soul path and career path are uniquely intertwined. You don’t have a career or a job; you have a calling. And it’s rooted in who you are – the essence that is you. \nThat’s why the old paradigm of marketing and manifesting doesn’t align with you. You will not compromise your integrity\, your authenticity\, your uniqueness\, or your wholeness. You only want what’s true and what’s right for you. \nSoul’d™ is about a new way to market yourself and manifest your dreams\, with your soul leading the way and without compromising any part of you. The Marketing Methods and The Manifesting Methods will only ever ask you to be more true. \nWelcome to the new way to show up\, be seen and shine with nothing but the essence that is you. \nCheck out my Get Guidance page for offerings that will help. \nEmail | Website
URL:https://www.heartwoodcenter.com/event/free-marketing-workshop/
LOCATION:Heartwood\, 1818 Dempster Street\, Evanston\, IL\, 60202\, United States
CATEGORIES:Classes
GEO:42.040868;-87.698614
X-APPLE-STRUCTURED-LOCATION;VALUE=URI;X-ADDRESS=Heartwood 1818 Dempster Street Evanston IL 60202 United States;X-APPLE-RADIUS=500;X-TITLE=1818 Dempster Street:geo:-87.698614,42.040868
END:VEVENT
END:VCALENDAR