BEGIN:VCALENDAR
VERSION:2.0
PRODID:-//Heartwood - ECPv6.13.2.1//NONSGML v1.0//EN
CALSCALE:GREGORIAN
METHOD:PUBLISH
X-WR-CALNAME:Heartwood
X-ORIGINAL-URL:https://www.heartwoodcenter.com
X-WR-CALDESC:Events for Heartwood
REFRESH-INTERVAL;VALUE=DURATION:PT1H
X-Robots-Tag:noindex
X-PUBLISHED-TTL:PT1H
BEGIN:VTIMEZONE
TZID:America/Chicago
BEGIN:DAYLIGHT
TZOFFSETFROM:-0600
TZOFFSETTO:-0500
TZNAME:CDT
DTSTART:20230312T080000
END:DAYLIGHT
BEGIN:STANDARD
TZOFFSETFROM:-0500
TZOFFSETTO:-0600
TZNAME:CST
DTSTART:20231105T070000
END:STANDARD
END:VTIMEZONE
BEGIN:VEVENT
DTSTART;TZID=America/Chicago:20230428T093000
DTEND;TZID=America/Chicago:20230428T110000
DTSTAMP:20260425T205900
CREATED:20230109T210825Z
LAST-MODIFIED:20230215T192054Z
UID:10041705-1682674200-1682679600@www.heartwoodcenter.com
SUMMARY:Foundations of Presence Through Mindfulness Meditation
DESCRIPTION:Wednesday\, April 5\, 2023\n9:30 AM 11:00 AM \nGoogle Calendar ICS\n\n\n\n\n\n\n\nHina invites you to join her in this foundational mindfulness meditation course to cultivate foundations in presence that support you in your well-being. \nThis course will teach you all that you need to know about beginning and sustaining practices of mindfulness in daily life. You will learn mindfulness of breath\, body\, thoughts\, and ways to bring this into the everyday. \nMindfulness practices strengthen you in supporting your physical and emotional health\, balance stress and anxiety\,  improve immune function\, enhance your relationships\, and resource you in challenging moments. You will learn through talks\, as well as experiential practices\, with opportunities for inquiry. \nThere is a beginner level\, and no prerequisite is required. As it will be conducted virtually\, you can learn in the comfort of your own home. \nWednesdays\, 9:30 AM – 11:00 AM CST \nThis course is taught live\, via Zoom. \nThis course is for National Board Certified Health and Wellness Coaches (NBC-HWC) and provides 6 hours of continuing education units. You will receive an official certificate of completion with CE credit hours. \nLearn More: https://www.bloomandbelong.com/events \n*Please note: a minimum number of students is required for the class to run—if the minimum is not met\, you will be fully refunded. \n[display-posts post_type=”practitioners” include_content=”true” display-posts wrapper=”div” image_size=”full” id=”18871″ order=”ASC” orderby=”name”]
URL:https://www.heartwoodcenter.com/event/foundations-of-presence-through-mindfulness-meditation-2/2023-04-28/
LOCATION:Heartwood\, 1818 Dempster Street\, Evanston\, IL\, 60202\, United States
CATEGORIES:Classes
GEO:42.040868;-87.698614
X-APPLE-STRUCTURED-LOCATION;VALUE=URI;X-ADDRESS=Heartwood 1818 Dempster Street Evanston IL 60202 United States;X-APPLE-RADIUS=500;X-TITLE=1818 Dempster Street:geo:-87.698614,42.040868
END:VEVENT
END:VCALENDAR