BEGIN:VCALENDAR
VERSION:2.0
PRODID:-//Heartwood - ECPv6.13.2.1//NONSGML v1.0//EN
CALSCALE:GREGORIAN
METHOD:PUBLISH
X-WR-CALNAME:Heartwood
X-ORIGINAL-URL:https://www.heartwoodcenter.com
X-WR-CALDESC:Events for Heartwood
REFRESH-INTERVAL;VALUE=DURATION:PT1H
X-Robots-Tag:noindex
X-PUBLISHED-TTL:PT1H
BEGIN:VTIMEZONE
TZID:America/Chicago
BEGIN:DAYLIGHT
TZOFFSETFROM:-0600
TZOFFSETTO:-0500
TZNAME:CDT
DTSTART:20250309T080000
END:DAYLIGHT
BEGIN:STANDARD
TZOFFSETFROM:-0500
TZOFFSETTO:-0600
TZNAME:CST
DTSTART:20251102T070000
END:STANDARD
END:VTIMEZONE
BEGIN:VEVENT
DTSTART;VALUE=DATE:20250404
DTEND;VALUE=DATE:20250407
DTSTAMP:20260424T073414
CREATED:20250224T184025Z
LAST-MODIFIED:20250224T184025Z
UID:24242-1743724800-1743983999@www.heartwoodcenter.com
SUMMARY:Evanston Conscious Movement Festival
DESCRIPTION:The Evanston Conscious Movement Festival will take place April 4-6 in the Skylight room. In addition to sessions from Heartwood members Arlene Faulk and Sarah Westbrook\, the Festival will feature a unique selection of conscious movement practices\, all centered around cultivating and celebrating Human Kindness.\n\nTake a look at the Festival information at our website. We invite you to come to this event\, to support your fellow practitioners and to add your presence to a growing field of kindness.\n\nAnd — you can get 9 contact hours/CEs from the Continuing Education Institute of Illinois (ceupro.com) for attending. Check the CEU ticket for information on professions eligible for CEs.
URL:https://www.heartwoodcenter.com/event/evanston-conscious-movement-festival/
LOCATION:Heartwood\, 1818 Dempster Street\, Evanston\, IL\, 60202\, United States
CATEGORIES:Classes
GEO:42.040868;-87.698614
X-APPLE-STRUCTURED-LOCATION;VALUE=URI;X-ADDRESS=Heartwood 1818 Dempster Street Evanston IL 60202 United States;X-APPLE-RADIUS=500;X-TITLE=1818 Dempster Street:geo:-87.698614,42.040868
END:VEVENT
END:VCALENDAR