BEGIN:VCALENDAR
VERSION:2.0
PRODID:-//Heartwood - ECPv6.13.2.1//NONSGML v1.0//EN
CALSCALE:GREGORIAN
METHOD:PUBLISH
X-WR-CALNAME:Heartwood
X-ORIGINAL-URL:https://www.heartwoodcenter.com
X-WR-CALDESC:Events for Heartwood
REFRESH-INTERVAL;VALUE=DURATION:PT1H
X-Robots-Tag:noindex
X-PUBLISHED-TTL:PT1H
BEGIN:VTIMEZONE
TZID:America/Chicago
BEGIN:DAYLIGHT
TZOFFSETFROM:-0600
TZOFFSETTO:-0500
TZNAME:CDT
DTSTART:20260308T080000
END:DAYLIGHT
BEGIN:STANDARD
TZOFFSETFROM:-0500
TZOFFSETTO:-0600
TZNAME:CST
DTSTART:20261101T070000
END:STANDARD
END:VTIMEZONE
BEGIN:VEVENT
DTSTART;VALUE=DATE:20260502
DTEND;VALUE=DATE:20260504
DTSTAMP:20260423T104358
CREATED:20260331T224817Z
LAST-MODIFIED:20260407T223852Z
UID:30230-1777680000-1777852799@www.heartwoodcenter.com
SUMMARY:Couples Weekend: Couples Connecting\, Take Time to Connect with Your Partner
DESCRIPTION:May 2nd & 3rd\nStarts Saturday 9am – 6pm\nEnds Sunday 9am – 5pm\nHosted by: Victories\n\n  \nEllen and George would be happy to speak with you for questions and more information.\n\nEllen Rieger: 847-791-8602\nGeorge Rieger  847-878-7409\n\n\n  \nREGISTER\nadmin@victoriesformen.org\n312.604.5013\nwww.victoriesformen.org
URL:https://www.heartwoodcenter.com/event/couples-weekend-couples-connecting-take-time-to-connect-with-your-partner/
LOCATION:Heartwood\, 1818 Dempster Street\, Evanston\, IL\, 60202\, United States
CATEGORIES:Classes
GEO:42.040868;-87.698614
X-APPLE-STRUCTURED-LOCATION;VALUE=URI;X-ADDRESS=Heartwood 1818 Dempster Street Evanston IL 60202 United States;X-APPLE-RADIUS=500;X-TITLE=1818 Dempster Street:geo:-87.698614,42.040868
END:VEVENT
END:VCALENDAR