BEGIN:VCALENDAR
VERSION:2.0
PRODID:-//Heartwood - ECPv6.13.2.1//NONSGML v1.0//EN
CALSCALE:GREGORIAN
METHOD:PUBLISH
X-WR-CALNAME:Heartwood
X-ORIGINAL-URL:https://www.heartwoodcenter.com
X-WR-CALDESC:Events for Heartwood
REFRESH-INTERVAL;VALUE=DURATION:PT1H
X-Robots-Tag:noindex
X-PUBLISHED-TTL:PT1H
BEGIN:VTIMEZONE
TZID:America/Chicago
BEGIN:DAYLIGHT
TZOFFSETFROM:-0600
TZOFFSETTO:-0500
TZNAME:CDT
DTSTART:20230312T080000
END:DAYLIGHT
BEGIN:STANDARD
TZOFFSETFROM:-0500
TZOFFSETTO:-0600
TZNAME:CST
DTSTART:20231105T070000
END:STANDARD
END:VTIMEZONE
BEGIN:VEVENT
DTSTART;VALUE=DATE:20230817
DTEND;VALUE=DATE:20230818
DTSTAMP:20260425T141715
CREATED:20230719T183634Z
LAST-MODIFIED:20230719T183634Z
UID:10040370-1692230400-1692316799@www.heartwoodcenter.com
SUMMARY:Art Show: We Are All Connected
DESCRIPTION:We are all connected in more ways than we can ever know. From the ancestral DNA that creates the blueprint for our cellular expression to the energetic resonance we feel as we connect to someone in our presence\, connecting helps us know that we are alive and safe in the world.  \nWe are connected through time: the decisions we make now will affect the next seven generations and beyond.  \nWe connect with the beauty of nature and to the plants that provide the food we eat. \nWe are connected to animals who help us understand their gifts and the better parts of our nature. \nWe are tribal creatures so that connecting with friends and loved ones \nanchors us and helps us know our goodness and beauty. \nOur connection with our bodies lets us know when they need our loving help and how we can best support them. \nThis body of work explores some of the many ways we live in our vast web of connections.  \nWhether it is a child riding a horse as it traverses a river or a woman connecting with a dandelion and the cycles of life\, our relationships: past and present\, inside and outside\, ground us into the truth of our being and the depths of our connections. \nI hope that this art helps you resonate with some of the profound ways you are connected in this world. \nTanya Sugarman: sugarloon@gmail.com / www.tanyasugarman.com
URL:https://www.heartwoodcenter.com/event/art-show-we-are-all-connected/2023-08-17/
LOCATION:Heartwood\, 1818 Dempster Street\, Evanston\, IL\, 60202\, United States
CATEGORIES:Classes
GEO:42.040868;-87.698614
X-APPLE-STRUCTURED-LOCATION;VALUE=URI;X-ADDRESS=Heartwood 1818 Dempster Street Evanston IL 60202 United States;X-APPLE-RADIUS=500;X-TITLE=1818 Dempster Street:geo:-87.698614,42.040868
END:VEVENT
END:VCALENDAR