BEGIN:VCALENDAR
VERSION:2.0
PRODID:-//Heartwood - ECPv6.13.2.1//NONSGML v1.0//EN
CALSCALE:GREGORIAN
METHOD:PUBLISH
X-WR-CALNAME:Heartwood
X-ORIGINAL-URL:https://www.heartwoodcenter.com
X-WR-CALDESC:Events for Heartwood
REFRESH-INTERVAL;VALUE=DURATION:PT1H
X-Robots-Tag:noindex
X-PUBLISHED-TTL:PT1H
BEGIN:VTIMEZONE
TZID:America/Chicago
BEGIN:DAYLIGHT
TZOFFSETFROM:-0600
TZOFFSETTO:-0500
TZNAME:CDT
DTSTART:20260308T080000
END:DAYLIGHT
BEGIN:STANDARD
TZOFFSETFROM:-0500
TZOFFSETTO:-0600
TZNAME:CST
DTSTART:20261101T070000
END:STANDARD
END:VTIMEZONE
BEGIN:VEVENT
DTSTART;TZID=America/Chicago:20260107T130000
DTEND;TZID=America/Chicago:20260107T140000
DTSTAMP:20260423T175940
CREATED:20251209T001317Z
LAST-MODIFIED:20251209T001317Z
UID:10044219-1767790800-1767794400@www.heartwoodcenter.com
SUMMARY:Aikido for Seniors
DESCRIPTION:Classes begin Wednesday January 7th 1:00-2:00PM.  \nRequired registration deadline by and not later than Sunday December 14th. To register\, please visit the Lakeshore Aikido Club website at www.lakeshoreaikidoclub.com and fill and submit the forms displayed. Additionally\, Antonio Terrone sensei\, chief instructor of Aikido and owner of the Lakeshore Aikido Club will be happy to answer any questions and offer a Aikido demonstration at the forthcoming celebration of “Local Small Businesses of the West Village Day” at the Heartwood Center on Saturday December 6th\, 2:30-2:45pm. Come and have a chat. Don’t miss this opportunity!
URL:https://www.heartwoodcenter.com/event/aikido-for-seniors-2/2026-01-07/
LOCATION:Heartwood\, 1818 Dempster Street\, Evanston\, IL\, 60202\, United States
CATEGORIES:Classes
GEO:42.040868;-87.698614
X-APPLE-STRUCTURED-LOCATION;VALUE=URI;X-ADDRESS=Heartwood 1818 Dempster Street Evanston IL 60202 United States;X-APPLE-RADIUS=500;X-TITLE=1818 Dempster Street:geo:-87.698614,42.040868
END:VEVENT
END:VCALENDAR